From mboxrd@z Thu Jan 1 00:00:00 1970 Return-Path: Received: from mails.dpdk.org (mails.dpdk.org [217.70.189.124]) by inbox.dpdk.org (Postfix) with ESMTP id 3740246160 for ; Sat, 1 Feb 2025 08:42:55 +0100 (CET) Received: from mails.dpdk.org (localhost [127.0.0.1]) by mails.dpdk.org (Postfix) with ESMTP id 14879400D7; Sat, 1 Feb 2025 08:42:55 +0100 (CET) Received: from mail-il1-f225.google.com (mail-il1-f225.google.com [209.85.166.225]) by mails.dpdk.org (Postfix) with ESMTP id 0326E400D5 for ; Sat, 1 Feb 2025 08:42:53 +0100 (CET) Received: by mail-il1-f225.google.com with SMTP id e9e14a558f8ab-3cfc8772469so9366785ab.3 for ; Fri, 31 Jan 2025 23:42:53 -0800 (PST) DKIM-Signature: v=1; a=rsa-sha256; c=relaxed/relaxed; d=iol.unh.edu; s=unh-iol; t=1738395773; x=1739000573; darn=dpdk.org; h=cc:to:from:subject:message-id:date:from:to:cc:subject:date :message-id:reply-to; bh=cz3qjVRt55YtpjFhnJ2U6uUYXxX8OJQgF4CQ2vHEgOc=; b=A6GTEnN6KlZ16NNIBWmKPhhczUM8OrhdDkPvraeJOsbhwTpsZ7ETgZBDz2ecbEBAWg BF91+D/i05e36L5K2DjZO+jjIPd6SkVMO6Lf1j5mtuhbSlukbNH2rajtMLg+V8OdVn6+ Vp+M0JaeFxtbtpktLF60RVN0WSrm1JwP7E3qM= X-Google-DKIM-Signature: v=1; a=rsa-sha256; c=relaxed/relaxed; d=1e100.net; s=20230601; t=1738395773; x=1739000573; h=cc:to:from:subject:message-id:date:x-gm-message-state:from:to:cc :subject:date:message-id:reply-to; bh=cz3qjVRt55YtpjFhnJ2U6uUYXxX8OJQgF4CQ2vHEgOc=; b=mqyihBvJ3zy6j9vvSO5k3woNDY0Ii9w/v34ToNm7wrIm0k0Fxqz+PfffZ5x+g2vbLO 4OhaC3QjQ8YngMathLXxwHL1j2w8MzSugfrVF4R8+rTQYExtRJnYcaHtzIfjo3ZbXFx1 iMEFsTR+E4WtL3T7fKnrJtV9nmtwl4NjhLnEJxYFEGLsRBZmhU5tu6ynilojWVpT/4OQ z0g4RC2QgM2kh5RDJKXVQKukP6zk4Snic/2DUEoQrUSmWRxzFGxGtvNO09SiEJao6ly2 lTNDPgd6qSWmGU2qwo6WUT2MzTL1PRCTJ2fVgcQZnWhjkV2ZMd8IM3r4iCk7nfoXhpNm p/rw== X-Gm-Message-State: AOJu0YzHCwFZME774h+bsl66pdDg+tZiOkBdMfIh4pS3or4FHEAHFpm0 dPjjdks6Gg/IUSSylSyPGgLqspvxazAEF5JCEMDEQ9F/6IuR0AN341NYnZHz1UYu2swV+uvEDJb HBWMbisKaJqVwLdmfWlVI/dzw5dlRpCkvjlZOlV44gS7PGFrx X-Gm-Gg: ASbGncu3gDmdRD3jLOYRDG5xKQ/8ZUKjozUZxl7nqL5khDcL4RWAHBKdri55PIEMzbY /T6Y3Lx1tO/Fb8ijy7e54cVDXcqyth7dxFB/yGYDtnHpNPt4xFxauj4ckXs4yEy1Wsx0Vx73z+0 ptbDBeE6wRUdHauruM4K42nG3BB3jm/xD0zmzpKWNcxAtvE3xVrHAuLyUfrmqQdpO00fCeBqDHH MFLifJBVMlpvednBt5JWgKsRiz+4d9YVLC802UmGrH94eyLCiSVxpAZa3a7k0jGkvYkBnZb/IG3 iJWvKi2fr5DCOfimD21J40ceoTGdLyVi/gHbpcHwzQ== X-Google-Smtp-Source: AGHT+IGTLc1Xk9KVCPFLDSTAZWHgzyO05y4jrTi414H5jugrJlCRZKpE2Oo18sbP627MbhE19yl1m+kZ8O2h X-Received: by 2002:a05:6e02:450d:b0:3d0:fd0:1642 with SMTP id e9e14a558f8ab-3d00fd01b06mr49565915ab.2.1738395773245; Fri, 31 Jan 2025 23:42:53 -0800 (PST) Received: from postal.iol.unh.edu (postal.iol.unh.edu. [2606:4100:3880:1234::84]) by smtp-relay.gmail.com with ESMTPS id 8926c6da1cb9f-4ec745cf4dcsm305230173.35.2025.01.31.23.42.53 (version=TLS1_2 cipher=ECDHE-ECDSA-AES128-GCM-SHA256 bits=128/128); Fri, 31 Jan 2025 23:42:53 -0800 (PST) X-Relaying-Domain: iol.unh.edu Date: Fri, 31 Jan 2025 23:42:53 -0800 (PST) Message-ID: <679dd07d.050a0220.32845f.030eSMTPIN_ADDED_MISSING@mx.google.com> Received: from [172.21.0.6] (unknown [172.18.0.240]) by postal.iol.unh.edu (Postfix) with ESMTP id AF7246052471; Sat, 1 Feb 2025 02:42:52 -0500 (EST) Subject: |SUCCESS| [GIT MASTER] 7ce7d3341d7e21c2a81f2fea8e451681d7306d77 From: dpdklab@iol.unh.edu To: Test Report Cc: dpdk-test-reports@iol.unh.edu, Xueming Li , Christian Ehrhardt , Kevin Traynor , Luca Boccassi Content-Type: text/plain X-BeenThere: test-report@dpdk.org X-Mailman-Version: 2.1.29 Precedence: list List-Id: automatic DPDK test reports List-Unsubscribe: , List-Archive: List-Post: List-Help: List-Subscribe: , Errors-To: test-report-bounces@dpdk.org _Testing PASS_ Branch: tags/v22.11 7ce7d3341d7e21c2a81f2fea8e451681d7306d77 --> testing pass Upstream job id: Generic-Unit-Test-DPDK#310892 Test environment and result as below: +-----------------------------+----------------+--------------+---------------------------+------------------------------+ | Environment | dpdk_unit_test | lpm_autotest | cryptodev_sw_zuc_autotest | cryptodev_sw_snow3g_autotest | +=============================+================+==============+===========================+==============================+ | 32-bit Ubuntu 22.04.4 (ARM) | PASS | SKIPPED | SKIPPED | SKIPPED | +-----------------------------+----------------+--------------+---------------------------+------------------------------+ | Ubuntu 20.04 ARM SVE | SKIPPED | PASS | SKIPPED | SKIPPED | +-----------------------------+----------------+--------------+---------------------------+------------------------------+ | Debian 12 (arm) | SKIPPED | SKIPPED | PASS | PASS | +-----------------------------+----------------+--------------+---------------------------+------------------------------+ 32-bit Ubuntu 22.04.4 (ARM) Kernel: 5.15.83+ aarch64 Compiler: gcc (Ubuntu 11.4.0-1ubuntu1~22.04) 11.4.0 Ubuntu 20.04 ARM SVE Kernel: Depends on container host Compiler: gcc (Ubuntu 10.5.0-1ubuntu1~20.04) 10.5.0 Debian 12 (arm) Kernel: Depends on container host Compiler: gcc (Debian 12.2.0-14) 12.2.0 To view detailed results, visit: https://lab.dpdk.org/results/dashboard/tarballs/32413/ UNH-IOL DPDK Community Lab To manage your email subscriptions, visit: https://lab.dpdk.org/results/dashboard/preferences/subscriptions/