From mboxrd@z Thu Jan 1 00:00:00 1970 Return-Path: Received: from mails.dpdk.org (mails.dpdk.org [217.70.189.124]) by inbox.dpdk.org (Postfix) with ESMTP id 664C946160 for ; Sat, 1 Feb 2025 08:56:20 +0100 (CET) Received: from mails.dpdk.org (localhost [127.0.0.1]) by mails.dpdk.org (Postfix) with ESMTP id 40236400D7; Sat, 1 Feb 2025 08:56:20 +0100 (CET) Received: from mail-io1-f100.google.com (mail-io1-f100.google.com [209.85.166.100]) by mails.dpdk.org (Postfix) with ESMTP id BA36F400D5 for ; Sat, 1 Feb 2025 08:56:18 +0100 (CET) Received: by mail-io1-f100.google.com with SMTP id ca18e2360f4ac-844cd85f5ebso193932539f.3 for ; Fri, 31 Jan 2025 23:56:18 -0800 (PST) DKIM-Signature: v=1; a=rsa-sha256; c=relaxed/relaxed; d=iol.unh.edu; s=unh-iol; t=1738396578; x=1739001378; darn=dpdk.org; h=cc:to:from:subject:message-id:date:from:to:cc:subject:date :message-id:reply-to; bh=TxjVvTrZfsVY3j50ItFeVq/ngE609eiS0QmGBYp6CmU=; b=FXlUa7Pa6JJTgMtnKzO+cfQiNUbmdE1FgO822YjNLmFUL2UyXJPfaE5tkZSNGYLjL0 jkdKw/J5l2PgaOjMaeLhcQFmGYcuJ3JsacrkQCmn3OF54p2IGhbp+g8zLgCiLxvofaAL s+sRH9rq86R0M7MuOIZaiSS9ZlU8XeRIRHvek= X-Google-DKIM-Signature: v=1; a=rsa-sha256; c=relaxed/relaxed; d=1e100.net; s=20230601; t=1738396578; x=1739001378; h=cc:to:from:subject:message-id:date:x-gm-message-state:from:to:cc :subject:date:message-id:reply-to; bh=TxjVvTrZfsVY3j50ItFeVq/ngE609eiS0QmGBYp6CmU=; b=OVk9bU4N/nUme5e5i3WrtJ2CxFYLATRmXlK2SOCPyWbGawxv9dRK/FYSL0zaBjMy7q azqa3bRIr2+XWc5QDPdhVG/RpyfrgRwc5/D8BwK+J6zkoyXx2c/Et1bGggc8xSTuYNX4 EH1883U3iQFE7kg3le/tBqQ4X/Nan8x9J7qpcIVAoS5aCwB/TUL0YlJRNzdLP/29l3B2 uZW2slyTc2Ir07A9LQjkSbW0zXHGXYrQXEsogmE4tbQ2twUVKoigBB1snAR3SYaHGngW M/tSgU2USdXbLu7S3i+u8e6UncLkcE0343zSzgdpCM8iiyDwa1RuJZzFju4122rSzU94 I5nw== X-Gm-Message-State: AOJu0Ywlv9RDYoeSW+a2RmhlzBimK4ceoCOmLK3ec6HiPCsDTxetXiPS Clvs7XhylznUry8K7PmCBr/gN9S+zCvl/IgMza0PRn6m2qSLeeCqGOQRvHtvNMbsXV3zvwHyEig SdDlwcBqRZp5saS9MzlQ8OZq4+XWdu45I X-Gm-Gg: ASbGnctTfEjnfG7hPqOm4RkR7ahpI50EYWAYShy4tZtsXZKMQmJ565D+RCAFKSXxsgz z3pwB5eExE/salT6Pc8w5Tv3zk6WlxtRTkKLW+7Db9Xi//UqQ9IOmOSpazMj4S49l03lS4OVV0O keyJU9l0S7JBIFfjo8nCLMHDKhYn64ImkcY/A2abZeNxtMAUlx+7unRLnOxkp40iAeEKNvy/QJF PmhedsITPmrso4ko78doyublFULNWwq2NubCGcesshYbgjPFKWMAxWsKXnQVWA1dcySHP/eF7TA 7FmVNzhdPVwHnDZ5f8v4W1kXFdUhiQ== X-Google-Smtp-Source: AGHT+IFSOi12yljbHJzpKfxiesC85D3mYp3XTqsm6Dc40oKxL5hO9a+g/kVUpqpvnLLeOvrbluFzMVYJjDAz X-Received: by 2002:a05:6602:360d:b0:83a:b500:3513 with SMTP id ca18e2360f4ac-85427e400cbmr1428294739f.8.1738396578126; Fri, 31 Jan 2025 23:56:18 -0800 (PST) Received: from postal.iol.unh.edu (postal.iol.unh.edu. [132.177.123.84]) by smtp-relay.gmail.com with ESMTPS id ca18e2360f4ac-854a15b9de0sm29787739f.6.2025.01.31.23.56.18 (version=TLS1_2 cipher=ECDHE-ECDSA-AES128-GCM-SHA256 bits=128/128); Fri, 31 Jan 2025 23:56:18 -0800 (PST) X-Relaying-Domain: iol.unh.edu Date: Fri, 31 Jan 2025 23:56:18 -0800 (PST) Message-ID: <679dd3a2.050a0220.50a03.f7efSMTPIN_ADDED_MISSING@mx.google.com> Received: from [172.21.0.5] (unknown [172.18.0.240]) by postal.iol.unh.edu (Postfix) with ESMTP id A52226052471; Sat, 1 Feb 2025 02:56:17 -0500 (EST) Subject: |SUCCESS| [GIT MASTER] 7ce7d3341d7e21c2a81f2fea8e451681d7306d77 From: dpdklab@iol.unh.edu To: Test Report Cc: dpdk-test-reports@iol.unh.edu, Xueming Li , Christian Ehrhardt , Kevin Traynor , Luca Boccassi Content-Type: text/plain X-BeenThere: test-report@dpdk.org X-Mailman-Version: 2.1.29 Precedence: list List-Id: automatic DPDK test reports List-Unsubscribe: , List-Archive: List-Post: List-Help: List-Subscribe: , Errors-To: test-report-bounces@dpdk.org _Testing PASS_ Branch: tags/v22.11 7ce7d3341d7e21c2a81f2fea8e451681d7306d77 --> testing pass Upstream job id: Generic-DPDK-Compile-Meson#356959 Test environment and result as below: +---------------------+--------------------+----------------------+ | Environment | dpdk_meson_compile | dpdk_mingw64_compile | +=====================+====================+======================+ | CentOS Stream 9 | PASS | SKIPPED | +---------------------+--------------------+----------------------+ | Debian 12 | PASS | SKIPPED | +---------------------+--------------------+----------------------+ | Fedora 40 (Clang) | PASS | SKIPPED | +---------------------+--------------------+----------------------+ | Fedora 40 | PASS | SKIPPED | +---------------------+--------------------+----------------------+ | openSUSE Leap 15 | PASS | SKIPPED | +---------------------+--------------------+----------------------+ | Fedora 41 (Clang) | PASS | SKIPPED | +---------------------+--------------------+----------------------+ | Fedora 41 | PASS | SKIPPED | +---------------------+--------------------+----------------------+ | RHEL8 | PASS | SKIPPED | +---------------------+--------------------+----------------------+ | Ubuntu 20.04 | PASS | SKIPPED | +---------------------+--------------------+----------------------+ | Ubuntu 22.04 | PASS | SKIPPED | +---------------------+--------------------+----------------------+ | RHEL9 | PASS | SKIPPED | +---------------------+--------------------+----------------------+ | Ubuntu 24.04 | PASS | SKIPPED | +---------------------+--------------------+----------------------+ | FreeBSD 13.4 | PASS | SKIPPED | +---------------------+--------------------+----------------------+ | FreeBSD 14.2 | PASS | SKIPPED | +---------------------+--------------------+----------------------+ | Windows Server 2022 | SKIPPED | PASS | +---------------------+--------------------+----------------------+ CentOS Stream 9 Kernel: Depends on container host Compiler: gcc 11.5.0 20240719 (Red Hat 11.5.0-2) Debian 12 Kernel: Depends on container host Compiler: gcc (Debian 12.2.0-14) 12.2.0 Fedora 40 (Clang) Kernel: Depends on container host Compiler: clang 18.1.8 (Fedora 18.1.8-1.fc40) Fedora 40 Kernel: Depends on container host Compiler: gcc 14.2.1 20240912 (Red Hat 14.2.1-3) openSUSE Leap 15 Kernel: Depends on container host Compiler: gcc (SUSE Linux) 7.5.0 Fedora 41 (Clang) Kernel: Depends on container host Compiler: clang 19.1.5 (Fedora 19.1.5-1.fc41) Fedora 41 Kernel: Depends on container host Compiler: gcc 14.2.1 20240912 (Red Hat 14.2.1-3) RHEL8 Kernel: Depends on container host Compiler: gcc 8.5.0 20210514 (Red Hat 8.5.0-22) Ubuntu 20.04 Kernel: Depends on container host Compiler: gcc (Ubuntu 9.4.0-1ubuntu1~20.04.2) 9.4.0 Ubuntu 22.04 Kernel: Depends on container host Compiler: gcc (Ubuntu 11.4.0-1ubuntu1~22.04) 11.4.0 RHEL9 Kernel: Depends on container host Compiler: gcc 11.5.0 20240719 (Red Hat 11.5.0-2) Ubuntu 24.04 Kernel: Depends on container host Compiler: gcc (Ubuntu 13.3.0-6ubuntu2~24.04) 13.3.0 FreeBSD 13.4 Kernel: 13.4-RELEASE-p1 Compiler: clang 18.1.6 FreeBSD 14.2 Kernel: 14.2-RELEASE Compiler: clang 18.1.6 Windows Server 2022 Kernel: 10.0.20348.2031 Compiler: clang 15.0.7, gcc 14.1.0 (MinGW), and MSVC VS 19.39.33521 To view detailed results, visit: https://lab.dpdk.org/results/dashboard/tarballs/32413/ UNH-IOL DPDK Community Lab To manage your email subscriptions, visit: https://lab.dpdk.org/results/dashboard/preferences/subscriptions/