From mboxrd@z Thu Jan 1 00:00:00 1970 Return-Path: Received: from mails.dpdk.org (mails.dpdk.org [217.70.189.124]) by inbox.dpdk.org (Postfix) with ESMTP id 4CBB446160 for ; Sat, 1 Feb 2025 09:36:35 +0100 (CET) Received: from mails.dpdk.org (localhost [127.0.0.1]) by mails.dpdk.org (Postfix) with ESMTP id 2AFE6400D7; Sat, 1 Feb 2025 09:36:35 +0100 (CET) Received: from mail-qv1-f99.google.com (mail-qv1-f99.google.com [209.85.219.99]) by mails.dpdk.org (Postfix) with ESMTP id E059B40264 for ; Sat, 1 Feb 2025 09:36:33 +0100 (CET) Received: by mail-qv1-f99.google.com with SMTP id 6a1803df08f44-6e17d3e92d9so19911866d6.1 for ; Sat, 01 Feb 2025 00:36:33 -0800 (PST) DKIM-Signature: v=1; a=rsa-sha256; c=relaxed/relaxed; d=iol.unh.edu; s=unh-iol; t=1738398993; x=1739003793; darn=dpdk.org; h=cc:to:from:subject:message-id:date:from:to:cc:subject:date :message-id:reply-to; bh=amNEHqtBkml3vNddVWLbNXBHpCKOQu1h9p0k1xFa1jU=; b=WsswiBGB25lFD50mkm+TsFOR+N5iqI/gOyM+4NRceezaDoD2yU2bCNTONVya1pKTJh BoyfcPYM99L69xgd5Lk0BGaua9qG5N+Romrz/+KbuqKEfCF65V/pcp1s7wwop8agGNpW jq8YPAnNIhjA0CCMD+EJZrJ1Y3Ysp2CQn87YM= X-Google-DKIM-Signature: v=1; a=rsa-sha256; c=relaxed/relaxed; d=1e100.net; s=20230601; t=1738398993; x=1739003793; h=cc:to:from:subject:message-id:date:x-gm-message-state:from:to:cc :subject:date:message-id:reply-to; bh=amNEHqtBkml3vNddVWLbNXBHpCKOQu1h9p0k1xFa1jU=; b=H4wR0xEuOPDJ0ao9ESyL8bRgp9lbdWzykfwxp4M3K1RV26ReBdYwvrKkxy25xwVNI2 Uh16AtmJqnOCgxcwZ2HO3L6PLl2IJDYvWCgd+ccAt25e5dCccRA0SiCFitWVD1SQMaEa 5fG3LKB3NlqpO8EoXEqEuUMZTDlXtR0RQDIUNI6zmLdfYUrgB5nfdV8zGBR7RNyZqCD/ wkQbKMTIGao2/d5u7Sm2zqS6nAIVsHBSa2guo12fRraE9/7Ku/WZ03D9Jn8njXyPz4/g CvXCcCRRCRS1o9CEYvnNsrlIykFjRFmgStSOUR7OeR1SShEjj7k8pJYSS8PdiL/tzT2z JkLA== X-Gm-Message-State: AOJu0YwoXmlWmF1KgMsn2meGcH3g8hGtbAtoa/syzy55SIvAd6qpDhBe ry/k6bRPoO2e6AFf7nNCb2Jw2K2dOqxlW+KeypYBM85hbIzr6zHk/a6b1d2fctYOl4/xiC2VIZC kuJG6Z8oYWwWqKk6NKLdaDCPtf54SPy/e X-Gm-Gg: ASbGncvgDyjwoX6rm3hpaQ1WzkUsgXINuS4KX+LAbZdT4FkzGiriADtP5mGTyZnWPh9 OSP7sDViB1tlVl2PT5mzzeL7QrvJ3U48qaP60Dtol5+zddKStaiMqAGDusGF5TnEVhjV5LCVZtI XAw5E3ULny+hKvMN5zThxK6WKW5D/U6KN/uGmz1AXKGMFrzqbD7Ak4R3i3fQd68flmYlq3d8Ce6 E0tQm3o8SJDq9JdtGnT2gvoEC1IJMaN6CWBrZc4Dg6wbXxezJ3MIB8ZvAJ0RmuO+qjNC3q9OLal E6rVLcVTXRbNNulEt0T3DMm6jUzmsA== X-Google-Smtp-Source: AGHT+IEpdZlFsRuHwP0GkY4bTeqRT03YUZy7cChcEeNmjkshMgKD/yG5RE6cI1S7R4aP2W7ap8c7cGqz2HX7 X-Received: by 2002:a05:6214:130b:b0:6d8:9074:a823 with SMTP id 6a1803df08f44-6e243ccd333mr206187006d6.45.1738398993270; Sat, 01 Feb 2025 00:36:33 -0800 (PST) Received: from postal.iol.unh.edu (postal.iol.unh.edu. [132.177.123.84]) by smtp-relay.gmail.com with ESMTPS id 6a1803df08f44-6e2549518c5sm3089226d6.60.2025.02.01.00.36.33 (version=TLS1_2 cipher=ECDHE-ECDSA-AES128-GCM-SHA256 bits=128/128); Sat, 01 Feb 2025 00:36:33 -0800 (PST) X-Relaying-Domain: iol.unh.edu Date: Sat, 01 Feb 2025 00:36:33 -0800 (PST) Message-ID: <679ddd11.050a0220.3d754a.fa2bSMTPIN_ADDED_MISSING@mx.google.com> Received: from [172.21.0.5] (unknown [172.18.0.240]) by postal.iol.unh.edu (Postfix) with ESMTP id AA4216052471; Sat, 1 Feb 2025 03:36:32 -0500 (EST) Subject: |SUCCESS| [GIT MASTER] c66daa12e76d7b4912cfb7109a761856a7a873ab From: dpdklab@iol.unh.edu To: Test Report Cc: dpdk-test-reports@iol.unh.edu, Xueming Li , Christian Ehrhardt , Kevin Traynor , Luca Boccassi Content-Type: text/plain X-BeenThere: test-report@dpdk.org X-Mailman-Version: 2.1.29 Precedence: list List-Id: automatic DPDK test reports List-Unsubscribe: , List-Archive: List-Post: List-Help: List-Subscribe: , Errors-To: test-report-bounces@dpdk.org _Testing PASS_ Branch: tags/v23.11 c66daa12e76d7b4912cfb7109a761856a7a873ab --> testing pass Upstream job id: Generic-Unit-Test-DPDK#310914 Test environment and result as below: +---------------------+----------------+ | Environment | dpdk_unit_test | +=====================+================+ | Debian Bullseye | PASS | +---------------------+----------------+ | Fedora 40 | PASS | +---------------------+----------------+ | Debian 12 | PASS | +---------------------+----------------+ | CentOS Stream 9 | PASS | +---------------------+----------------+ | Fedora 41 | PASS | +---------------------+----------------+ | Fedora 40 (Clang) | PASS | +---------------------+----------------+ | RHEL8 | PASS | +---------------------+----------------+ | RHEL9 | PASS | +---------------------+----------------+ | Ubuntu 20.04 | PASS | +---------------------+----------------+ | Fedora 41 (Clang) | PASS | +---------------------+----------------+ | Ubuntu 24.04 | PASS | +---------------------+----------------+ | Ubuntu 22.04 | PASS | +---------------------+----------------+ | Windows Server 2022 | PASS | +---------------------+----------------+ Debian Bullseye Kernel: Depends on container host Compiler: gcc (Debian 10.2.1-6) 10.2.1 20210110 Fedora 40 Kernel: Depends on container host Compiler: gcc 14.2.1 20240912 (Red Hat 14.2.1-3) Debian 12 Kernel: Depends on container host Compiler: gcc (Debian 12.2.0-14) 12.2.0 CentOS Stream 9 Kernel: Depends on container host Compiler: gcc 11.5.0 20240719 (Red Hat 11.5.0-2) Fedora 41 Kernel: Depends on container host Compiler: gcc 14.2.1 20240912 (Red Hat 14.2.1-3) Fedora 40 (Clang) Kernel: Depends on container host Compiler: clang 18.1.8 (Fedora 18.1.8-1.fc40) RHEL8 Kernel: Depends on container host Compiler: gcc 8.5.0 20210514 (Red Hat 8.5.0-22) RHEL9 Kernel: Depends on container host Compiler: gcc 11.5.0 20240719 (Red Hat 11.5.0-2) Ubuntu 20.04 Kernel: Depends on container host Compiler: gcc (Ubuntu 9.4.0-1ubuntu1~20.04.2) 9.4.0 Fedora 41 (Clang) Kernel: Depends on container host Compiler: clang 19.1.5 (Fedora 19.1.5-1.fc41) Ubuntu 24.04 Kernel: Depends on container host Compiler: gcc (Ubuntu 13.3.0-6ubuntu2~24.04) 13.3.0 Ubuntu 22.04 Kernel: Depends on container host Compiler: gcc (Ubuntu 11.4.0-1ubuntu1~22.04) 11.4.0 Windows Server 2022 Kernel: 10.0.20348.2031 Compiler: clang 15.0.7, gcc 14.1.0 (MinGW), and MSVC VS 19.39.33521 To view detailed results, visit: https://lab.dpdk.org/results/dashboard/tarballs/32414/ UNH-IOL DPDK Community Lab To manage your email subscriptions, visit: https://lab.dpdk.org/results/dashboard/preferences/subscriptions/