From mboxrd@z Thu Jan 1 00:00:00 1970 Return-Path: Received: from mails.dpdk.org (mails.dpdk.org [217.70.189.124]) by inbox.dpdk.org (Postfix) with ESMTP id 048F746160 for ; Sat, 1 Feb 2025 09:45:29 +0100 (CET) Received: from mails.dpdk.org (localhost [127.0.0.1]) by mails.dpdk.org (Postfix) with ESMTP id 00BD9400D7; Sat, 1 Feb 2025 09:45:29 +0100 (CET) Received: from mail-pl1-f227.google.com (mail-pl1-f227.google.com [209.85.214.227]) by mails.dpdk.org (Postfix) with ESMTP id E152D400D5 for ; Sat, 1 Feb 2025 09:45:27 +0100 (CET) Received: by mail-pl1-f227.google.com with SMTP id d9443c01a7336-21654fdd5daso49204305ad.1 for ; Sat, 01 Feb 2025 00:45:27 -0800 (PST) DKIM-Signature: v=1; a=rsa-sha256; c=relaxed/relaxed; d=iol.unh.edu; s=unh-iol; t=1738399527; x=1739004327; darn=dpdk.org; h=cc:to:from:subject:message-id:date:from:to:cc:subject:date :message-id:reply-to; bh=kw8cKaSOfm3kmTbHGVmCZHTE69bRvURLcWFn5awD4JY=; b=VyYOJakkD4U6IBQCHFN0pfQYEuVJp3A7qObGrF+ONgNBAO2wA585MdZYeWNKV6Ar/V gNB4nKhmKdjaFC9XEPj2hDAN9rZ+hZsh1chdn2wQQjS5m8StDi7cPFCBZRnHxKWWQsmP VWXIOLUjuviJL/TFlan9BwdCrnW2fi8VF12OI= X-Google-DKIM-Signature: v=1; a=rsa-sha256; c=relaxed/relaxed; d=1e100.net; s=20230601; t=1738399527; x=1739004327; h=cc:to:from:subject:message-id:date:x-gm-message-state:from:to:cc :subject:date:message-id:reply-to; bh=kw8cKaSOfm3kmTbHGVmCZHTE69bRvURLcWFn5awD4JY=; b=ayg5+a8IX5BSwqdCQA2rKAvbbkqOmSvWC8co+8lzarq5FRt6/bAkzvbZzHXUUlF4zO fQ3VHDjhhuyza6r9y0PzzJUsLHgDShywQTHxf7n6R4z/tOXgWvlE9XyNt2A/0pqCDkPh HtKgVcWIRE0B99n1YbQrCX6FqQwx4L0qV2ExA65MMPCyO8sOxt07tqwKf5IIIJOGYtKW b3zmhlZaBgm3F1M/2ayaqSD1PfBEH7RkQQswM+NIo5feCyp8PGaHTM9D2d5u8K63Ozzf qrjxre09Tml6U6UDUNI1/m6YjFlVuPbTrPgOoZZMGKTY//9pQGfzuYt5oXBdco2eD+Ot 9rFw== X-Gm-Message-State: AOJu0Yy873CSkRW/OCEHlPsUiQXe1KLSlngoRtxwspiXFsw7dESsFKSc RQMo5BPW0jr6AoS1o/lag2xqYhfCsRvD62G7iHqqFJrjgbRkCrfQpXEB5xFI/7DRdfv/Z0s9F5O 4nAPZXmq2azvpegBBb+7Ld0xB1jf7Z54A X-Gm-Gg: ASbGncuIF174TU+pfBp3zRRVJtRlnb9UZTyDx77meTepbPnZWkKdRP6HMQ0Ee9U1Spi 1wL6nx8H1wfrNguhm7mUo5A5q62lgsKZ17gu9w+dsC5XICylBmNgzDinuZc3dxPwwL/gfMv9pe9 YW3zP9vbNn0x1RLk/f1u19A4rgrRL2uSB+UmJJ5mAlmDymkJq3tnAn1L9ErdOlE/rLEvCrGO4Zl WsnxmJPRM6VdqJgKtqf3NAfhU0JQWMphwIBbjyG9OLkGNi04hnPnrjWQzF8fQCmHq/WDpmsHWCa iV2Tg4m8ZtQq9xilW/Yg2sAF4OBnwg== X-Google-Smtp-Source: AGHT+IGFmDcaKtokA5BqROO9vJOUiPgcCA9vdYfhRzimM+aopORFWxIq01tq2iQBKWLQD0cZ/z34MKHd1j8Q X-Received: by 2002:a17:902:f60d:b0:216:725c:a11a with SMTP id d9443c01a7336-21dd7c35649mr263383795ad.10.1738399526955; Sat, 01 Feb 2025 00:45:26 -0800 (PST) Received: from postal.iol.unh.edu (postal.iol.unh.edu. [132.177.123.84]) by smtp-relay.gmail.com with ESMTPS id d9443c01a7336-21de3346b96sm1846355ad.113.2025.02.01.00.45.26 (version=TLS1_2 cipher=ECDHE-ECDSA-AES128-GCM-SHA256 bits=128/128); Sat, 01 Feb 2025 00:45:26 -0800 (PST) X-Relaying-Domain: iol.unh.edu Date: Sat, 01 Feb 2025 00:45:26 -0800 (PST) Message-ID: <679ddf26.170a0220.2d164e.8ba9SMTPIN_ADDED_MISSING@mx.google.com> Received: from [172.17.0.6] (unknown [172.18.0.217]) by postal.iol.unh.edu (Postfix) with ESMTP id 0E00F6052471; Sat, 1 Feb 2025 03:45:26 -0500 (EST) Subject: |SUCCESS| [GIT MASTER] f2eea2f37a82bb73fb01d56350708f7d70e21379 From: dpdklab@iol.unh.edu To: Test Report Cc: dpdk-test-reports@iol.unh.edu, Xueming Li , Christian Ehrhardt , Kevin Traynor , Luca Boccassi Content-Type: text/plain X-BeenThere: test-report@dpdk.org X-Mailman-Version: 2.1.29 Precedence: list List-Id: automatic DPDK test reports List-Unsubscribe: , List-Archive: List-Post: List-Help: List-Subscribe: , Errors-To: test-report-bounces@dpdk.org _Testing PASS_ Branch: tags/v24.11 f2eea2f37a82bb73fb01d56350708f7d70e21379 --> testing pass Upstream job id: Generic-Unit-Test-DPDK#310934 Test environment and result as below: +-----------------------------+--------------+----------------+---------------------------+------------------------------+ | Environment | lpm_autotest | dpdk_unit_test | cryptodev_sw_zuc_autotest | cryptodev_sw_snow3g_autotest | +=============================+==============+================+===========================+==============================+ | Ubuntu 20.04 ARM SVE | PASS | SKIPPED | SKIPPED | SKIPPED | +-----------------------------+--------------+----------------+---------------------------+------------------------------+ | Debian 12 (arm) | SKIPPED | PASS | PASS | PASS | +-----------------------------+--------------+----------------+---------------------------+------------------------------+ | Debian 11 (Buster) (ARM) | SKIPPED | PASS | SKIPPED | SKIPPED | +-----------------------------+--------------+----------------+---------------------------+------------------------------+ | CentOS Stream 9 (ARM) | SKIPPED | PASS | SKIPPED | SKIPPED | +-----------------------------+--------------+----------------+---------------------------+------------------------------+ | 32-bit Ubuntu 22.04.4 (ARM) | SKIPPED | PASS | SKIPPED | SKIPPED | +-----------------------------+--------------+----------------+---------------------------+------------------------------+ | Fedora 40 (ARM Clang) | SKIPPED | PASS | SKIPPED | SKIPPED | +-----------------------------+--------------+----------------+---------------------------+------------------------------+ | RHEL9 (ARM) | SKIPPED | PASS | SKIPPED | SKIPPED | +-----------------------------+--------------+----------------+---------------------------+------------------------------+ | Fedora 40 (ARM) | SKIPPED | PASS | SKIPPED | SKIPPED | +-----------------------------+--------------+----------------+---------------------------+------------------------------+ | Fedora 41 (ARM) | SKIPPED | PASS | SKIPPED | SKIPPED | +-----------------------------+--------------+----------------+---------------------------+------------------------------+ | Fedora 41 (ARM Clang) | SKIPPED | PASS | SKIPPED | SKIPPED | +-----------------------------+--------------+----------------+---------------------------+------------------------------+ | Ubuntu 22.04 (ARM) | SKIPPED | PASS | SKIPPED | SKIPPED | +-----------------------------+--------------+----------------+---------------------------+------------------------------+ | Ubuntu 20.04 (ARM) | SKIPPED | PASS | SKIPPED | SKIPPED | +-----------------------------+--------------+----------------+---------------------------+------------------------------+ | Ubuntu 24.04 (ARM) | SKIPPED | PASS | SKIPPED | SKIPPED | +-----------------------------+--------------+----------------+---------------------------+------------------------------+ Ubuntu 20.04 ARM SVE Kernel: Depends on container host Compiler: gcc (Ubuntu 10.5.0-1ubuntu1~20.04) 10.5.0 Debian 12 (arm) Kernel: Depends on container host Compiler: gcc (Debian 12.2.0-14) 12.2.0 Debian 11 (Buster) (ARM) Kernel: Depends on container host Compiler: gcc (Debian 10.2.1-6) 10.2.1 20210110 CentOS Stream 9 (ARM) Kernel: Depends on container host Compiler: gcc 11.5.0 20240719 (Red Hat 11.5.0-2) 32-bit Ubuntu 22.04.4 (ARM) Kernel: 5.15.83+ aarch64 Compiler: gcc (Ubuntu 11.4.0-1ubuntu1~22.04) 11.4.0 Fedora 40 (ARM Clang) Kernel: Depends on container host Compiler: clang 18.1.8 (Fedora 18.1.8-1.fc40) RHEL9 (ARM) Kernel: Depends on container host Compiler: gcc 11.5.0 20240719 (Red Hat 11.5.0-2) Fedora 40 (ARM) Kernel: Depends on container host Compiler: gcc 14.2.1 20240912 (Red Hat 14.2.1-3) Fedora 41 (ARM) Kernel: Depends on container host Compiler: gcc 14.2.1 20240912 (Red Hat 14.2.1-3) Fedora 41 (ARM Clang) Kernel: Depends on container host Compiler: clang 19.1.5 (Fedora 19.1.5-1.fc41) Ubuntu 22.04 (ARM) Kernel: Depends on container host Compiler: gcc (Ubuntu 11.4.0-1ubuntu1~22.04) 11.4.0 Ubuntu 20.04 (ARM) Kernel: Depends on container host Compiler: gcc (Ubuntu 9.4.0-1ubuntu1~20.04.2) 9.4.0 Ubuntu 24.04 (ARM) Kernel: Depends on container host Compiler: gcc (Ubuntu 13.3.0-6ubuntu2~24.04) 13.3.0 To view detailed results, visit: https://lab.dpdk.org/results/dashboard/tarballs/32412/ UNH-IOL DPDK Community Lab To manage your email subscriptions, visit: https://lab.dpdk.org/results/dashboard/preferences/subscriptions/