From mboxrd@z Thu Jan 1 00:00:00 1970 Return-Path: Received: from mails.dpdk.org (mails.dpdk.org [217.70.189.124]) by inbox.dpdk.org (Postfix) with ESMTP id 014A546160 for ; Sat, 1 Feb 2025 09:53:58 +0100 (CET) Received: from mails.dpdk.org (localhost [127.0.0.1]) by mails.dpdk.org (Postfix) with ESMTP id B352A400D7; Sat, 1 Feb 2025 09:53:58 +0100 (CET) Received: from mail-oa1-f97.google.com (mail-oa1-f97.google.com [209.85.160.97]) by mails.dpdk.org (Postfix) with ESMTP id 462F2400D5 for ; Sat, 1 Feb 2025 09:53:57 +0100 (CET) Received: by mail-oa1-f97.google.com with SMTP id 586e51a60fabf-2b3680e548aso1167949fac.0 for ; Sat, 01 Feb 2025 00:53:57 -0800 (PST) DKIM-Signature: v=1; a=rsa-sha256; c=relaxed/relaxed; d=iol.unh.edu; s=unh-iol; t=1738400036; x=1739004836; darn=dpdk.org; h=cc:to:from:subject:message-id:date:from:to:cc:subject:date :message-id:reply-to; bh=6x5aG3LwIyYQWEs+6Nh1g9dzpLXL/TqrR01RWLlrY7I=; b=Fp8beeBbCfyHNyATPQxhRetay0R5yoGfNMqVBWPaus6usyHJwPXTvlzPM4bp4u1M17 mvERH3KIBRUAI+7v9VRlERLNAx7uc+QPpHP+I7TfwZsYaWq7MJ1AuxaTwGIkRdanWsyB opHj2anOpx21+kAPDZKwQe+CpN4jVLnk1HJwk= X-Google-DKIM-Signature: v=1; a=rsa-sha256; c=relaxed/relaxed; d=1e100.net; s=20230601; t=1738400036; x=1739004836; h=cc:to:from:subject:message-id:date:x-gm-message-state:from:to:cc :subject:date:message-id:reply-to; bh=6x5aG3LwIyYQWEs+6Nh1g9dzpLXL/TqrR01RWLlrY7I=; b=HfB4m72xVWemGW5vKDasbLSQb1A3d/sIeQSTwyClI9SRsDZXuYDvcuEHfH+Ky6Uk3V OwWDBmU/CJ7RvpSEyQyuo+/PbId2hlgb1UBoIWR2PeHJpN2/B5s5BB2qBenuE3BwScUZ oqZ7hQBlKQUjLtbRS437wCH9B4FAIgxxi72e2EE/mCxKSxwU2XR8pGG7AKdqdj8aZh0h 6HSPaqS10f8y0IvuvNUEHFlp1MmOLwOqRZV5tiqixMXLAAhbnEhtsJpxEZgRZPa+FLBl 7XN8juXSLBP/Z901/296h4kgTAQup0NWNPNCiG1Q0sZk93+HjHWZ1qP5mwilp7d0jSbz A9tg== X-Gm-Message-State: AOJu0Yxx6sdt7Dt6uZri/uHtc1oA/vcW/EDQvV015W5l5CfqGgcLu+xA JnRoNpLwVygMdJKEfLZn/fI7/tgmNqf3loahDfG+nRpq/QCGmVaPHsTeA/gjKlvFKLy8U6LCelf uoh/YW8nLkbys06yNUdyseH+F7IunxCrInHNIZNVWsDOGuV8a X-Gm-Gg: ASbGnctiANCxvYf9Z5BMG7S6jN+N43FDmmmp9TUn2NA88DN5N0y0SdvV8Vl1bAxxHOq +zmWegzrD2H0VH3zg7QBTUwnW72prvNvyeZALWW0QJ02qx+zqp+aJQbLVL5xHWd5z9EhXvZMMOn dJeuLKhBVVRkLs1xcbZzaSvuvKXbe1Zi0R1wfZ9R3V3wGvXgwLrmlGkbzAzJ34JHqY6YStOkqxo Zt3rKIXukzADmI9erCHBzSW0CvJs1/iuG+mdZKSa1uoAxrtJ+ukl382vmyETXuNrxUtfLael0Z6 Bo5KBFir0vi2hvHh6BqNqyg8V0cq4WGB5ce4R9o3PQ== X-Google-Smtp-Source: AGHT+IGcBSX4CVHcbEYSLdMORMLGHUSep1L+duJoWrqCl+58He4EWRiqQ5z46pXQ3+jysfBdqGIxShK1vvLS X-Received: by 2002:a05:6870:d1d0:b0:2ae:d23:3c2d with SMTP id 586e51a60fabf-2b34fe99372mr9041765fac.8.1738400036426; Sat, 01 Feb 2025 00:53:56 -0800 (PST) Received: from postal.iol.unh.edu (postal.iol.unh.edu. [2606:4100:3880:1234::84]) by smtp-relay.gmail.com with ESMTPS id 586e51a60fabf-2b35629b750sm363125fac.22.2025.02.01.00.53.56 (version=TLS1_2 cipher=ECDHE-ECDSA-AES128-GCM-SHA256 bits=128/128); Sat, 01 Feb 2025 00:53:56 -0800 (PST) X-Relaying-Domain: iol.unh.edu Date: Sat, 01 Feb 2025 00:53:56 -0800 (PST) Message-ID: <679de124.050a0220.3bd0d4.5158SMTPIN_ADDED_MISSING@mx.google.com> Received: from [172.21.0.5] (unknown [172.18.0.240]) by postal.iol.unh.edu (Postfix) with ESMTP id D78546052471; Sat, 1 Feb 2025 03:53:55 -0500 (EST) Subject: |SUCCESS| [GIT MASTER] c66daa12e76d7b4912cfb7109a761856a7a873ab From: dpdklab@iol.unh.edu To: Test Report Cc: dpdk-test-reports@iol.unh.edu, Xueming Li , Christian Ehrhardt , Kevin Traynor , Luca Boccassi Content-Type: text/plain X-BeenThere: test-report@dpdk.org X-Mailman-Version: 2.1.29 Precedence: list List-Id: automatic DPDK test reports List-Unsubscribe: , List-Archive: List-Post: List-Help: List-Subscribe: , Errors-To: test-report-bounces@dpdk.org _Testing PASS_ Branch: tags/v23.11 c66daa12e76d7b4912cfb7109a761856a7a873ab --> testing pass Upstream job id: Generic-DPDK-Compile-Meson#356991 Test environment and result as below: +------------------------------------+--------------------+ | Environment | dpdk_meson_compile | +====================================+====================+ | RHEL9 (ARM) | PASS | +------------------------------------+--------------------+ | Ubuntu 20.04 ARM SVE | PASS | +------------------------------------+--------------------+ | Ubuntu 20.04 ARM GCC Cross Compile | PASS | +------------------------------------+--------------------+ | Fedora 40 (ARM) | PASS | +------------------------------------+--------------------+ | Fedora 40 (ARM Clang) | PASS | +------------------------------------+--------------------+ | Debian 12 with MUSDK | PASS | +------------------------------------+--------------------+ | Fedora 41 (ARM Clang) | PASS | +------------------------------------+--------------------+ | Fedora 41 (ARM) | PASS | +------------------------------------+--------------------+ | Ubuntu 24.04 (ARM) | PASS | +------------------------------------+--------------------+ | Ubuntu 20.04 (ARM) | PASS | +------------------------------------+--------------------+ | Ubuntu 22.04 (ARM) | PASS | +------------------------------------+--------------------+ | CentOS Stream 9 (ARM) | PASS | +------------------------------------+--------------------+ | Debian 11 (Buster) (ARM) | PASS | +------------------------------------+--------------------+ | Debian 12 (arm) | PASS | +------------------------------------+--------------------+ RHEL9 (ARM) Kernel: Depends on container host Compiler: gcc 11.5.0 20240719 (Red Hat 11.5.0-2) Ubuntu 20.04 ARM SVE Kernel: Depends on container host Compiler: gcc (Ubuntu 10.5.0-1ubuntu1~20.04) 10.5.0 Ubuntu 20.04 ARM GCC Cross Compile Kernel: Depends on container host Compiler: aarch64-linux-gnu-gcc (Ubuntu 9.4.0-1ubuntu1~20.04.2) 9.4.0 Fedora 40 (ARM) Kernel: Depends on container host Compiler: gcc 14.2.1 20240912 (Red Hat 14.2.1-3) Fedora 40 (ARM Clang) Kernel: Depends on container host Compiler: clang 18.1.8 (Fedora 18.1.8-1.fc40) Debian 12 with MUSDK Kernel: Depends on container host Compiler: gcc (Debian 12.2.0-14) 12.2.0 Fedora 41 (ARM Clang) Kernel: Depends on container host Compiler: clang 19.1.5 (Fedora 19.1.5-1.fc41) Fedora 41 (ARM) Kernel: Depends on container host Compiler: gcc 14.2.1 20240912 (Red Hat 14.2.1-3) Ubuntu 24.04 (ARM) Kernel: Depends on container host Compiler: gcc (Ubuntu 13.3.0-6ubuntu2~24.04) 13.3.0 Ubuntu 20.04 (ARM) Kernel: Depends on container host Compiler: gcc (Ubuntu 9.4.0-1ubuntu1~20.04.2) 9.4.0 Ubuntu 22.04 (ARM) Kernel: Depends on container host Compiler: gcc (Ubuntu 11.4.0-1ubuntu1~22.04) 11.4.0 CentOS Stream 9 (ARM) Kernel: Depends on container host Compiler: gcc 11.5.0 20240719 (Red Hat 11.5.0-2) Debian 11 (Buster) (ARM) Kernel: Depends on container host Compiler: gcc (Debian 10.2.1-6) 10.2.1 20210110 Debian 12 (arm) Kernel: Depends on container host Compiler: gcc (Debian 12.2.0-14) 12.2.0 To view detailed results, visit: https://lab.dpdk.org/results/dashboard/tarballs/32414/ UNH-IOL DPDK Community Lab To manage your email subscriptions, visit: https://lab.dpdk.org/results/dashboard/preferences/subscriptions/