From mboxrd@z Thu Jan 1 00:00:00 1970 Return-Path: Received: from mails.dpdk.org (mails.dpdk.org [217.70.189.124]) by inbox.dpdk.org (Postfix) with ESMTP id C89FE46162 for ; Sat, 1 Feb 2025 10:03:43 +0100 (CET) Received: from mails.dpdk.org (localhost [127.0.0.1]) by mails.dpdk.org (Postfix) with ESMTP id A5FBC400D7; Sat, 1 Feb 2025 10:03:43 +0100 (CET) Received: from mail-il1-f228.google.com (mail-il1-f228.google.com [209.85.166.228]) by mails.dpdk.org (Postfix) with ESMTP id 2ED98400D5 for ; Sat, 1 Feb 2025 10:03:42 +0100 (CET) Received: by mail-il1-f228.google.com with SMTP id e9e14a558f8ab-3d005bc9f4aso10068335ab.1 for ; Sat, 01 Feb 2025 01:03:42 -0800 (PST) DKIM-Signature: v=1; a=rsa-sha256; c=relaxed/relaxed; d=iol.unh.edu; s=unh-iol; t=1738400621; x=1739005421; darn=dpdk.org; h=cc:to:from:subject:message-id:date:from:to:cc:subject:date :message-id:reply-to; bh=ZOrYAjfAR9qp/TAIMbpJPpTnU9RkSbse7v4tAnRfJI4=; b=LjuLbXsHQJXlYpXngV224H+q3uHdrwxguJ9tqV8K7FlvZ9adGydiuyTKNLhoIhLHNl TdyMiVEtsX7k+MOk8JytusxVGNJbXHw/R7FnwWcHcrOKHRuCg0jG1PXi5feA46B2b5Kl 2WWuzI7OlHbACvKzw4OvMlb6UQYutrwLuAMQc= X-Google-DKIM-Signature: v=1; a=rsa-sha256; c=relaxed/relaxed; d=1e100.net; s=20230601; t=1738400621; x=1739005421; h=cc:to:from:subject:message-id:date:x-gm-message-state:from:to:cc :subject:date:message-id:reply-to; bh=ZOrYAjfAR9qp/TAIMbpJPpTnU9RkSbse7v4tAnRfJI4=; b=X4jNxsMhc1uF49CdjFhnjQu/K9jAd/4AFWkMTXvB2rw79PBB569CRc8SMMs+mH9DyG nutbyJa7FWz8NelR5KhFAYToTulyixmEbC8A3HTLIK4IwwGmzJfRJBWsbI8YENh2I9Xz ZQ/EY0d2vSAbOw/P8rU3/rfuDvpcKh7oBwxDra/cCuZ0FxxxDnytxWIyzYS3ungIhXjw YcDJM6IN0jfkGC/0lUQ2DetahjkG2pACshobFb9R/OJPmmD46zxRvgKFpml8H/Gt2mpi uT2PFKc5Rq8jNQz+gg9A3aFGZdcbHctK7YF43/fZ4avHuKl98gqBVdCP7U+0CkUhJ9Z2 BBgA== X-Gm-Message-State: AOJu0Yy2q9RUMNB15doKxz/Hmnmc/Lnz5U0hCOHYbgTY491z51NsV/2u G5e82LNuMvnL8zmZS71yUIIWAkz86aOhBc0b2VYRaNU1zTIOwP87GgNy/xq7TdGTiH3x7I3ProP fQJZu+yOpzmHzpDUfzLXTwZMSZ2iXFkOLI5YpIAjNQOsvofZD X-Gm-Gg: ASbGncub1GpYg9EJCVGOdyVVKQJYyi4LDtGP6xTjahfWxCDpLtBdjQ0NaJrcZmFCrR9 tLvJit2rhmGKZB4JbHet0gHb02IlZS76b1urIoGkyvJhI7fp6/ljikhFADadVfR1kgmNgqiJY07 pkaz8JTg6AvW26h/urosn4n3DTRTlVo7IWaoI1BifDtdD3NdyFiGs7NG8Y5MGvm/BdacPkbDMIE ciMi0n+skKQ8WYVbWYOsQSVQl/ItP5ijm0zKxcV8KWNvxxUsbet3AZYLYLg1smP7TAbDCR2cgWG os12HJaBYCYWNghSfF1vcGd/wdn3XpmR7UheLqRmXQ== X-Google-Smtp-Source: AGHT+IG118rs+ZtXryjU30xhkeZlgRR8tG1pf75/CMG7fsEF2K2LOj311VUys+fxEvWD6CEM45kCQ9S9ScpI X-Received: by 2002:a92:c547:0:b0:3a7:87f2:b010 with SMTP id e9e14a558f8ab-3cffe3d1bd8mr114141835ab.5.1738400621425; Sat, 01 Feb 2025 01:03:41 -0800 (PST) Received: from postal.iol.unh.edu (postal.iol.unh.edu. [2606:4100:3880:1234::84]) by smtp-relay.gmail.com with ESMTPS id e9e14a558f8ab-3d00a5ec285sm3637235ab.46.2025.02.01.01.03.41 (version=TLS1_2 cipher=ECDHE-ECDSA-AES128-GCM-SHA256 bits=128/128); Sat, 01 Feb 2025 01:03:41 -0800 (PST) X-Relaying-Domain: iol.unh.edu Date: Sat, 01 Feb 2025 01:03:41 -0800 (PST) Message-ID: <679de36d.050a0220.33ac59.2f9aSMTPIN_ADDED_MISSING@mx.google.com> Received: from [172.21.0.5] (unknown [172.18.0.240]) by postal.iol.unh.edu (Postfix) with ESMTP id DD54F6052471; Sat, 1 Feb 2025 04:03:40 -0500 (EST) Subject: |SUCCESS| [GIT MASTER] f2eea2f37a82bb73fb01d56350708f7d70e21379 From: dpdklab@iol.unh.edu To: Test Report Cc: dpdk-test-reports@iol.unh.edu, Xueming Li , Christian Ehrhardt , Kevin Traynor , Luca Boccassi Content-Type: text/plain X-BeenThere: test-report@dpdk.org X-Mailman-Version: 2.1.29 Precedence: list List-Id: automatic DPDK test reports List-Unsubscribe: , List-Archive: List-Post: List-Help: List-Subscribe: , Errors-To: test-report-bounces@dpdk.org _Testing PASS_ Branch: tags/v24.11 f2eea2f37a82bb73fb01d56350708f7d70e21379 --> testing pass Upstream job id: Generic-Unit-Test-DPDK#310927 Test environment and result as below: +---------------------+----------------+ | Environment | dpdk_unit_test | +=====================+================+ | Debian Bullseye | PASS | +---------------------+----------------+ | CentOS Stream 9 | PASS | +---------------------+----------------+ | Debian 12 | PASS | +---------------------+----------------+ | Fedora 40 | PASS | +---------------------+----------------+ | RHEL9 | PASS | +---------------------+----------------+ | Fedora 41 | PASS | +---------------------+----------------+ | Fedora 41 (Clang) | PASS | +---------------------+----------------+ | RHEL8 | PASS | +---------------------+----------------+ | Fedora 40 (Clang) | PASS | +---------------------+----------------+ | Ubuntu 20.04 | PASS | +---------------------+----------------+ | Ubuntu 22.04 | PASS | +---------------------+----------------+ | Ubuntu 24.04 | PASS | +---------------------+----------------+ | Windows Server 2022 | PASS | +---------------------+----------------+ Debian Bullseye Kernel: Depends on container host Compiler: gcc (Debian 10.2.1-6) 10.2.1 20210110 CentOS Stream 9 Kernel: Depends on container host Compiler: gcc 11.5.0 20240719 (Red Hat 11.5.0-2) Debian 12 Kernel: Depends on container host Compiler: gcc (Debian 12.2.0-14) 12.2.0 Fedora 40 Kernel: Depends on container host Compiler: gcc 14.2.1 20240912 (Red Hat 14.2.1-3) RHEL9 Kernel: Depends on container host Compiler: gcc 11.5.0 20240719 (Red Hat 11.5.0-2) Fedora 41 Kernel: Depends on container host Compiler: gcc 14.2.1 20240912 (Red Hat 14.2.1-3) Fedora 41 (Clang) Kernel: Depends on container host Compiler: clang 19.1.5 (Fedora 19.1.5-1.fc41) RHEL8 Kernel: Depends on container host Compiler: gcc 8.5.0 20210514 (Red Hat 8.5.0-22) Fedora 40 (Clang) Kernel: Depends on container host Compiler: clang 18.1.8 (Fedora 18.1.8-1.fc40) Ubuntu 20.04 Kernel: Depends on container host Compiler: gcc (Ubuntu 9.4.0-1ubuntu1~20.04.2) 9.4.0 Ubuntu 22.04 Kernel: Depends on container host Compiler: gcc (Ubuntu 11.4.0-1ubuntu1~22.04) 11.4.0 Ubuntu 24.04 Kernel: Depends on container host Compiler: gcc (Ubuntu 13.3.0-6ubuntu2~24.04) 13.3.0 Windows Server 2022 Kernel: 10.0.20348.2031 Compiler: clang 15.0.7, gcc 14.1.0 (MinGW), and MSVC VS 19.39.33521 To view detailed results, visit: https://lab.dpdk.org/results/dashboard/tarballs/32412/ UNH-IOL DPDK Community Lab To manage your email subscriptions, visit: https://lab.dpdk.org/results/dashboard/preferences/subscriptions/