From mboxrd@z Thu Jan 1 00:00:00 1970 Return-Path: Received: from mails.dpdk.org (mails.dpdk.org [217.70.189.124]) by inbox.dpdk.org (Postfix) with ESMTP id 16AB946162 for ; Sat, 1 Feb 2025 10:06:17 +0100 (CET) Received: from mails.dpdk.org (localhost [127.0.0.1]) by mails.dpdk.org (Postfix) with ESMTP id EA38B4026B; Sat, 1 Feb 2025 10:06:16 +0100 (CET) Received: from mail-yw1-f225.google.com (mail-yw1-f225.google.com [209.85.128.225]) by mails.dpdk.org (Postfix) with ESMTP id 8CA3C40264 for ; Sat, 1 Feb 2025 10:06:15 +0100 (CET) Received: by mail-yw1-f225.google.com with SMTP id 00721157ae682-6f44113c101so20082167b3.1 for ; Sat, 01 Feb 2025 01:06:15 -0800 (PST) DKIM-Signature: v=1; a=rsa-sha256; c=relaxed/relaxed; d=iol.unh.edu; s=unh-iol; t=1738400774; x=1739005574; darn=dpdk.org; h=cc:to:from:subject:message-id:date:from:to:cc:subject:date :message-id:reply-to; bh=llYDFDomHPErXXvjI3yAAHBnllhEu9mi76phCqe+yGs=; b=YbkwUZ+Ax1YpwXynFbDrCDJBCXS9DUcLLrJiVSLKb9tvhAS8548g2xGd4OJpIqPol+ Oppgrwj5mMjVPRtT053Ez4DhZ6sjVjIe7Mc37MKeaZLQkULvVlGrmHO0akL4uq5p/86D xHxtgXfvliokuV3kKB1qkNNP12waQcLBOoSPI= X-Google-DKIM-Signature: v=1; a=rsa-sha256; c=relaxed/relaxed; d=1e100.net; s=20230601; t=1738400774; x=1739005574; h=cc:to:from:subject:message-id:date:x-gm-message-state:from:to:cc :subject:date:message-id:reply-to; bh=llYDFDomHPErXXvjI3yAAHBnllhEu9mi76phCqe+yGs=; b=UDwdJcVjcw5FEQd6kC+Uz5c35qsYtTAriseMgp0gSm/6vcC5ds//315P9kCvSC7QDk eP+OGkKzP1ejj3PrZlbICtXLWId0ZNkH8M+F6QzJgb9ZYnCemxTv0dozd+9rM++w1eZW 1d/cM8D7/mp6jMSv2+tiXqAdenwvEM7gjnP9PF8TKYA1U77mW2VvrT9/HH6JvRmqscbB dSEIRHaZI3slhar79nl+gYmQWKODUL/a/RdWqomIlQsf8/CuBTz0i+QcIpeA1a4iVIvt uxFxuo9r05PrbXHFp7eAv/b9bHc8JEpoCtChOWjwCbDtjvD8QCGQ3tJAvlhJc5ooQKtY a32w== X-Gm-Message-State: AOJu0YyE/wKDux5sF/zRXJZtEg8USicqE956xHKWTWUp35NbfmeVRQXz ezS0xwg99HAlDFYafTkZ1rfEByR002uijBC9yAoq0OVZHQgo8BVmRZptavlZQdbDGGe3vb/vk9t qH7wWaVK8I7Q8gpHbYqD6FQ2mMlq7NOMK X-Gm-Gg: ASbGnctQTsii1iHPEVArF3+2hGwjrqCjzqgD7p9XkufWtgQ6tPKSYyoRVvZLm+LgCNv 9oZpBcmeiPuI7Tz2p2icCeDYuUOL7dwP/a5vFnRTIr/f3LAG6hxD2PhcwdnbGhgblN4Th6Bw9vK THVpgnPfqyll0Ayj0jgoCjPyNwPuoBgjLVVZS9DTnQ+qCgzeCmGNIYO9QTO+mG8J4ayQUANGOaY 7Fl6l/LOq3mRQ5a3Kd8yk9FVtEvsjMRS8QbEkG9DxymuxzdQMBQHZXJn0jOW9PlPo1fgTYrX0f/ Kel1PzQj6oiCBdpiwYVLLIz0Xf/4/Q== X-Google-Smtp-Source: AGHT+IG5ZT+TgeTiq1km24/K58gkC9c1tTPdVCekaA+JdgbNuQSPN78Lu2+KN7uLC6A6IeTde9QWt6Qe/zAE X-Received: by 2002:a05:690c:7243:b0:6ef:4fba:8158 with SMTP id 00721157ae682-6f7a812dca9mr120799647b3.0.1738400774642; Sat, 01 Feb 2025 01:06:14 -0800 (PST) Received: from postal.iol.unh.edu (postal.iol.unh.edu. [132.177.123.84]) by smtp-relay.gmail.com with ESMTPS id 00721157ae682-6f8c460e9e3sm2629587b3.9.2025.02.01.01.06.14 (version=TLS1_2 cipher=ECDHE-ECDSA-AES128-GCM-SHA256 bits=128/128); Sat, 01 Feb 2025 01:06:14 -0800 (PST) X-Relaying-Domain: iol.unh.edu Date: Sat, 01 Feb 2025 01:06:14 -0800 (PST) Message-ID: <679de406.050a0220.370668.e69cSMTPIN_ADDED_MISSING@mx.google.com> Received: from [172.17.0.6] (unknown [172.18.0.217]) by postal.iol.unh.edu (Postfix) with ESMTP id 08E8C6052471; Sat, 1 Feb 2025 04:06:14 -0500 (EST) Subject: |SUCCESS| [GIT MASTER] 7ce7d3341d7e21c2a81f2fea8e451681d7306d77 From: dpdklab@iol.unh.edu To: Test Report Cc: dpdk-test-reports@iol.unh.edu, Xueming Li , Christian Ehrhardt , Kevin Traynor , Luca Boccassi Content-Type: text/plain X-BeenThere: test-report@dpdk.org X-Mailman-Version: 2.1.29 Precedence: list List-Id: automatic DPDK test reports List-Unsubscribe: , List-Archive: List-Post: List-Help: List-Subscribe: , Errors-To: test-report-bounces@dpdk.org _Testing PASS_ Branch: tags/v22.11 7ce7d3341d7e21c2a81f2fea8e451681d7306d77 --> testing pass Upstream job id: Generic-DPDK-Compile-Meson#356970 Test environment and result as below: +------------------------------------+--------------------+ | Environment | dpdk_meson_compile | +====================================+====================+ | RHEL9 (ARM) | PASS | +------------------------------------+--------------------+ | Ubuntu 20.04 ARM GCC Cross Compile | PASS | +------------------------------------+--------------------+ | Ubuntu 20.04 ARM SVE | PASS | +------------------------------------+--------------------+ | Debian 12 with MUSDK | PASS | +------------------------------------+--------------------+ | Fedora 41 (ARM Clang) | PASS | +------------------------------------+--------------------+ | Fedora 40 (ARM) | PASS | +------------------------------------+--------------------+ | Ubuntu 20.04 (ARM) | PASS | +------------------------------------+--------------------+ | Fedora 40 (ARM Clang) | PASS | +------------------------------------+--------------------+ | Fedora 41 (ARM) | PASS | +------------------------------------+--------------------+ | Ubuntu 22.04 (ARM) | PASS | +------------------------------------+--------------------+ | Ubuntu 24.04 (ARM) | PASS | +------------------------------------+--------------------+ | Debian 11 (Buster) (ARM) | PASS | +------------------------------------+--------------------+ | Debian 12 (arm) | PASS | +------------------------------------+--------------------+ | CentOS Stream 9 (ARM) | PASS | +------------------------------------+--------------------+ RHEL9 (ARM) Kernel: Depends on container host Compiler: gcc 11.5.0 20240719 (Red Hat 11.5.0-2) Ubuntu 20.04 ARM GCC Cross Compile Kernel: Depends on container host Compiler: aarch64-linux-gnu-gcc (Ubuntu 9.4.0-1ubuntu1~20.04.2) 9.4.0 Ubuntu 20.04 ARM SVE Kernel: Depends on container host Compiler: gcc (Ubuntu 10.5.0-1ubuntu1~20.04) 10.5.0 Debian 12 with MUSDK Kernel: Depends on container host Compiler: gcc (Debian 12.2.0-14) 12.2.0 Fedora 41 (ARM Clang) Kernel: Depends on container host Compiler: clang 19.1.5 (Fedora 19.1.5-1.fc41) Fedora 40 (ARM) Kernel: Depends on container host Compiler: gcc 14.2.1 20240912 (Red Hat 14.2.1-3) Ubuntu 20.04 (ARM) Kernel: Depends on container host Compiler: gcc (Ubuntu 9.4.0-1ubuntu1~20.04.2) 9.4.0 Fedora 40 (ARM Clang) Kernel: Depends on container host Compiler: clang 18.1.8 (Fedora 18.1.8-1.fc40) Fedora 41 (ARM) Kernel: Depends on container host Compiler: gcc 14.2.1 20240912 (Red Hat 14.2.1-3) Ubuntu 22.04 (ARM) Kernel: Depends on container host Compiler: gcc (Ubuntu 11.4.0-1ubuntu1~22.04) 11.4.0 Ubuntu 24.04 (ARM) Kernel: Depends on container host Compiler: gcc (Ubuntu 13.3.0-6ubuntu2~24.04) 13.3.0 Debian 11 (Buster) (ARM) Kernel: Depends on container host Compiler: gcc (Debian 10.2.1-6) 10.2.1 20210110 Debian 12 (arm) Kernel: Depends on container host Compiler: gcc (Debian 12.2.0-14) 12.2.0 CentOS Stream 9 (ARM) Kernel: Depends on container host Compiler: gcc 11.5.0 20240719 (Red Hat 11.5.0-2) To view detailed results, visit: https://lab.dpdk.org/results/dashboard/tarballs/32413/ UNH-IOL DPDK Community Lab To manage your email subscriptions, visit: https://lab.dpdk.org/results/dashboard/preferences/subscriptions/