From mboxrd@z Thu Jan 1 00:00:00 1970 Return-Path: Received: from mails.dpdk.org (mails.dpdk.org [217.70.189.124]) by inbox.dpdk.org (Postfix) with ESMTP id 13CE246162 for ; Sat, 1 Feb 2025 10:06:36 +0100 (CET) Received: from mails.dpdk.org (localhost [127.0.0.1]) by mails.dpdk.org (Postfix) with ESMTP id 0FAEE4026B; Sat, 1 Feb 2025 10:06:36 +0100 (CET) Received: from mail-pl1-f225.google.com (mail-pl1-f225.google.com [209.85.214.225]) by mails.dpdk.org (Postfix) with ESMTP id 5CAD940264 for ; Sat, 1 Feb 2025 10:06:35 +0100 (CET) Received: by mail-pl1-f225.google.com with SMTP id d9443c01a7336-219f8263ae0so52333825ad.0 for ; Sat, 01 Feb 2025 01:06:35 -0800 (PST) DKIM-Signature: v=1; a=rsa-sha256; c=relaxed/relaxed; d=iol.unh.edu; s=unh-iol; t=1738400794; x=1739005594; darn=dpdk.org; h=cc:to:from:subject:message-id:date:from:to:cc:subject:date :message-id:reply-to; bh=EE1oK3NUv5BTcSS2Vp3I0uDxJtvyrs4lFu8J3c6K7tY=; b=H0BH2s34FJyuk3FoNYArggwrXlcjR7YhZ/uP2JH8Ti/+IbY/RTEXdD3H0DlEswPirC 543ksxwFhXDajGOoCZyqiO1eHYXldEJb5CIJE/iXOJlYJpudVRUHR9dgB/xaS9ddBAIk tGLAUWEKdwY7WZwS78LBeSDcNEF4a/MuL8RUw= X-Google-DKIM-Signature: v=1; a=rsa-sha256; c=relaxed/relaxed; d=1e100.net; s=20230601; t=1738400794; x=1739005594; h=cc:to:from:subject:message-id:date:x-gm-message-state:from:to:cc :subject:date:message-id:reply-to; bh=EE1oK3NUv5BTcSS2Vp3I0uDxJtvyrs4lFu8J3c6K7tY=; b=sEXPhseMyxianZvgIBfh4lRw9XTLCF5Q4yRQH49bB6qv0YoZBempdRXMvOoRZoe4Ft lozxYu9cDKPt5oD3A/WebpZOeoJ0EVjvmKj6ubFO8HhTz25fXyalfIbATr9Y91oimbdb /KRmGUvSbehfno2MHvR91EnrS7DDbfw6ZSW/QZBB8Xzm1cmksUExQV2YDDfTnZtAGw/L dEA+tj4zGquJzsjFwFf1pX/N5G1rSvhDdEBb5ESa6TYIxmNo9rYqtF2qkGGSeGl/5ByW 3dS+BCxpGW5rrN1c4DBLEkFOhuoU0K2OdOSLjvTEW8WsFewyfMq+XCKrSYO0DDu1g2As PGKg== X-Gm-Message-State: AOJu0YzApsrlnFbqGmgEAaVhtgkYwmcnQFyHge5VKWNiIKoKWZW2HDNP K76wftbOMTSOtHPqa+zw/flO7oidl8bRDZjRO0KlxqB4+YcJuwnieFY62D92EcOvHRf2R8kLmoy XiWDvH8t2C9DCqVX+4My+xgZzHl9c+c/1 X-Gm-Gg: ASbGnctg/z/u7g99xpvQ4+cgXzCwfMoUxayGbNLncb3qUMbV6YXB+mMd2DsZS6Buq1W qJ4kvY/D9J0JW6M+EEom8GB75D2xpn5wGw4wwdYAHHjiAiIG0g/vELUuhsQRzhnPkpa2w0X8a9i fh5iNexvKsinammmVW3Lk/K0RKHljKKDpiwUPd/zrXs1DunqX5Jhe1wl1jDWlqN6WtuE4n0ifsW YGjyWV8M4nVjjcdCOA0bPhrToVZfzDneZJV59CDyUPrk5qEaEKuYy9CNY3WClN5Ylr4oxRSA2HP dNWHl8B6HIvxJ+izZRpSqfBSo2T2gw== X-Google-Smtp-Source: AGHT+IEjNVCl7pwsTId3H/p0Ejik2rHA4d/Tjr6QfK1hc+Gi+i63SoT1Yl8ePHsdL06lB+Z0kNVM6/5d5f5I X-Received: by 2002:a17:902:fc47:b0:21b:d126:6d30 with SMTP id d9443c01a7336-21dd7ddf829mr226304245ad.33.1738400794384; Sat, 01 Feb 2025 01:06:34 -0800 (PST) Received: from postal.iol.unh.edu (postal.iol.unh.edu. [132.177.123.84]) by smtp-relay.gmail.com with ESMTPS id d9443c01a7336-21de321bc15sm1829525ad.4.2025.02.01.01.06.34 (version=TLS1_2 cipher=ECDHE-ECDSA-AES128-GCM-SHA256 bits=128/128); Sat, 01 Feb 2025 01:06:34 -0800 (PST) X-Relaying-Domain: iol.unh.edu Date: Sat, 01 Feb 2025 01:06:34 -0800 (PST) Message-ID: <679de41a.170a0220.2c0877.8df2SMTPIN_ADDED_MISSING@mx.google.com> Received: from [172.21.0.5] (unknown [172.18.0.240]) by postal.iol.unh.edu (Postfix) with ESMTP id 87A756052471; Sat, 1 Feb 2025 04:06:33 -0500 (EST) Subject: |SUCCESS| [GIT MASTER] c66daa12e76d7b4912cfb7109a761856a7a873ab From: dpdklab@iol.unh.edu To: Test Report Cc: dpdk-test-reports@iol.unh.edu, Xueming Li , Christian Ehrhardt , Kevin Traynor , Luca Boccassi Content-Type: text/plain X-BeenThere: test-report@dpdk.org X-Mailman-Version: 2.1.29 Precedence: list List-Id: automatic DPDK test reports List-Unsubscribe: , List-Archive: List-Post: List-Help: List-Subscribe: , Errors-To: test-report-bounces@dpdk.org _Testing PASS_ Branch: tags/v23.11 c66daa12e76d7b4912cfb7109a761856a7a873ab --> testing pass Upstream job id: Generic-Unit-Test-DPDK#310944 Test environment and result as below: +-----------------------------+----------------+---------------------------+--------------+------------------------------+ | Environment | dpdk_unit_test | cryptodev_sw_zuc_autotest | lpm_autotest | cryptodev_sw_snow3g_autotest | +=============================+================+===========================+==============+==============================+ | CentOS Stream 9 (ARM) | PASS | SKIPPED | SKIPPED | SKIPPED | +-----------------------------+----------------+---------------------------+--------------+------------------------------+ | Debian 12 (arm) | PASS | PASS | SKIPPED | PASS | +-----------------------------+----------------+---------------------------+--------------+------------------------------+ | Debian 11 (Buster) (ARM) | PASS | SKIPPED | SKIPPED | SKIPPED | +-----------------------------+----------------+---------------------------+--------------+------------------------------+ | Fedora 40 (ARM Clang) | PASS | SKIPPED | SKIPPED | SKIPPED | +-----------------------------+----------------+---------------------------+--------------+------------------------------+ | Fedora 41 (ARM Clang) | PASS | SKIPPED | SKIPPED | SKIPPED | +-----------------------------+----------------+---------------------------+--------------+------------------------------+ | Fedora 40 (ARM) | PASS | SKIPPED | SKIPPED | SKIPPED | +-----------------------------+----------------+---------------------------+--------------+------------------------------+ | Fedora 41 (ARM) | PASS | SKIPPED | SKIPPED | SKIPPED | +-----------------------------+----------------+---------------------------+--------------+------------------------------+ | RHEL9 (ARM) | PASS | SKIPPED | SKIPPED | SKIPPED | +-----------------------------+----------------+---------------------------+--------------+------------------------------+ | Ubuntu 20.04 (ARM) | PASS | SKIPPED | SKIPPED | SKIPPED | +-----------------------------+----------------+---------------------------+--------------+------------------------------+ | Ubuntu 22.04 (ARM) | PASS | SKIPPED | SKIPPED | SKIPPED | +-----------------------------+----------------+---------------------------+--------------+------------------------------+ | Ubuntu 24.04 (ARM) | PASS | SKIPPED | SKIPPED | SKIPPED | +-----------------------------+----------------+---------------------------+--------------+------------------------------+ | 32-bit Ubuntu 22.04.4 (ARM) | PASS | SKIPPED | SKIPPED | SKIPPED | +-----------------------------+----------------+---------------------------+--------------+------------------------------+ | Ubuntu 20.04 ARM SVE | SKIPPED | SKIPPED | PASS | SKIPPED | +-----------------------------+----------------+---------------------------+--------------+------------------------------+ CentOS Stream 9 (ARM) Kernel: Depends on container host Compiler: gcc 11.5.0 20240719 (Red Hat 11.5.0-2) Debian 12 (arm) Kernel: Depends on container host Compiler: gcc (Debian 12.2.0-14) 12.2.0 Debian 11 (Buster) (ARM) Kernel: Depends on container host Compiler: gcc (Debian 10.2.1-6) 10.2.1 20210110 Fedora 40 (ARM Clang) Kernel: Depends on container host Compiler: clang 18.1.8 (Fedora 18.1.8-1.fc40) Fedora 41 (ARM Clang) Kernel: Depends on container host Compiler: clang 19.1.5 (Fedora 19.1.5-1.fc41) Fedora 40 (ARM) Kernel: Depends on container host Compiler: gcc 14.2.1 20240912 (Red Hat 14.2.1-3) Fedora 41 (ARM) Kernel: Depends on container host Compiler: gcc 14.2.1 20240912 (Red Hat 14.2.1-3) RHEL9 (ARM) Kernel: Depends on container host Compiler: gcc 11.5.0 20240719 (Red Hat 11.5.0-2) Ubuntu 20.04 (ARM) Kernel: Depends on container host Compiler: gcc (Ubuntu 9.4.0-1ubuntu1~20.04.2) 9.4.0 Ubuntu 22.04 (ARM) Kernel: Depends on container host Compiler: gcc (Ubuntu 11.4.0-1ubuntu1~22.04) 11.4.0 Ubuntu 24.04 (ARM) Kernel: Depends on container host Compiler: gcc (Ubuntu 13.3.0-6ubuntu2~24.04) 13.3.0 32-bit Ubuntu 22.04.4 (ARM) Kernel: 5.15.83+ aarch64 Compiler: gcc (Ubuntu 11.4.0-1ubuntu1~22.04) 11.4.0 Ubuntu 20.04 ARM SVE Kernel: Depends on container host Compiler: gcc (Ubuntu 10.5.0-1ubuntu1~20.04) 10.5.0 To view detailed results, visit: https://lab.dpdk.org/results/dashboard/tarballs/32414/ UNH-IOL DPDK Community Lab To manage your email subscriptions, visit: https://lab.dpdk.org/results/dashboard/preferences/subscriptions/