From mboxrd@z Thu Jan 1 00:00:00 1970 Return-Path: Received: from mails.dpdk.org (mails.dpdk.org [217.70.189.124]) by inbox.dpdk.org (Postfix) with ESMTP id 2601346162 for ; Sat, 1 Feb 2025 10:16:18 +0100 (CET) Received: from mails.dpdk.org (localhost [127.0.0.1]) by mails.dpdk.org (Postfix) with ESMTP id F1F1C4026B; Sat, 1 Feb 2025 10:16:17 +0100 (CET) Received: from mail-io1-f99.google.com (mail-io1-f99.google.com [209.85.166.99]) by mails.dpdk.org (Postfix) with ESMTP id D305A40264 for ; Sat, 1 Feb 2025 10:16:16 +0100 (CET) Received: by mail-io1-f99.google.com with SMTP id ca18e2360f4ac-84a1ce51187so81746739f.1 for ; Sat, 01 Feb 2025 01:16:16 -0800 (PST) DKIM-Signature: v=1; a=rsa-sha256; c=relaxed/relaxed; d=iol.unh.edu; s=unh-iol; t=1738401376; x=1739006176; darn=dpdk.org; h=cc:to:from:subject:message-id:date:from:to:cc:subject:date :message-id:reply-to; bh=sSKDwYvkywIYn6824HsagC3P6UmujGM4ZqLzl5EHJCo=; b=BLgvCBFuOT+ZTy5cZgIERMhlROgOGZOX5LEL6R/CqYmUNXaRC2d8SaPH+qQmGeILax oFCyKeVCa2Pkvk6nodTU9TMTdiUjidDaHM1AzuQdd4wJddiTHpKAdtXRaKJms8Bvm5c9 jctPSKL10g5fVfs2Yu+7SZABW4aiE4+TqP+kg= X-Google-DKIM-Signature: v=1; a=rsa-sha256; c=relaxed/relaxed; d=1e100.net; s=20230601; t=1738401376; x=1739006176; h=cc:to:from:subject:message-id:date:x-gm-message-state:from:to:cc :subject:date:message-id:reply-to; bh=sSKDwYvkywIYn6824HsagC3P6UmujGM4ZqLzl5EHJCo=; b=ChTJw6ET0GxUy1dZ/1eLZSBM7I2CG0mrCfzgqDylK7GZ+JgPioV+lWVPCdWHCWLzqH EuRBdFO9IMQm9QgB/dkkEdsATebXD421Pc7eYvwlo94NRDdFL32ge8mmBZIOA6EVyBLt Rvb7f1Gl1rRIfEkg7gDk6rWVlHTiUrAA2afV30KALg9bAYdgYHHe9/ERrpWO5AJNZjT+ LzsxpSwr84gyRHxXElYRn+e20t5Qm/uvMv5mhQ3ImkyNBzFLz0CnmhfNwAtMj7NWfb4W e9T1Da2hC5afZ2CRDg4IvS5+jPETRDCpfIVzPqC52CLDorhXSU2EOgP4bGBCvrepgRS7 4cGA== X-Gm-Message-State: AOJu0YwfEd3zUN4IoSeUbVQ1TWualzhZfk3cOW9G6rPxjoq9MRKYxLlR Fg/Hn+Us6ELheUgLxYY3c+FRnfiEKadNc8cqRGClxC3oj3PHSerTAADC7KJM/MQnkV4CkomYPay j796lxq0ZRRmh7seH3xKgdgBmkqxjdPO9 X-Gm-Gg: ASbGncvGMtGwvuFVsWINLvlwGgHsvo7Kfze1VJ/bAygAt/bl0BuNm9RLvwGooLzRMGK WWfQFbTNCRNhuAS/Gha7hQF3Uvk3FQB+ehuvL6XUW3T6XJ+UhfRjP9zNjiZdbsFJGH1OsfR2/8V QJuHr8X/HyDpxHeXVckrmUK0lgT8X65JuaNu7nEwKQ3HM1jX2tB44ePdzTCBMDj0ZKfZOas5Xlg w8fqG3gCLYzZxJPtNSpi3Hd5QYA9KyCkWgo7ZmA33/csbcW4GhczZ8lXRNmysOTFOGL2a6NzihT vrFY173LlDIMtBRQqnRKCkLzviEHhw== X-Google-Smtp-Source: AGHT+IFqGO3TLOhKk0ZguFkFwrLMuJ8eQy90ixCuXRwa/sWDBvwSY8+37AVueXFXUkWMRkKRO6GXqhRu/66G X-Received: by 2002:a05:6e02:2608:b0:3ce:856b:e451 with SMTP id e9e14a558f8ab-3cffe396c69mr135733285ab.5.1738401376184; Sat, 01 Feb 2025 01:16:16 -0800 (PST) Received: from postal.iol.unh.edu (postal.iol.unh.edu. [132.177.123.84]) by smtp-relay.gmail.com with ESMTPS id e9e14a558f8ab-3d00a5ec47asm3484995ab.54.2025.02.01.01.16.16 (version=TLS1_2 cipher=ECDHE-ECDSA-AES128-GCM-SHA256 bits=128/128); Sat, 01 Feb 2025 01:16:16 -0800 (PST) X-Relaying-Domain: iol.unh.edu Date: Sat, 01 Feb 2025 01:16:16 -0800 (PST) Message-ID: <679de660.920a0220.71099.208dSMTPIN_ADDED_MISSING@mx.google.com> Received: from [172.21.0.6] (unknown [172.18.0.240]) by postal.iol.unh.edu (Postfix) with ESMTP id BD75E6052471; Sat, 1 Feb 2025 04:16:15 -0500 (EST) Subject: |SUCCESS| [GIT MASTER] 7ce7d3341d7e21c2a81f2fea8e451681d7306d77 From: dpdklab@iol.unh.edu To: Test Report Cc: dpdk-test-reports@iol.unh.edu, Xueming Li , Christian Ehrhardt , Kevin Traynor , Luca Boccassi Content-Type: text/plain X-BeenThere: test-report@dpdk.org X-Mailman-Version: 2.1.29 Precedence: list List-Id: automatic DPDK test reports List-Unsubscribe: , List-Archive: List-Post: List-Help: List-Subscribe: , Errors-To: test-report-bounces@dpdk.org _Testing PASS_ Branch: tags/v22.11 7ce7d3341d7e21c2a81f2fea8e451681d7306d77 --> testing pass Upstream job id: ACVP-FIPS-testing#8752 Test environment and result as below: +--------------------+----------------------+----------------------+ | Environment | compressdev_zlib_pmd | dpdk_fips_validation | +====================+======================+======================+ | Ubuntu 22.04 (ARM) | PASS | SKIPPED | +--------------------+----------------------+----------------------+ | Ubuntu 22.04 | PASS | SKIPPED | +--------------------+----------------------+----------------------+ | Ubuntu 20.04 | SKIPPED | PASS | +--------------------+----------------------+----------------------+ Ubuntu 22.04 (ARM) Kernel: 5.15.0-97-generic Compiler: gcc gcc (Ubuntu 11.4.0-1ubuntu1~22.04) 11.4.0 Ubuntu 22.04 Kernel: 5.15.0-100-generic Compiler: gcc gcc (Ubuntu 11.4.0-1ubuntu1~22.04) 11.4.0 Ubuntu 20.04 Kernel: Depends on container host Compiler: gcc (Ubuntu 9.4.0-1ubuntu1~20.04.2) 9.4.0 To view detailed results, visit: https://lab.dpdk.org/results/dashboard/tarballs/32413/ UNH-IOL DPDK Community Lab To manage your email subscriptions, visit: https://lab.dpdk.org/results/dashboard/preferences/subscriptions/