From mboxrd@z Thu Jan 1 00:00:00 1970 Return-Path: Received: from mails.dpdk.org (mails.dpdk.org [217.70.189.124]) by inbox.dpdk.org (Postfix) with ESMTP id C8A3146162 for ; Sat, 1 Feb 2025 10:24:45 +0100 (CET) Received: from mails.dpdk.org (localhost [127.0.0.1]) by mails.dpdk.org (Postfix) with ESMTP id B39A64026B; Sat, 1 Feb 2025 10:24:45 +0100 (CET) Received: from mail-il1-f228.google.com (mail-il1-f228.google.com [209.85.166.228]) by mails.dpdk.org (Postfix) with ESMTP id 57E0440264 for ; Sat, 1 Feb 2025 10:24:44 +0100 (CET) Received: by mail-il1-f228.google.com with SMTP id e9e14a558f8ab-3cfae81ab24so8476835ab.3 for ; Sat, 01 Feb 2025 01:24:44 -0800 (PST) DKIM-Signature: v=1; a=rsa-sha256; c=relaxed/relaxed; d=iol.unh.edu; s=unh-iol; t=1738401883; x=1739006683; darn=dpdk.org; h=cc:to:from:subject:message-id:date:from:to:cc:subject:date :message-id:reply-to; bh=+SBauw2FxQssxaaQWHW+nOqS5hBc5HIPi5Gewin1hvw=; b=MpQI+BRexaTAn4q92CddOMemQZQPHrZiYy9r9pmjtb+s2cmnAZu69/xZ2OtZK8q3Gp FCfvf7MVFaTpt2O48ttTkQQSD/7YccQw8MsN3FuTeqm+AZKWWLq0RdocP3DKJXVoVeZC NJRDAhKZ/lcy0TXlEzfBENvBVdZ3T9r+n9ztU= X-Google-DKIM-Signature: v=1; a=rsa-sha256; c=relaxed/relaxed; d=1e100.net; s=20230601; t=1738401883; x=1739006683; h=cc:to:from:subject:message-id:date:x-gm-message-state:from:to:cc :subject:date:message-id:reply-to; bh=+SBauw2FxQssxaaQWHW+nOqS5hBc5HIPi5Gewin1hvw=; b=G1JXzxGGyaCPuvKx4WOsRlVY0p3vY7GOh8s/DfUxGJHeTSFx1FKL0odSengparWKw/ nt+T7sCn3AFXDPCmZ8MhuKqAdRAwjnrsqgYhAm2P0mQrSuAGEfKkeoOqro4XQDuM58vr wvMVpPQ/sCozjG17P8z6S23zMpsprr4+RQ12AU8BIpYr41HqfOe+xmRCyeX21Wk+if7T xuplP7WmrEn+jLaMoj3vf/GY2ZCva8zkUKozGZ1l2wiwH7jjSltNwWZVGyEc2XD2A8ih 2kHJFVD80IqOshnURqSRQ2nUkMKLL5i5xl8aeGXsYSpxn8zEVVi2IJAN80C5ax77oKot BtYw== X-Gm-Message-State: AOJu0YxEWpCGdqepvOOnbfUFTdTHwjnBr+du7CaxP4D4aQ806CZzj2eK JTI4RvN4HHa+yM4tfxentP567L1Fg1poTdHBbARa9zPHtrs3txtg88e935Vtmqj13y5Z3vEJsm0 NX37pPRuZC/3HDLsyTiTdi5brMCva7gwmcQJzwtN2ByzOIOSM X-Gm-Gg: ASbGnctS6NETEP9RdIlifMkudLdhmWwrx0wEFVghvAVJHSfpkhR3pLW7/9v2HjUNdSo fzM/yAy98WFnpTbX7s5ozxJ+g1T7oCMU3t3JWEeDRljuloxpxSdJLTybg/dHBsw8oh9HwgZO6sS T84ryo746twFQFezmh7GjNbOG6czNKKrzc0qpNmdGjqGi+PGcS/zbDaK52QCjS5tIuJB9DHVUdY XEplvJF9DPgIq/4MKkchQprXW5eLEUeE9ugkNWmdPtX9oIq/swYeqhgIpVEUrNegtm32rcb+EXF eu0wV09Hmab/R1ehf/iayCNn1LdX35Z1UfV98/vp+A== X-Google-Smtp-Source: AGHT+IG3Px9U30xwMrfOteeX81thOysrBgLK5mqCCAJl9hpUCoWTDW3utSjfRLxpVaCwF7QRuLHAvtOTjXAG X-Received: by 2002:a05:6e02:168d:b0:3cf:c9b9:3eb with SMTP id e9e14a558f8ab-3cffe29107dmr119435445ab.0.1738401883677; Sat, 01 Feb 2025 01:24:43 -0800 (PST) Received: from postal.iol.unh.edu (postal.iol.unh.edu. [2606:4100:3880:1234::84]) by smtp-relay.gmail.com with ESMTPS id 8926c6da1cb9f-4ec745b750dsm320966173.24.2025.02.01.01.24.43 (version=TLS1_2 cipher=ECDHE-ECDSA-AES128-GCM-SHA256 bits=128/128); Sat, 01 Feb 2025 01:24:43 -0800 (PST) X-Relaying-Domain: iol.unh.edu Date: Sat, 01 Feb 2025 01:24:43 -0800 (PST) Message-ID: <679de85b.050a0220.221f8e.1d60SMTPIN_ADDED_MISSING@mx.google.com> Received: from [172.21.0.5] (unknown [172.18.0.240]) by postal.iol.unh.edu (Postfix) with ESMTP id 272DC6052471; Sat, 1 Feb 2025 04:24:43 -0500 (EST) Subject: |WARNING| [GIT MASTER] f2eea2f37a82bb73fb01d56350708f7d70e21379 From: dpdklab@iol.unh.edu To: Test Report Cc: dpdk-test-reports@iol.unh.edu, Xueming Li , Christian Ehrhardt , Kevin Traynor , Luca Boccassi Content-Type: text/plain X-BeenThere: test-report@dpdk.org X-Mailman-Version: 2.1.29 Precedence: list List-Id: automatic DPDK test reports List-Unsubscribe: , List-Archive: List-Post: List-Help: List-Subscribe: , Errors-To: test-report-bounces@dpdk.org _Testing issues_ Branch: tags/v24.11 f2eea2f37a82bb73fb01d56350708f7d70e21379 --> testing issues Upstream job id: Generic-DPDK-Compile-Meson#357025 Test environment and result as below: +---------------------+--------------------+------------------+-------------------+-------------------+----------------------+ | Environment | dpdk_meson_compile | dpdk_compile_ovs | dpdk_compile_spdk | dpdk_msvc_compile | dpdk_mingw64_compile | +=====================+====================+==================+===================+===================+======================+ | CentOS Stream 9 | PASS | PASS | PASS | SKIPPED | SKIPPED | +---------------------+--------------------+------------------+-------------------+-------------------+----------------------+ | Debian Bullseye | PASS | PASS | PASS | SKIPPED | SKIPPED | +---------------------+--------------------+------------------+-------------------+-------------------+----------------------+ | Fedora 40 (Clang) | PASS | PASS | PASS | SKIPPED | SKIPPED | +---------------------+--------------------+------------------+-------------------+-------------------+----------------------+ | Fedora 40 | PASS | PASS | PASS | SKIPPED | SKIPPED | +---------------------+--------------------+------------------+-------------------+-------------------+----------------------+ | Debian 12 | PASS | PASS | PASS | SKIPPED | SKIPPED | +---------------------+--------------------+------------------+-------------------+-------------------+----------------------+ | Fedora 41 (Clang) | PASS | PASS | PASS | SKIPPED | SKIPPED | +---------------------+--------------------+------------------+-------------------+-------------------+----------------------+ | Fedora 41 | PASS | PASS | PASS | SKIPPED | SKIPPED | +---------------------+--------------------+------------------+-------------------+-------------------+----------------------+ | RHEL8 | PASS | PASS | SKIPPED | SKIPPED | SKIPPED | +---------------------+--------------------+------------------+-------------------+-------------------+----------------------+ | Ubuntu 20.04 | PASS | WARN | SKIPPED | SKIPPED | SKIPPED | +---------------------+--------------------+------------------+-------------------+-------------------+----------------------+ | Ubuntu 24.04 | PASS | PASS | PASS | SKIPPED | SKIPPED | +---------------------+--------------------+------------------+-------------------+-------------------+----------------------+ | RHEL9 | PASS | PASS | SKIPPED | SKIPPED | SKIPPED | +---------------------+--------------------+------------------+-------------------+-------------------+----------------------+ | Alpine | PASS | PASS | SKIPPED | SKIPPED | SKIPPED | +---------------------+--------------------+------------------+-------------------+-------------------+----------------------+ | Ubuntu 22.04 | PASS | PASS | PASS | SKIPPED | SKIPPED | +---------------------+--------------------+------------------+-------------------+-------------------+----------------------+ | FreeBSD 13.4 | PASS | SKIPPED | SKIPPED | SKIPPED | SKIPPED | +---------------------+--------------------+------------------+-------------------+-------------------+----------------------+ | FreeBSD 14.2 | PASS | SKIPPED | SKIPPED | SKIPPED | SKIPPED | +---------------------+--------------------+------------------+-------------------+-------------------+----------------------+ | openSUSE Leap 15 | PASS | SKIPPED | SKIPPED | SKIPPED | SKIPPED | +---------------------+--------------------+------------------+-------------------+-------------------+----------------------+ | Windows Server 2022 | SKIPPED | SKIPPED | SKIPPED | PASS | PASS | +---------------------+--------------------+------------------+-------------------+-------------------+----------------------+ ==== 20 line log output for Ubuntu 20.04 (dpdk_compile_ovs): ==== --- Failed to get log output --- ==== End log output ==== CentOS Stream 9 Kernel: Depends on container host Compiler: gcc 11.5.0 20240719 (Red Hat 11.5.0-2) Debian Bullseye Kernel: Depends on container host Compiler: gcc (Debian 10.2.1-6) 10.2.1 20210110 Fedora 40 (Clang) Kernel: Depends on container host Compiler: clang 18.1.8 (Fedora 18.1.8-1.fc40) Fedora 40 Kernel: Depends on container host Compiler: gcc 14.2.1 20240912 (Red Hat 14.2.1-3) Debian 12 Kernel: Depends on container host Compiler: gcc (Debian 12.2.0-14) 12.2.0 Fedora 41 (Clang) Kernel: Depends on container host Compiler: clang 19.1.5 (Fedora 19.1.5-1.fc41) Fedora 41 Kernel: Depends on container host Compiler: gcc 14.2.1 20240912 (Red Hat 14.2.1-3) RHEL8 Kernel: Depends on container host Compiler: gcc 8.5.0 20210514 (Red Hat 8.5.0-22) Ubuntu 20.04 Kernel: Depends on container host Compiler: gcc (Ubuntu 9.4.0-1ubuntu1~20.04.2) 9.4.0 Ubuntu 24.04 Kernel: Depends on container host Compiler: gcc (Ubuntu 13.3.0-6ubuntu2~24.04) 13.3.0 RHEL9 Kernel: Depends on container host Compiler: gcc 11.5.0 20240719 (Red Hat 11.5.0-2) Alpine Kernel: Depends on container host Compiler: gcc (Alpine 14.2.0) 14.2.0 Ubuntu 22.04 Kernel: Depends on container host Compiler: gcc (Ubuntu 11.4.0-1ubuntu1~22.04) 11.4.0 FreeBSD 13.4 Kernel: 13.4-RELEASE-p1 Compiler: clang 18.1.6 FreeBSD 14.2 Kernel: 14.2-RELEASE Compiler: clang 18.1.6 openSUSE Leap 15 Kernel: Depends on container host Compiler: gcc (SUSE Linux) 7.5.0 Windows Server 2022 Kernel: 10.0.20348.2031 Compiler: clang 15.0.7, gcc 14.1.0 (MinGW), and MSVC VS 19.39.33521 To view detailed results, visit: https://lab.dpdk.org/results/dashboard/tarballs/32412/ UNH-IOL DPDK Community Lab To manage your email subscriptions, visit: https://lab.dpdk.org/results/dashboard/preferences/subscriptions/