From mboxrd@z Thu Jan 1 00:00:00 1970 Return-Path: Received: from mails.dpdk.org (mails.dpdk.org [217.70.189.124]) by inbox.dpdk.org (Postfix) with ESMTP id 29DE546162 for ; Sat, 1 Feb 2025 10:47:36 +0100 (CET) Received: from mails.dpdk.org (localhost [127.0.0.1]) by mails.dpdk.org (Postfix) with ESMTP id 02EDD4026B; Sat, 1 Feb 2025 10:47:36 +0100 (CET) Received: from mail-io1-f98.google.com (mail-io1-f98.google.com [209.85.166.98]) by mails.dpdk.org (Postfix) with ESMTP id 0F39D40264 for ; Sat, 1 Feb 2025 10:47:34 +0100 (CET) Received: by mail-io1-f98.google.com with SMTP id ca18e2360f4ac-84a012f7232so105620639f.0 for ; Sat, 01 Feb 2025 01:47:33 -0800 (PST) DKIM-Signature: v=1; a=rsa-sha256; c=relaxed/relaxed; d=iol.unh.edu; s=unh-iol; t=1738403253; x=1739008053; darn=dpdk.org; h=cc:to:from:subject:message-id:date:from:to:cc:subject:date :message-id:reply-to; bh=miDegzo9VCfxPIcN0XkJ8G6JE8KMjEndERGQGskRbZY=; b=ahs9fsg7on5lodgL7EVqm9xrtIDyUzxR8WHkpnfH5d1IbaTW5Y9PXVcUBduk8/6Jk/ ctXEMXCwKPyd9UnBQEbcokLshncq5sT77GDy2pSQmKErx1W6SpTr+B6JK/gh3jSRsXca fZoaVfvUSyIHH2HAL1B25ETvcgcQMbWizZRcQ= X-Google-DKIM-Signature: v=1; a=rsa-sha256; c=relaxed/relaxed; d=1e100.net; s=20230601; t=1738403253; x=1739008053; h=cc:to:from:subject:message-id:date:x-gm-message-state:from:to:cc :subject:date:message-id:reply-to; bh=miDegzo9VCfxPIcN0XkJ8G6JE8KMjEndERGQGskRbZY=; b=JuibnPkFpkEg28963Sk5+ct5baq3Ynct6b0Dal/VU5G/RwbwDNolKTHx/yeE/HQEl6 CD6UqL86ozHYBQrDtK7SRAOHXrCCZZ3tAlxqfNv036DazgkpwL4ekLTk1tsKLFTAvw7R a1+Ut2xe2kJKf75WF6M+ONX5CCMhYYu41FYKbtO5/u7PjTwjROATtbA4EaE0Q4ZbWqe3 tAw/QrTYI2MEe+Fy5fUAlFLFOZZkkh9kTmFint1ESiSD8DEG8mxZWYxVHAd6WEZQUtpY 7KhjlZN3UWu2J9/KHtYSX4lO5YJaYghMNK/UXKs0wEtyY615U9RHCIyFYI82q3WuR33o +FWQ== X-Gm-Message-State: AOJu0YzI0DswdoJbRybRqcsHvaRT3+fO5dD9LqlsrINd1bm+3lxdUOu/ jQKY5JEAenBGSO8OBDQLuTo90M3pYcEMMPfHcEyITE8Qmbdbf/88QYXlAjGRX8mIi+L//Ns3Orq tQuWv08TdnLgTlI+XjPEBuf5gxIOZvp28 X-Gm-Gg: ASbGncs9apoWd96DlG3Tkhs4OrJ+3TEJvC3QErjzYBdGGXQMHO/dzwvrRG6n1GK6eFU rZAxhI71jCUzCqFko7HKhi5n0RWyiIKCVuN/d9LQirb0dYpl5WBdhVkwep7gp1Vq2hLVDmy1Tu/ 5vC2Sp4igxVCvKYcyCX6Am6KxdL7F6YkxWTH28g0TmPNX2QZohnfvKjv6KwFNsdokLLQJfyaj0W s/+icQpO7xEcqQPIMIemIILBbJX7ae6VJuOYtc33WHVbYKSu9jCDTtlZ9sOIk5hmYU4ocIJ37if k7ImCfLGeYrjLB5A0VNdpRuXtHXhqw== X-Google-Smtp-Source: AGHT+IGo0K1Lgf9cKo+jTS6JFzslPdNfMzEauE9glmgnMwdrWmQU5WQxnyucdqT9Fto3SFe0dd7jf7q3o/No X-Received: by 2002:a5d:8401:0:b0:835:39a8:e201 with SMTP id ca18e2360f4ac-854ac0a13f0mr507700339f.0.1738403253228; Sat, 01 Feb 2025 01:47:33 -0800 (PST) Received: from postal.iol.unh.edu (postal.iol.unh.edu. [132.177.123.84]) by smtp-relay.gmail.com with ESMTPS id 8926c6da1cb9f-4ec7459172dsm306752173.14.2025.02.01.01.47.33 (version=TLS1_2 cipher=ECDHE-ECDSA-AES128-GCM-SHA256 bits=128/128); Sat, 01 Feb 2025 01:47:33 -0800 (PST) X-Relaying-Domain: iol.unh.edu Date: Sat, 01 Feb 2025 01:47:33 -0800 (PST) Message-ID: <679dedb5.050a0220.1cf268.055aSMTPIN_ADDED_MISSING@mx.google.com> Received: from [172.17.0.4] (unknown [172.18.0.217]) by postal.iol.unh.edu (Postfix) with ESMTP id AD49F6052471; Sat, 1 Feb 2025 04:47:32 -0500 (EST) Subject: |SUCCESS| [GIT MASTER] c66daa12e76d7b4912cfb7109a761856a7a873ab From: dpdklab@iol.unh.edu To: Test Report Cc: dpdk-test-reports@iol.unh.edu, Xueming Li , Christian Ehrhardt , Kevin Traynor , Luca Boccassi Content-Type: text/plain X-BeenThere: test-report@dpdk.org X-Mailman-Version: 2.1.29 Precedence: list List-Id: automatic DPDK test reports List-Unsubscribe: , List-Archive: List-Post: List-Help: List-Subscribe: , Errors-To: test-report-bounces@dpdk.org _Testing PASS_ Branch: tags/v23.11 c66daa12e76d7b4912cfb7109a761856a7a873ab --> testing pass Upstream job id: ACVP-FIPS-testing#8753 Test environment and result as below: +--------------------+----------------------+----------------------+ | Environment | compressdev_zlib_pmd | dpdk_fips_validation | +====================+======================+======================+ | Ubuntu 22.04 (ARM) | PASS | SKIPPED | +--------------------+----------------------+----------------------+ | Ubuntu 22.04 | PASS | SKIPPED | +--------------------+----------------------+----------------------+ | Ubuntu 20.04 | SKIPPED | PASS | +--------------------+----------------------+----------------------+ Ubuntu 22.04 (ARM) Kernel: 5.15.0-97-generic Compiler: gcc gcc (Ubuntu 11.4.0-1ubuntu1~22.04) 11.4.0 Ubuntu 22.04 Kernel: 5.15.0-100-generic Compiler: gcc gcc (Ubuntu 11.4.0-1ubuntu1~22.04) 11.4.0 Ubuntu 20.04 Kernel: Depends on container host Compiler: gcc (Ubuntu 9.4.0-1ubuntu1~20.04.2) 9.4.0 To view detailed results, visit: https://lab.dpdk.org/results/dashboard/tarballs/32414/ UNH-IOL DPDK Community Lab To manage your email subscriptions, visit: https://lab.dpdk.org/results/dashboard/preferences/subscriptions/