From mboxrd@z Thu Jan 1 00:00:00 1970 Return-Path: Received: from mails.dpdk.org (mails.dpdk.org [217.70.189.124]) by inbox.dpdk.org (Postfix) with ESMTP id 620C646162 for ; Sat, 1 Feb 2025 11:14:12 +0100 (CET) Received: from mails.dpdk.org (localhost [127.0.0.1]) by mails.dpdk.org (Postfix) with ESMTP id 4FEEF4026B; Sat, 1 Feb 2025 11:14:12 +0100 (CET) Received: from mail-io1-f99.google.com (mail-io1-f99.google.com [209.85.166.99]) by mails.dpdk.org (Postfix) with ESMTP id 70C5040264 for ; Sat, 1 Feb 2025 11:14:11 +0100 (CET) Received: by mail-io1-f99.google.com with SMTP id ca18e2360f4ac-844e394395aso74129839f.3 for ; Sat, 01 Feb 2025 02:14:11 -0800 (PST) DKIM-Signature: v=1; a=rsa-sha256; c=relaxed/relaxed; d=iol.unh.edu; s=unh-iol; t=1738404850; x=1739009650; darn=dpdk.org; h=cc:to:from:subject:message-id:date:from:to:cc:subject:date :message-id:reply-to; bh=XEuvLWLmabI/eNfnAqLHPHeF1WD+0s/0CpC9viVKBSk=; b=V5OgwCKT3bWovr8vefgV2ZT5bhtYJB+WgngWe+/PWcgAYOLkaQZ8MhzTn6BM//LoK2 EWRq0tcEOr0bBWy0uFn716YtAcmShCRGfyUdnubMDN3fUvKkhm8JC26UduVjwsi0Tbv+ CqjT1bdDopdJAD0PWCGJElD9ZUn1D0ws5bNZE= X-Google-DKIM-Signature: v=1; a=rsa-sha256; c=relaxed/relaxed; d=1e100.net; s=20230601; t=1738404850; x=1739009650; h=cc:to:from:subject:message-id:date:x-gm-message-state:from:to:cc :subject:date:message-id:reply-to; bh=XEuvLWLmabI/eNfnAqLHPHeF1WD+0s/0CpC9viVKBSk=; b=r7zi4ZzgRJZcUiR4zKG4qsc2VEyrEQwCMMxmxl0FsTyGjZs90PwgmcKfhBOgP+TvAz B1LCLSndn6bcCKpIdw/IHpK4srtPTzRkYGr7OfBtszzPIi732aLhB3QRdMGHn65TWq9U QoJtVxPHbX71D4gqB6aK6ZECgEi/JSI3Mq3xtq7fLErlNEy6UXSd6bJAFWjGjVqig0zE H+bEf68/DXoMbz+eHZiljQTkj0gdW99QZmSme8MSBQqxQAtgaCkNdQ15NGKXLyGJyrwX kaxrtyV0dlfOAO2h/FGZoPb+ApVh1nttixDPwzXzVD8/mBJK63MxRUQEW0oqCmTh/H2D mM9w== X-Gm-Message-State: AOJu0YxmCad8vENH3j16ZvGhZ6wrxFy5D3eV//Sz7pOi2Ug3eM3brs5/ VNq/98JNnb20iR2yJ7gALsqZxkNKA/F4FOM9XCIcK0F/a3z4XBfM8BgJoIHg0MVncaz5S8WJNYB eKvOWQEeYdi5LS8lgL98F9qBCNLplFOsXSBymjBXvuHD9gkRq X-Gm-Gg: ASbGnct10qDjDBTGdtlVp1aRYHKjskBvhRrMkd7o8s0KsP8z8hk6K4i06CFBGN+a5Lc EG6l90HvOEH5DvjwcQTzt/NSZ1zEPu/eY36Fco0nXYFJrs/j/JcaL1/b+b4TXgYMIwsKvXcktMh tapP9ElmoH6t2FwnZBaB3X6tZ1ZlWEbhefKESPSsKfsLxjYdPG4QcV1gGHWD8i7KyCi3wsM7HzC Y1liRhHyHyGBUe1qesi5jiOS0S28O9HN9fpDUhRIc07xY41rdv5IKsMif9+U543tbGaNApmnyY4 W8TjPZbrZUsi8awdK5STA6gSfVakgrcgaboN83V6HQ== X-Google-Smtp-Source: AGHT+IFLkAG2bFBYkBdLiQgvXEIYcFXPvU0IEJgN0siMe1h17oB8+jOEGQPIuQKxgyZSRu65IKZHBgRESUPk X-Received: by 2002:a05:6602:400a:b0:843:e667:f196 with SMTP id ca18e2360f4ac-85427e04ebemr1778690239f.4.1738404849629; Sat, 01 Feb 2025 02:14:09 -0800 (PST) Received: from postal.iol.unh.edu (postal.iol.unh.edu. [2606:4100:3880:1234::84]) by smtp-relay.gmail.com with ESMTPS id ca18e2360f4ac-854a15b9b2esm31205139f.2.2025.02.01.02.14.09 (version=TLS1_2 cipher=ECDHE-ECDSA-AES128-GCM-SHA256 bits=128/128); Sat, 01 Feb 2025 02:14:09 -0800 (PST) X-Relaying-Domain: iol.unh.edu Date: Sat, 01 Feb 2025 02:14:09 -0800 (PST) Message-ID: <679df3f1.050a0220.31b9ef.fafcSMTPIN_ADDED_MISSING@mx.google.com> Received: from [172.17.0.5] (unknown [172.18.0.217]) by postal.iol.unh.edu (Postfix) with ESMTP id 1C7546052471; Sat, 1 Feb 2025 05:14:09 -0500 (EST) Subject: |SUCCESS| [GIT MASTER] f2eea2f37a82bb73fb01d56350708f7d70e21379 From: dpdklab@iol.unh.edu To: Test Report Cc: dpdk-test-reports@iol.unh.edu, Xueming Li , Christian Ehrhardt , Kevin Traynor , Luca Boccassi Content-Type: text/plain X-BeenThere: test-report@dpdk.org X-Mailman-Version: 2.1.29 Precedence: list List-Id: automatic DPDK test reports List-Unsubscribe: , List-Archive: List-Post: List-Help: List-Subscribe: , Errors-To: test-report-bounces@dpdk.org _Testing PASS_ Branch: tags/v24.11 f2eea2f37a82bb73fb01d56350708f7d70e21379 --> testing pass Upstream job id: ACVP-FIPS-testing#8754 Test environment and result as below: +--------------------+----------------------+----------------------+ | Environment | compressdev_zlib_pmd | dpdk_fips_validation | +====================+======================+======================+ | Ubuntu 22.04 (ARM) | PASS | SKIPPED | +--------------------+----------------------+----------------------+ | Ubuntu 22.04 | PASS | SKIPPED | +--------------------+----------------------+----------------------+ | Ubuntu 20.04 | SKIPPED | PASS | +--------------------+----------------------+----------------------+ Ubuntu 22.04 (ARM) Kernel: 5.15.0-97-generic Compiler: gcc gcc (Ubuntu 11.4.0-1ubuntu1~22.04) 11.4.0 Ubuntu 22.04 Kernel: 5.15.0-100-generic Compiler: gcc gcc (Ubuntu 11.4.0-1ubuntu1~22.04) 11.4.0 Ubuntu 20.04 Kernel: Depends on container host Compiler: gcc (Ubuntu 9.4.0-1ubuntu1~20.04.2) 9.4.0 To view detailed results, visit: https://lab.dpdk.org/results/dashboard/tarballs/32412/ UNH-IOL DPDK Community Lab To manage your email subscriptions, visit: https://lab.dpdk.org/results/dashboard/preferences/subscriptions/