From mboxrd@z Thu Jan 1 00:00:00 1970 Return-Path: Received: from mails.dpdk.org (mails.dpdk.org [217.70.189.124]) by inbox.dpdk.org (Postfix) with ESMTP id 5B04946162 for ; Sat, 1 Feb 2025 11:24:22 +0100 (CET) Received: from mails.dpdk.org (localhost [127.0.0.1]) by mails.dpdk.org (Postfix) with ESMTP id 4ABF44026B; Sat, 1 Feb 2025 11:24:22 +0100 (CET) Received: from mail-il1-f225.google.com (mail-il1-f225.google.com [209.85.166.225]) by mails.dpdk.org (Postfix) with ESMTP id D464640264 for ; Sat, 1 Feb 2025 11:24:20 +0100 (CET) Received: by mail-il1-f225.google.com with SMTP id e9e14a558f8ab-3a9c9f2a569so19397405ab.0 for ; Sat, 01 Feb 2025 02:24:20 -0800 (PST) DKIM-Signature: v=1; a=rsa-sha256; c=relaxed/relaxed; d=iol.unh.edu; s=unh-iol; t=1738405460; x=1739010260; darn=dpdk.org; h=cc:to:from:subject:message-id:date:from:to:cc:subject:date :message-id:reply-to; bh=99UlbCF4PM7T6KyoDDaOIWHboI5PIiVtg0QKIcJqbdM=; b=dqwPHaLquKaHWkBB0KwwmnReUBtdfe7XwwERZcDdHgfPRAkTLVmeSJylakVlErdxcA 6SIEnd76ttR1bQQ/3gEyf3SwEHX9cBWCi06/8Rsn8SBm6wTWe/UdnwL/44nQwabDRn1R P4JBBUsUQrZhlN2lRrGhK8Pac0YmqUloQ8Mjw= X-Google-DKIM-Signature: v=1; a=rsa-sha256; c=relaxed/relaxed; d=1e100.net; s=20230601; t=1738405460; x=1739010260; h=cc:to:from:subject:message-id:date:x-gm-message-state:from:to:cc :subject:date:message-id:reply-to; bh=99UlbCF4PM7T6KyoDDaOIWHboI5PIiVtg0QKIcJqbdM=; b=ELF+3kBSudtCLdRRYAofk9rSRjqik2qgIQ3HwQPg1aE8AswIEvjCtvrZ+zwBxTqkEx eqdZ4vl+e1mOJUbZbxNxzBapUyJwX/gjd+zK/buCJO18jDGAec48R0Bz4gXls7qbJEAU MwTwnujqIzH/nBslGWj4XS8wPUKAKifJ/l1Bq96linGHR1Yt/HGJXgoYKva2QlY6D/af dln8m+DETKiZXXAbfWjahQ3AuI7mqSBb1isE93ELbS/4V6cDKfakqmhEa85JNVqRQ6V5 XPObfyofid48Mmo0+Rq2mwomfyDEJrRNvnpSZ2rSiNF5Wkp8PF13V7ci6v+BIj7eoVoe FQ/w== X-Gm-Message-State: AOJu0YzGeVmzObq5Sp81GtNUnadkAhFxYfV/iRSO/B4bmzgAHhOReCch NXjqQH9BbX7pYjQbtv/DTGMyNM2/wBVGKXkf1O1s63WiRLLw101BsZeZGlLm4rZW1VcpB759o6T Gu/+Mf2qdv4byO/GPVKg9Khz5dvYquzh2mQfJ+Npx X-Gm-Gg: ASbGnct3Enr5o7eILRDW0YsMONnJqLCTJg6ZS1wEonA329RNr8siEfqJBeu/IMjWO4w BeulYijvrLVDA+uA3TX4drCl+I9/M06xF4nErK/Wxf01F6JPBcsJ9SWAH6R6w0d8QUt0QNogl80 ozWWDORmv6bDq9p7ceY4G1orXz595JKTTIxCLKWHe6DkW20a8F+Gb26OXafClRqIlwb0NjFHDoM 2Z1s866S0JEGox7XDtFhm+uJ2Jh0ta6P6JZEg8WC5/XR1tsKlZJD4+MIJoUWMDPcRcXAMqT6ouJ 0fCgoMIoocF5y5SRh0k/WsBMey6uUw== X-Google-Smtp-Source: AGHT+IGEotajCMlZyeCvc/lzXQVFIC5ylCbGSWdaV6NkdYancleQmbwoqxPkGKS0qHAfhxAj+atUVfO3zGZD X-Received: by 2002:a92:c24b:0:b0:3cf:cdb8:78fb with SMTP id e9e14a558f8ab-3cffe467a94mr119942895ab.16.1738405460126; Sat, 01 Feb 2025 02:24:20 -0800 (PST) Received: from postal.iol.unh.edu (postal.iol.unh.edu. [132.177.123.84]) by smtp-relay.gmail.com with ESMTPS id e9e14a558f8ab-3d00a604d7esm3704205ab.63.2025.02.01.02.24.20 (version=TLS1_2 cipher=ECDHE-ECDSA-AES128-GCM-SHA256 bits=128/128); Sat, 01 Feb 2025 02:24:20 -0800 (PST) X-Relaying-Domain: iol.unh.edu Date: Sat, 01 Feb 2025 02:24:20 -0800 (PST) Message-ID: <679df654.920a0220.77bd8.3118SMTPIN_ADDED_MISSING@mx.google.com> Received: from [172.17.0.4] (unknown [172.18.0.217]) by postal.iol.unh.edu (Postfix) with ESMTP id 883756052471; Sat, 1 Feb 2025 05:24:19 -0500 (EST) Subject: |SUCCESS| [GIT MASTER] e290f8c00e068f06a37fbea251dfff2c78cb2aae From: dpdklab@iol.unh.edu To: Test Report Cc: dpdk-test-reports@iol.unh.edu, Stephen Hemminger Content-Type: text/plain X-BeenThere: test-report@dpdk.org X-Mailman-Version: 2.1.29 Precedence: list List-Id: automatic DPDK test reports List-Unsubscribe: , List-Archive: List-Post: List-Help: List-Subscribe: , Errors-To: test-report-bounces@dpdk.org _Testing PASS_ Branch: dpdk-next-net e290f8c00e068f06a37fbea251dfff2c78cb2aae --> testing pass Upstream job id: Generic-Unit-Test-DPDK#310972 Test environment and result as below: +-----------------------------+----------------+--------------+------------------------------+---------------------------+ | Environment | dpdk_unit_test | lpm_autotest | cryptodev_sw_snow3g_autotest | cryptodev_sw_zuc_autotest | +=============================+================+==============+==============================+===========================+ | Fedora 40 (ARM) | PASS | SKIPPED | SKIPPED | SKIPPED | +-----------------------------+----------------+--------------+------------------------------+---------------------------+ | CentOS Stream 9 (ARM) | PASS | SKIPPED | SKIPPED | SKIPPED | +-----------------------------+----------------+--------------+------------------------------+---------------------------+ | Debian 11 (Buster) (ARM) | PASS | SKIPPED | SKIPPED | SKIPPED | +-----------------------------+----------------+--------------+------------------------------+---------------------------+ | 32-bit Ubuntu 22.04.4 (ARM) | PASS | SKIPPED | SKIPPED | SKIPPED | +-----------------------------+----------------+--------------+------------------------------+---------------------------+ | Debian 12 (arm) | PASS | SKIPPED | PASS | PASS | +-----------------------------+----------------+--------------+------------------------------+---------------------------+ | Fedora 40 (ARM Clang) | PASS | SKIPPED | SKIPPED | SKIPPED | +-----------------------------+----------------+--------------+------------------------------+---------------------------+ | Fedora 41 (ARM Clang) | PASS | SKIPPED | SKIPPED | SKIPPED | +-----------------------------+----------------+--------------+------------------------------+---------------------------+ | Fedora 41 (ARM) | PASS | SKIPPED | SKIPPED | SKIPPED | +-----------------------------+----------------+--------------+------------------------------+---------------------------+ | RHEL9 (ARM) | PASS | SKIPPED | SKIPPED | SKIPPED | +-----------------------------+----------------+--------------+------------------------------+---------------------------+ | Ubuntu 24.04 (ARM) | PASS | SKIPPED | SKIPPED | SKIPPED | +-----------------------------+----------------+--------------+------------------------------+---------------------------+ | Ubuntu 20.04 (ARM) | PASS | SKIPPED | SKIPPED | SKIPPED | +-----------------------------+----------------+--------------+------------------------------+---------------------------+ | Ubuntu 22.04 (ARM) | PASS | SKIPPED | SKIPPED | SKIPPED | +-----------------------------+----------------+--------------+------------------------------+---------------------------+ | Ubuntu 20.04 ARM SVE | SKIPPED | PASS | SKIPPED | SKIPPED | +-----------------------------+----------------+--------------+------------------------------+---------------------------+ Fedora 40 (ARM) Kernel: Depends on container host Compiler: gcc 14.2.1 20240912 (Red Hat 14.2.1-3) CentOS Stream 9 (ARM) Kernel: Depends on container host Compiler: gcc 11.5.0 20240719 (Red Hat 11.5.0-2) Debian 11 (Buster) (ARM) Kernel: Depends on container host Compiler: gcc (Debian 10.2.1-6) 10.2.1 20210110 32-bit Ubuntu 22.04.4 (ARM) Kernel: 5.15.83+ aarch64 Compiler: gcc (Ubuntu 11.4.0-1ubuntu1~22.04) 11.4.0 Debian 12 (arm) Kernel: Depends on container host Compiler: gcc (Debian 12.2.0-14) 12.2.0 Fedora 40 (ARM Clang) Kernel: Depends on container host Compiler: clang 18.1.8 (Fedora 18.1.8-1.fc40) Fedora 41 (ARM Clang) Kernel: Depends on container host Compiler: clang 19.1.5 (Fedora 19.1.5-1.fc41) Fedora 41 (ARM) Kernel: Depends on container host Compiler: gcc 14.2.1 20240912 (Red Hat 14.2.1-3) RHEL9 (ARM) Kernel: Depends on container host Compiler: gcc 11.5.0 20240719 (Red Hat 11.5.0-2) Ubuntu 24.04 (ARM) Kernel: Depends on container host Compiler: gcc (Ubuntu 13.3.0-6ubuntu2~24.04) 13.3.0 Ubuntu 20.04 (ARM) Kernel: Depends on container host Compiler: gcc (Ubuntu 9.4.0-1ubuntu1~20.04.2) 9.4.0 Ubuntu 22.04 (ARM) Kernel: Depends on container host Compiler: gcc (Ubuntu 11.4.0-1ubuntu1~22.04) 11.4.0 Ubuntu 20.04 ARM SVE Kernel: Depends on container host Compiler: gcc (Ubuntu 10.5.0-1ubuntu1~20.04) 10.5.0 To view detailed results, visit: https://lab.dpdk.org/results/dashboard/tarballs/32415/ UNH-IOL DPDK Community Lab To manage your email subscriptions, visit: https://lab.dpdk.org/results/dashboard/preferences/subscriptions/