From mboxrd@z Thu Jan 1 00:00:00 1970 Return-Path: Received: from mails.dpdk.org (mails.dpdk.org [217.70.189.124]) by inbox.dpdk.org (Postfix) with ESMTP id 0312046163 for ; Sat, 1 Feb 2025 12:40:11 +0100 (CET) Received: from mails.dpdk.org (localhost [127.0.0.1]) by mails.dpdk.org (Postfix) with ESMTP id C78A54026B; Sat, 1 Feb 2025 12:40:11 +0100 (CET) Received: from mail-io1-f100.google.com (mail-io1-f100.google.com [209.85.166.100]) by mails.dpdk.org (Postfix) with ESMTP id 160FF40264 for ; Sat, 1 Feb 2025 12:40:11 +0100 (CET) Received: by mail-io1-f100.google.com with SMTP id ca18e2360f4ac-844e39439abso73273739f.1 for ; Sat, 01 Feb 2025 03:40:10 -0800 (PST) DKIM-Signature: v=1; a=rsa-sha256; c=relaxed/relaxed; d=iol.unh.edu; s=unh-iol; t=1738410010; x=1739014810; darn=dpdk.org; h=references:in-reply-to:cc:to:from:subject:message-id:date:from:to :cc:subject:date:message-id:reply-to; bh=V3loRMHNi8z2zc1wtR+2ZmUguw8yvzRh71MJOClaVbA=; b=iEuEAyFcMVxs4dm/jGg3Zr5kzg0rVFHWLBtBfObHqfG9qUFrMmuKQeXYHoMOG11zJR nG7HzSYCiDtMpCdxhQdvzD5U7FZ73QXIRdIu1dy2GIlh/NfhkqbRbLMvlmPC+0GauQZI X1yRFyqcnFIHal0FkMXRml8F3LCvg4z2AaQqs= X-Google-DKIM-Signature: v=1; a=rsa-sha256; c=relaxed/relaxed; d=1e100.net; s=20230601; t=1738410010; x=1739014810; h=references:in-reply-to:cc:to:from:subject:message-id:date :x-gm-message-state:from:to:cc:subject:date:message-id:reply-to; bh=V3loRMHNi8z2zc1wtR+2ZmUguw8yvzRh71MJOClaVbA=; b=jlUm1u+nM4iRDSkTPt+AevWt5vUptkDzZy1AGB8yfFBKUSAOM9zuRZPaQ26l3UqOf+ A+5fI7yPZF3lgtAyhEcCaLhBGGDmiDUCwoFqxYGUJ/7eTpMFgMChnb6DWV66lfFOmrzZ TELQpMKq75raslOQCfp8rV3tSu91zPfCcZRuMpDHHLBYI8QKzNsPJqUFizh2zisg0D0s dODOso4Xz1AgZTMhwaAe2So11D2bO5NqPqDavqXxmbzXS7b5NOKZR4kYks5qmYh0GKci Qm/bNW4BYAvONN+fCO4CtsiMmoHh2haY19w8pIoOz+KddnUBuAUjXvfdXFeZNR2v4GkN yqtw== X-Gm-Message-State: AOJu0YxNe0LUXe00OPdq1RGxpEuuYtOxWvEQbQjCay3zZWc4FaSFH8zm uAq+Tc0ulSngl+qOAdphmDPpsV/QwjBI1OfXyUWQV3gPMAzCj3yZdo/B5cxo1HrAuR70Xf+BwMZ 3+kQPcWFLBT0DfopiZMSj2M2i2GBpSd8GQw3VEN+T X-Gm-Gg: ASbGncs1rVc3OI2m2VPn2I1COcH8QVF4ctOjhEuhi2tEv/K4bXByGcPxmYXkQ0xGjkG obaa6HbGYH1eOdpw3E4aS3fDsvV+lIi5H7LocLUMpHhnTBktw1iOhfbiIvUfFdWu4K+nNfoC1qK iOGNYNckPfrjMRowd7W8wf0+mDMjeZZW5rzAyZ2SDuaiNLe7OxaZ3PIrhsESZRMQN1lEiyF0Ldy SskWD0IQ1l+lnNzLMQdhCv6yIdZbSugvTBND/NyzJpY5PVvspeXQ0pLWyWCHU7Y+Infbv06h/lM qEsZJcfUoUX15IHl+TgHwJqrreTmgQ== X-Google-Smtp-Source: AGHT+IGnTZptJmgHIwX21gGkDtv5JFqBBd1ENKhqM+1juyMc+auH3Azws06qxipN/QKanDXDV/HuHDezm76J X-Received: by 2002:a05:6602:4811:b0:847:51e2:eac with SMTP id ca18e2360f4ac-85427d77118mr1477922139f.7.1738410010282; Sat, 01 Feb 2025 03:40:10 -0800 (PST) Received: from postal.iol.unh.edu (postal.iol.unh.edu. [132.177.123.84]) by smtp-relay.gmail.com with ESMTPS id ca18e2360f4ac-854a15b9b2esm31936439f.2.2025.02.01.03.40.10 (version=TLS1_2 cipher=ECDHE-ECDSA-AES128-GCM-SHA256 bits=128/128); Sat, 01 Feb 2025 03:40:10 -0800 (PST) X-Relaying-Domain: iol.unh.edu Date: Sat, 01 Feb 2025 03:40:10 -0800 (PST) Message-ID: <679e081a.050a0220.31b9ef.0025SMTPIN_ADDED_MISSING@mx.google.com> Received: from [172.21.0.5] (unknown [172.18.0.240]) by postal.iol.unh.edu (Postfix) with ESMTP id 0995F6052471; Sat, 1 Feb 2025 06:40:09 -0500 (EST) Subject: |SUCCESS| pw150765-150766 [PATCH] [v7,2/2] net/af_xdp: Refactor af_x From: dpdklab@iol.unh.edu To: Test Report Cc: dpdk-test-reports@iol.unh.edu In-Reply-To: <20250201100300.2194018-3-ariel.otilibili@6wind.com> References: <20250201100300.2194018-3-ariel.otilibili@6wind.com> Content-Type: text/plain X-BeenThere: test-report@dpdk.org X-Mailman-Version: 2.1.29 Precedence: list List-Id: automatic DPDK test reports List-Unsubscribe: , List-Archive: List-Post: List-Help: List-Subscribe: , Errors-To: test-report-bounces@dpdk.org Test-Label: iol-abi-testing Test-Status: SUCCESS http://dpdk.org/patch/150766 _Testing PASS_ Submitter: Ariel Otilibili Date: Saturday, February 01 2025 10:03:00 DPDK git baseline: Repo:dpdk Branch: master CommitID:e290f8c00e068f06a37fbea251dfff2c78cb2aae 150765-150766 --> testing pass Upstream job id: Generic-DPDK-Compile-ABI#114469 Test environment and result as below: +-------------------+----------+ | Environment | abi_test | +===================+==========+ | CentOS Stream 9 | PASS | +-------------------+----------+ | Debian Bullseye | PASS | +-------------------+----------+ | Debian 12 | PASS | +-------------------+----------+ | Fedora 40 (Clang) | PASS | +-------------------+----------+ | Fedora 40 | PASS | +-------------------+----------+ | Fedora 41 (Clang) | PASS | +-------------------+----------+ | RHEL8 | PASS | +-------------------+----------+ | openSUSE Leap 15 | PASS | +-------------------+----------+ | Ubuntu 22.04 | PASS | +-------------------+----------+ | Ubuntu 24.04 | PASS | +-------------------+----------+ | RHEL9 | PASS | +-------------------+----------+ | Fedora 41 | PASS | +-------------------+----------+ CentOS Stream 9 Kernel: Depends on container host Compiler: gcc 11.5.0 20240719 (Red Hat 11.5.0-2) Debian Bullseye Kernel: Depends on container host Compiler: gcc (Debian 10.2.1-6) 10.2.1 20210110 Debian 12 Kernel: Depends on container host Compiler: gcc (Debian 12.2.0-14) 12.2.0 Fedora 40 (Clang) Kernel: Depends on container host Compiler: clang 18.1.8 (Fedora 18.1.8-1.fc40) Fedora 40 Kernel: Depends on container host Compiler: gcc 14.2.1 20240912 (Red Hat 14.2.1-3) Fedora 41 (Clang) Kernel: Depends on container host Compiler: clang 19.1.5 (Fedora 19.1.5-1.fc41) RHEL8 Kernel: Depends on container host Compiler: gcc 8.5.0 20210514 (Red Hat 8.5.0-22) openSUSE Leap 15 Kernel: Depends on container host Compiler: gcc (SUSE Linux) 7.5.0 Ubuntu 22.04 Kernel: Depends on container host Compiler: gcc (Ubuntu 11.4.0-1ubuntu1~22.04) 11.4.0 Ubuntu 24.04 Kernel: Depends on container host Compiler: gcc (Ubuntu 13.3.0-6ubuntu2~24.04) 13.3.0 RHEL9 Kernel: Depends on container host Compiler: gcc 11.5.0 20240719 (Red Hat 11.5.0-2) Fedora 41 Kernel: Depends on container host Compiler: gcc 14.2.1 20240912 (Red Hat 14.2.1-3) To view detailed results, visit: https://lab.dpdk.org/results/dashboard/patchsets/32478/ UNH-IOL DPDK Community Lab To manage your email subscriptions, visit: https://lab.dpdk.org/results/dashboard/preferences/subscriptions/