automatic DPDK test reports
 help / color / mirror / Atom feed
From: dpdklab@iol.unh.edu
To: Test Report <test-report@dpdk.org>
Cc: dpdk-test-reports@iol.unh.edu
Subject: |WARNING| pw150765-150766 [PATCH] [v7,2/2] net/af_xdp: Refactor af_x
Date: Sat, 01 Feb 2025 03:53:27 -0800 (PST)	[thread overview]
Message-ID: <679e0b37.630a0220.1acf86.fd53SMTPIN_ADDED_MISSING@mx.google.com> (raw)
In-Reply-To: <20250201100300.2194018-3-ariel.otilibili@6wind.com>

Test-Label: iol-sample-apps-testing
Test-Status: WARNING
http://dpdk.org/patch/150766

_Testing issues_

Submitter: Ariel Otilibili <ariel.otilibili@6wind.com>
Date: Saturday, February 01 2025 10:03:00 
DPDK git baseline: Repo:dpdk
  Branch: master
  CommitID:e290f8c00e068f06a37fbea251dfff2c78cb2aae

150765-150766 --> testing issues

Upstream job id: ACVP-FIPS-testing#8756

Test environment and result as below:

+--------------------+----------------------+----------------------+
|    Environment     | compressdev_zlib_pmd | dpdk_fips_validation |
+====================+======================+======================+
| Ubuntu 22.04 (ARM) | PASS                 | SKIPPED              |
+--------------------+----------------------+----------------------+
| Ubuntu 22.04       | PASS                 | SKIPPED              |
+--------------------+----------------------+----------------------+
| Ubuntu 20.04       | SKIPPED              | WARN                 |
+--------------------+----------------------+----------------------+

==== 20 line log output for Ubuntu 20.04 (dpdk_fips_validation): ====
Traceback (most recent call last):
File "/dpdk-ci/tools/acvp/acvp_tool.py", line 368, in <module>
main(
File "/dpdk-ci/tools/acvp/acvp_tool.py", line 314, in main
with open(response_path, 'r') as upload_file:
FileNotFoundError: [Errno 2] No such file or directory: '/home-local/jenkins-local/jenkins-agent/workspace/ACVP-FIPS-testing/out/hmac-sha-1-answers.rsp'
INFO:root:Using response file...
Traceback (most recent call last):
File "/dpdk-ci/tools/acvp/acvp_tool.py", line 368, in <module>
main(
File "/dpdk-ci/tools/acvp/acvp_tool.py", line 314, in main
with open(response_path, 'r') as upload_file:
FileNotFoundError: [Errno 2] No such file or directory: '/home-local/jenkins-local/jenkins-agent/workspace/ACVP-FIPS-testing/out/acvp-tdes-cbc-answers.rsp'
INFO:root:Using response file...
Traceback (most recent call last):
File "/dpdk-ci/tools/acvp/acvp_tool.py", line 368, in <module>
main(
File "/dpdk-ci/tools/acvp/acvp_tool.py", line 314, in main
with open(response_path, 'r') as upload_file:
FileNotFoundError: [Errno 2] No such file or directory: '/home-local/jenkins-local/jenkins-agent/workspace/ACVP-FIPS-testing/out/acvp-aes-ctr-answers.rsp'
==== End log output ====

Ubuntu 22.04 (ARM)
	Kernel: 5.15.0-97-generic
	Compiler: gcc gcc (Ubuntu 11.4.0-1ubuntu1~22.04) 11.4.0

Ubuntu 22.04
	Kernel: 5.15.0-100-generic
	Compiler: gcc gcc (Ubuntu 11.4.0-1ubuntu1~22.04) 11.4.0

Ubuntu 20.04
	Kernel: Depends on container host
	Compiler: gcc (Ubuntu 9.4.0-1ubuntu1~20.04.2) 9.4.0

To view detailed results, visit:
https://lab.dpdk.org/results/dashboard/patchsets/32478/

UNH-IOL DPDK Community Lab

To manage your email subscriptions, visit: 
https://lab.dpdk.org/results/dashboard/preferences/subscriptions/

  parent reply	other threads:[~2025-02-01 11:53 UTC|newest]

Thread overview: 18+ messages / expand[flat|nested]  mbox.gz  Atom feed  top
     [not found] <20250201100300.2194018-3-ariel.otilibili@6wind.com>
2025-02-01  9:35 ` |SUCCESS| pw150765-150766 [PATCH v7 2/2] net/af_xdp: Refactor af_xdp_tx_zc qemudev
2025-02-01  9:39 ` qemudev
2025-02-01 10:02 ` |WARNING| pw150766 " checkpatch
2025-02-01 10:51 ` |PENDING| pw150765-150766 [PATCH] [v7,2/2] net/af_xdp: Refactor af_x dpdklab
2025-02-01 10:52 ` dpdklab
2025-02-01 10:52 ` |SUCCESS| " dpdklab
2025-02-01 10:56 ` |PENDING| " dpdklab
2025-02-01 11:03 ` |SUCCESS| pw150766 [PATCH v7 2/2] net/af_xdp: Refactor af_xdp_tx_zc 0-day Robot
2025-02-01 11:11 ` |SUCCESS| pw150765-150766 [PATCH] [v7,2/2] net/af_xdp: Refactor af_x dpdklab
2025-02-01 11:15 ` |PENDING| " dpdklab
2025-02-01 11:24 ` |SUCCESS| " dpdklab
2025-02-01 11:40 ` dpdklab
2025-02-01 11:40 ` dpdklab
2025-02-01 11:42 ` dpdklab
2025-02-01 11:53 ` dpdklab [this message]
2025-02-01 12:09 ` |WARNING| " dpdklab
2025-02-01 12:33 ` |SUCCESS| " dpdklab
2025-02-01 12:56 ` dpdklab

Reply instructions:

You may reply publicly to this message via plain-text email
using any one of the following methods:

* Save the following mbox file, import it into your mail client,
  and reply-to-all from there: mbox

  Avoid top-posting and favor interleaved quoting:
  https://en.wikipedia.org/wiki/Posting_style#Interleaved_style

* Reply using the --to, --cc, and --in-reply-to
  switches of git-send-email(1):

  git send-email \
    --in-reply-to=679e0b37.630a0220.1acf86.fd53SMTPIN_ADDED_MISSING@mx.google.com \
    --to=dpdklab@iol.unh.edu \
    --cc=dpdk-test-reports@iol.unh.edu \
    --cc=test-report@dpdk.org \
    /path/to/YOUR_REPLY

  https://kernel.org/pub/software/scm/git/docs/git-send-email.html

* If your mail client supports setting the In-Reply-To header
  via mailto: links, try the mailto: link
Be sure your reply has a Subject: header at the top and a blank line before the message body.
This is a public inbox, see mirroring instructions
for how to clone and mirror all data and code used for this inbox;
as well as URLs for NNTP newsgroup(s).