From mboxrd@z Thu Jan 1 00:00:00 1970 Return-Path: Received: from mails.dpdk.org (mails.dpdk.org [217.70.189.124]) by inbox.dpdk.org (Postfix) with ESMTP id 4BB6646163 for ; Sat, 1 Feb 2025 12:54:37 +0100 (CET) Received: from mails.dpdk.org (localhost [127.0.0.1]) by mails.dpdk.org (Postfix) with ESMTP id 463A94026B; Sat, 1 Feb 2025 12:54:37 +0100 (CET) Received: from mail-pj1-f97.google.com (mail-pj1-f97.google.com [209.85.216.97]) by mails.dpdk.org (Postfix) with ESMTP id 2357C40264 for ; Sat, 1 Feb 2025 12:54:36 +0100 (CET) Received: by mail-pj1-f97.google.com with SMTP id 98e67ed59e1d1-2ee46851b5eso3795062a91.1 for ; Sat, 01 Feb 2025 03:54:36 -0800 (PST) DKIM-Signature: v=1; a=rsa-sha256; c=relaxed/relaxed; d=iol.unh.edu; s=unh-iol; t=1738410875; x=1739015675; darn=dpdk.org; h=cc:to:from:subject:message-id:date:from:to:cc:subject:date :message-id:reply-to; bh=Q1wgOC8Tb9k/z7nTMhvfMxnd84LS63+5j330EwdRAIA=; b=IGYPN7tISGl9reL3Jz/XHARBOslnR/d6drp3s3uJVUYTpyjVTWOZeeO8fadjA9jv8U jqfeXGBpafAxUqLLI+dAU1DvLpVfaudeZl31PW44EDwViVRe4QQYrkfcVbb7q5gArWLw u0ZOuGMLc+N0VGet6TnAVLzr/8syNbQzbaWVE= X-Google-DKIM-Signature: v=1; a=rsa-sha256; c=relaxed/relaxed; d=1e100.net; s=20230601; t=1738410875; x=1739015675; h=cc:to:from:subject:message-id:date:x-gm-message-state:from:to:cc :subject:date:message-id:reply-to; bh=Q1wgOC8Tb9k/z7nTMhvfMxnd84LS63+5j330EwdRAIA=; b=dW+Qff8nKAyvieRDDadyy7ctkIw+DOBKlUmR6k7DEzrJx/BLIBw623R3Z6tbHMdrHs Tam88FJTBVvsU7O+61AMc/9ByoWUdPCY3wvL/eYBxux2VOy04TqxgtsxyUXquMv4Zjpf YiOFPDX4u+uIXdGZG4SXzAPFKI7AEpilpwq/poYOBdukzv/h5FtKDv6apIubyMTPWfEr g91fENboUQQ79Huf691OdcJfwkWIe3L+pvk7shi8BwSmmO5zq2w39CEQ8Y5WfADr+Rw4 FB7kz2wZzbupOg+OeAwAxPxOxob+wlyqJ2HBxNRIx7VQuStI6czKSN+14L70ef8oUBNY xIDg== X-Gm-Message-State: AOJu0YxQYs2ggcH6PdTnakajR2DSXkPth7kt2xu6SHVhWXX9CZetzHse G4ziLAGab48eN2LnUEhFGo4pBCczbos7TDnvfTIZwFvAwQiAVJiejir398GwJZ7XMFy16CJqzts B8h+3PaGQC+MApvHdsGZywxqXewHb9VegQNxvIefWj2qa6b78 X-Gm-Gg: ASbGncvsC6/O+bI7Qk9S492gIfieCd95oAWqVRP8nEZHOYbGik17+Jmv7CfLmtx5qib 25ZFCx4oL9WSu68t2k5Z9rf5y+BfylVWCLVwoypnn3UPU2mVIQ8/CGwak4xdGW5iKB1zO0IDmQH f0dqr8QNTo/SQm6+4BUGZ0aWfRpeo0dQB3MJSFECds7wLwzboAMjTDrKopALoiq5cUL3sY6chxV mFMt0IQGDHIOgLQ9hei0WTIPypcN8tyXcWkRtbDaXBqaoic7gZ09Moirn25aKX35jCZs+lMj+el 38ybU+RMBxBP31zDHIgF/6ujljYPJYIuAi4H1ZB7bg== X-Google-Smtp-Source: AGHT+IGyjvyT1AdK2MMkU/v2DdDRESF4vgRZuRHlL0V74Yhla5zPRsqmRsKr6CcGUkOWI9M03BGwIRNbf1GQ X-Received: by 2002:a17:90b:280c:b0:2ee:7538:be70 with SMTP id 98e67ed59e1d1-2f83ababbadmr20081421a91.5.1738410875277; Sat, 01 Feb 2025 03:54:35 -0800 (PST) Received: from postal.iol.unh.edu (postal.iol.unh.edu. [2606:4100:3880:1234::84]) by smtp-relay.gmail.com with ESMTPS id d9443c01a7336-21de324a42esm2023225ad.46.2025.02.01.03.54.35 (version=TLS1_2 cipher=ECDHE-ECDSA-AES128-GCM-SHA256 bits=128/128); Sat, 01 Feb 2025 03:54:35 -0800 (PST) X-Relaying-Domain: iol.unh.edu Date: Sat, 01 Feb 2025 03:54:35 -0800 (PST) Message-ID: <679e0b7b.170a0220.2aa917.a16aSMTPIN_ADDED_MISSING@mx.google.com> Received: from [172.17.0.5] (unknown [172.18.0.217]) by postal.iol.unh.edu (Postfix) with ESMTP id 707896052471; Sat, 1 Feb 2025 06:54:34 -0500 (EST) Subject: |SUCCESS| [GIT MASTER] f2eea2f37a82bb73fb01d56350708f7d70e21379 From: dpdklab@iol.unh.edu To: Test Report Cc: dpdk-test-reports@iol.unh.edu, Xueming Li , Christian Ehrhardt , Kevin Traynor , Luca Boccassi Content-Type: text/plain X-BeenThere: test-report@dpdk.org X-Mailman-Version: 2.1.29 Precedence: list List-Id: automatic DPDK test reports List-Unsubscribe: , List-Archive: List-Post: List-Help: List-Subscribe: , Errors-To: test-report-bounces@dpdk.org _Testing PASS_ Branch: tags/v24.11 f2eea2f37a82bb73fb01d56350708f7d70e21379 --> testing pass Upstream job id: Generic-DPDK-Compile-Meson#357031 Test environment and result as below: +------------------------------------+--------------------+ | Environment | dpdk_meson_compile | +====================================+====================+ | RHEL9 (ARM) | PASS | +------------------------------------+--------------------+ | Ubuntu 20.04 ARM GCC Cross Compile | PASS | +------------------------------------+--------------------+ | Ubuntu 20.04 ARM SVE | PASS | +------------------------------------+--------------------+ | Fedora 40 (ARM Clang) | PASS | +------------------------------------+--------------------+ | Fedora 40 (ARM) | PASS | +------------------------------------+--------------------+ | Debian 12 with MUSDK | PASS | +------------------------------------+--------------------+ | Fedora 41 (ARM) | PASS | +------------------------------------+--------------------+ | Fedora 41 (ARM Clang) | PASS | +------------------------------------+--------------------+ | Ubuntu 22.04 (ARM) | PASS | +------------------------------------+--------------------+ | Ubuntu 20.04 (ARM) | PASS | +------------------------------------+--------------------+ | Ubuntu 24.04 (ARM) | PASS | +------------------------------------+--------------------+ | CentOS Stream 9 (ARM) | PASS | +------------------------------------+--------------------+ | Debian 12 (arm) | PASS | +------------------------------------+--------------------+ | Debian 11 (Buster) (ARM) | PASS | +------------------------------------+--------------------+ RHEL9 (ARM) Kernel: Depends on container host Compiler: gcc 11.5.0 20240719 (Red Hat 11.5.0-2) Ubuntu 20.04 ARM GCC Cross Compile Kernel: Depends on container host Compiler: aarch64-linux-gnu-gcc (Ubuntu 9.4.0-1ubuntu1~20.04.2) 9.4.0 Ubuntu 20.04 ARM SVE Kernel: Depends on container host Compiler: gcc (Ubuntu 10.5.0-1ubuntu1~20.04) 10.5.0 Fedora 40 (ARM Clang) Kernel: Depends on container host Compiler: clang 18.1.8 (Fedora 18.1.8-1.fc40) Fedora 40 (ARM) Kernel: Depends on container host Compiler: gcc 14.2.1 20240912 (Red Hat 14.2.1-3) Debian 12 with MUSDK Kernel: Depends on container host Compiler: gcc (Debian 12.2.0-14) 12.2.0 Fedora 41 (ARM) Kernel: Depends on container host Compiler: gcc 14.2.1 20240912 (Red Hat 14.2.1-3) Fedora 41 (ARM Clang) Kernel: Depends on container host Compiler: clang 19.1.5 (Fedora 19.1.5-1.fc41) Ubuntu 22.04 (ARM) Kernel: Depends on container host Compiler: gcc (Ubuntu 11.4.0-1ubuntu1~22.04) 11.4.0 Ubuntu 20.04 (ARM) Kernel: Depends on container host Compiler: gcc (Ubuntu 9.4.0-1ubuntu1~20.04.2) 9.4.0 Ubuntu 24.04 (ARM) Kernel: Depends on container host Compiler: gcc (Ubuntu 13.3.0-6ubuntu2~24.04) 13.3.0 CentOS Stream 9 (ARM) Kernel: Depends on container host Compiler: gcc 11.5.0 20240719 (Red Hat 11.5.0-2) Debian 12 (arm) Kernel: Depends on container host Compiler: gcc (Debian 12.2.0-14) 12.2.0 Debian 11 (Buster) (ARM) Kernel: Depends on container host Compiler: gcc (Debian 10.2.1-6) 10.2.1 20210110 To view detailed results, visit: https://lab.dpdk.org/results/dashboard/tarballs/32412/ UNH-IOL DPDK Community Lab To manage your email subscriptions, visit: https://lab.dpdk.org/results/dashboard/preferences/subscriptions/