From mboxrd@z Thu Jan 1 00:00:00 1970 Return-Path: Received: from mails.dpdk.org (mails.dpdk.org [217.70.189.124]) by inbox.dpdk.org (Postfix) with ESMTP id 6297146163 for ; Sat, 1 Feb 2025 12:54:55 +0100 (CET) Received: from mails.dpdk.org (localhost [127.0.0.1]) by mails.dpdk.org (Postfix) with ESMTP id 5BE7F4026B; Sat, 1 Feb 2025 12:54:55 +0100 (CET) Received: from mail-pj1-f97.google.com (mail-pj1-f97.google.com [209.85.216.97]) by mails.dpdk.org (Postfix) with ESMTP id 7B40D40264 for ; Sat, 1 Feb 2025 12:54:54 +0100 (CET) Received: by mail-pj1-f97.google.com with SMTP id 98e67ed59e1d1-2f441791e40so3834020a91.3 for ; Sat, 01 Feb 2025 03:54:54 -0800 (PST) DKIM-Signature: v=1; a=rsa-sha256; c=relaxed/relaxed; d=iol.unh.edu; s=unh-iol; t=1738410894; x=1739015694; darn=dpdk.org; h=cc:to:from:subject:message-id:date:from:to:cc:subject:date :message-id:reply-to; bh=fER5sbWWdOVVjk8+vgKv0gvvtIrB2omUcmx4CnO5fCY=; b=d4h7iEFOHByCl9QsPk50yAL8G52S4Lng3v5INLnqNrc+lHyKuaagNODJ+GK1oOetRQ jE7h+YfaCvn8++pNfG9puSr/2fVIsSX/UAruXReoENt7V7oD204nGSffMw63L3EdDOyy IUtDem8YxZG8oDULK/y3B3LkaIhgDzz6L/mb0= X-Google-DKIM-Signature: v=1; a=rsa-sha256; c=relaxed/relaxed; d=1e100.net; s=20230601; t=1738410894; x=1739015694; h=cc:to:from:subject:message-id:date:x-gm-message-state:from:to:cc :subject:date:message-id:reply-to; bh=fER5sbWWdOVVjk8+vgKv0gvvtIrB2omUcmx4CnO5fCY=; b=Pmdy5HPlArX8c/5IurnnAEBl2JUzJwfWuC27JeQpiIPw44bmMKbQPcROw6BeWNPINo gT6MDDgERVgzUhK1HwmoQHXgkbeE2J/bCB/jY6SfOQ6UhqTIOUKvgl/XpFlJloOLvFK7 93Db8vhyyWh/Xyrtzxf80TS2Ddg0mff2LT/IUUO/7eRerrh8adXeHZqUNNh3yWyiRgL3 Ua20dlNEA1ZiJNdcnZ0SjE2ppOf37Bb/IcheQom8y1Pvl7mBhkma4Qzj7tIeMSm/1iY7 PM938CWQtpcmDfvsHeD6vmNr5/sfGNMRqmIq1peQUsFn7gDEU+I9dTS8ygW214zp9EC5 P9mw== X-Gm-Message-State: AOJu0Yx+iO00IYmn1Y6FNj/Av7TFKN7y8TohJZ2Hv0O/u6/LdSJeLyiL d24ai3ojxRIebBiFMSac/Tdv9lKzcAwmCwCBflmRNL/Tle3ASzCae970Hq1GLDA5ri4VlQG8rQ5 srpraGy1TFW2zxUR9x59vfPBK+yikOUCU X-Gm-Gg: ASbGnctvTlJa/LTlEtSc89VELlHdK/In7Q/My+L24W1esTO1jAP25cSgJT+rc9rMXVD UcU8xMUsBSjQvovp3rlMLmM9jM3065Vzw2xArZopZwJrSTyGCRRPmw64da5MTBUUFFGx5L7x+6l wDPMz4LNqwR6Yc4eUO9k08NDxKnAJ5DF82IbdTKn/6KUXjUSamzlyKgH6N+lF0G2nX6vgDYHHh+ Q4wQw0R851yfH0BLhyJvVoXPLNN+5ieckdV0BDshK+4kTTmUcqmZ+W8/+ygELxFPJ40nMfIbYox kqclbOo+mTppQE/ZteNMj3d7AywYTQ== X-Google-Smtp-Source: AGHT+IEH6T3mPGc7o0/9ocTWb3KgmI3U+/72L2tqUggzFxZPS32eeIDLxa0MIXKq+DxNS/SQYmtYk236Bf40 X-Received: by 2002:a17:90b:1f88:b0:2ee:9d36:6821 with SMTP id 98e67ed59e1d1-2f83ac8c273mr20623818a91.27.1738410893685; Sat, 01 Feb 2025 03:54:53 -0800 (PST) Received: from postal.iol.unh.edu (postal.iol.unh.edu. [132.177.123.84]) by smtp-relay.gmail.com with ESMTPS id 98e67ed59e1d1-2f848aa5d65sm401780a91.12.2025.02.01.03.54.53 (version=TLS1_2 cipher=ECDHE-ECDSA-AES128-GCM-SHA256 bits=128/128); Sat, 01 Feb 2025 03:54:53 -0800 (PST) X-Relaying-Domain: iol.unh.edu Date: Sat, 01 Feb 2025 03:54:53 -0800 (PST) Message-ID: <679e0b8d.170a0220.34a4b3.41f8SMTPIN_ADDED_MISSING@mx.google.com> Received: from [172.17.0.5] (unknown [172.18.0.217]) by postal.iol.unh.edu (Postfix) with ESMTP id CA23C6052471; Sat, 1 Feb 2025 06:54:52 -0500 (EST) Subject: |SUCCESS| [GIT MASTER] f2eea2f37a82bb73fb01d56350708f7d70e21379 From: dpdklab@iol.unh.edu To: Test Report Cc: dpdk-test-reports@iol.unh.edu, Xueming Li , Christian Ehrhardt , Kevin Traynor , Luca Boccassi Content-Type: text/plain X-BeenThere: test-report@dpdk.org X-Mailman-Version: 2.1.29 Precedence: list List-Id: automatic DPDK test reports List-Unsubscribe: , List-Archive: List-Post: List-Help: List-Subscribe: , Errors-To: test-report-bounces@dpdk.org _Testing PASS_ Branch: tags/v24.11 f2eea2f37a82bb73fb01d56350708f7d70e21379 --> testing pass Upstream job id: Generic-DPDK-Compile-Meson#357033 Test environment and result as below: +------------------------------------+--------------------+ | Environment | dpdk_meson_compile | +====================================+====================+ | RHEL9 (ARM) | PASS | +------------------------------------+--------------------+ | Ubuntu 20.04 ARM GCC Cross Compile | PASS | +------------------------------------+--------------------+ | Ubuntu 20.04 ARM SVE | PASS | +------------------------------------+--------------------+ | Fedora 40 (ARM Clang) | PASS | +------------------------------------+--------------------+ | Fedora 40 (ARM) | PASS | +------------------------------------+--------------------+ | Debian 12 with MUSDK | PASS | +------------------------------------+--------------------+ | Fedora 41 (ARM) | PASS | +------------------------------------+--------------------+ | Fedora 41 (ARM Clang) | PASS | +------------------------------------+--------------------+ | Ubuntu 22.04 (ARM) | PASS | +------------------------------------+--------------------+ | Ubuntu 20.04 (ARM) | PASS | +------------------------------------+--------------------+ | Ubuntu 24.04 (ARM) | PASS | +------------------------------------+--------------------+ | CentOS Stream 9 (ARM) | PASS | +------------------------------------+--------------------+ | Debian 12 (arm) | PASS | +------------------------------------+--------------------+ | Debian 11 (Buster) (ARM) | PASS | +------------------------------------+--------------------+ RHEL9 (ARM) Kernel: Depends on container host Compiler: gcc 11.5.0 20240719 (Red Hat 11.5.0-2) Ubuntu 20.04 ARM GCC Cross Compile Kernel: Depends on container host Compiler: aarch64-linux-gnu-gcc (Ubuntu 9.4.0-1ubuntu1~20.04.2) 9.4.0 Ubuntu 20.04 ARM SVE Kernel: Depends on container host Compiler: gcc (Ubuntu 10.5.0-1ubuntu1~20.04) 10.5.0 Fedora 40 (ARM Clang) Kernel: Depends on container host Compiler: clang 18.1.8 (Fedora 18.1.8-1.fc40) Fedora 40 (ARM) Kernel: Depends on container host Compiler: gcc 14.2.1 20240912 (Red Hat 14.2.1-3) Debian 12 with MUSDK Kernel: Depends on container host Compiler: gcc (Debian 12.2.0-14) 12.2.0 Fedora 41 (ARM) Kernel: Depends on container host Compiler: gcc 14.2.1 20240912 (Red Hat 14.2.1-3) Fedora 41 (ARM Clang) Kernel: Depends on container host Compiler: clang 19.1.5 (Fedora 19.1.5-1.fc41) Ubuntu 22.04 (ARM) Kernel: Depends on container host Compiler: gcc (Ubuntu 11.4.0-1ubuntu1~22.04) 11.4.0 Ubuntu 20.04 (ARM) Kernel: Depends on container host Compiler: gcc (Ubuntu 9.4.0-1ubuntu1~20.04.2) 9.4.0 Ubuntu 24.04 (ARM) Kernel: Depends on container host Compiler: gcc (Ubuntu 13.3.0-6ubuntu2~24.04) 13.3.0 CentOS Stream 9 (ARM) Kernel: Depends on container host Compiler: gcc 11.5.0 20240719 (Red Hat 11.5.0-2) Debian 12 (arm) Kernel: Depends on container host Compiler: gcc (Debian 12.2.0-14) 12.2.0 Debian 11 (Buster) (ARM) Kernel: Depends on container host Compiler: gcc (Debian 10.2.1-6) 10.2.1 20210110 To view detailed results, visit: https://lab.dpdk.org/results/dashboard/tarballs/32412/ UNH-IOL DPDK Community Lab To manage your email subscriptions, visit: https://lab.dpdk.org/results/dashboard/preferences/subscriptions/