From mboxrd@z Thu Jan 1 00:00:00 1970 Return-Path: Received: from mails.dpdk.org (mails.dpdk.org [217.70.189.124]) by inbox.dpdk.org (Postfix) with ESMTP id 803E246163 for ; Sat, 1 Feb 2025 13:26:47 +0100 (CET) Received: from mails.dpdk.org (localhost [127.0.0.1]) by mails.dpdk.org (Postfix) with ESMTP id 5B3DF4026B; Sat, 1 Feb 2025 13:26:47 +0100 (CET) Received: from mail-il1-f227.google.com (mail-il1-f227.google.com [209.85.166.227]) by mails.dpdk.org (Postfix) with ESMTP id D295F40264 for ; Sat, 1 Feb 2025 13:26:45 +0100 (CET) Received: by mail-il1-f227.google.com with SMTP id e9e14a558f8ab-3cf8e017abcso8633865ab.1 for ; Sat, 01 Feb 2025 04:26:45 -0800 (PST) DKIM-Signature: v=1; a=rsa-sha256; c=relaxed/relaxed; d=iol.unh.edu; s=unh-iol; t=1738412805; x=1739017605; darn=dpdk.org; h=cc:to:from:subject:message-id:date:from:to:cc:subject:date :message-id:reply-to; bh=YoETo0LqrPpLtOjOXpJcPu/rcyDQ4dnwGezzFKutbu8=; b=h7Sc9yyuwCxNrIHwKF760BWVsHkV7ZuCjp1WD1yXJnlLESqmjzG90QeBqKXMVSvdwd mMoZBc0ziKst+8gywNVmLCkKFsfgnOkXGT3gl7EflpYXg1RnLYD5gLVPEshuv2sVN3tQ KsQCAgfycvcMGNzm050t2zLAzUn8LYvfzaHro= X-Google-DKIM-Signature: v=1; a=rsa-sha256; c=relaxed/relaxed; d=1e100.net; s=20230601; t=1738412805; x=1739017605; h=cc:to:from:subject:message-id:date:x-gm-message-state:from:to:cc :subject:date:message-id:reply-to; bh=YoETo0LqrPpLtOjOXpJcPu/rcyDQ4dnwGezzFKutbu8=; b=JRdn61KbPoYL6+WvalezyjQC3T6w+/K5KbhKevscjI9PQS1z2cOkjsf808LHKSt1G3 TOkTpBOR1Ao+MHur73lVDZtMvzuh0AdP2jxFRcSWEjttmXhomKsc4ZrDUnWyRHGYqVRD 3aOjWoBe53E3c4qodYztLI8Rxqdz1jdRU4kjsGOqcMEiLMUgEahJ7fpbf0MTc2lb0mIQ yffAj256+fq4WxF34rJNJ6rCt2aw9M01yOWGq5a1PMrx02p9/57z9JYl/P2ovcHP37ga dB001Kq+Mq7mbUsHdl48MsOFEVF0QbuWE5qolhFf5rh350r9Pz4qXiTkZ0xm6fvVERCm +GcQ== X-Gm-Message-State: AOJu0YzeUeGUiwCw0jwv5QDBI1vsC7W6GsLelLpYaquZNFnJVQFNcch7 G147QJwIgFEUdq23PmdJWwQAdag4IL0fkiQs8GMKJqnNzQ7glB3CsJkB0Q/BIajGhWA0gx9Etxw x4KV520cYbxJxIcAXUE1kbK5gAcjk9/uiNvNRMYbR X-Gm-Gg: ASbGncuOZb/B+9BWlPQcvctU5j2sB/n7KNZ7VM8D2ihsvlni9iCYBBZxKPOv8OCixYi Ri8eECoIhPlULTpMPdnJ097raIu+aEqSAoI2ZU4ClRRrFba5GZP2uIrHCn3892yMCI2AvRxMs6h iWJ+GjKSktkCEyEEWMp/XIcy3PEy3WtIYjYxEa/KI8UajOTHISRV9CsY9ANiIrZk4OMY3KVtAOa qG6ciLfBrz8a/V1rwtkFMqeElrnDiPqcCBnLKFYKRvkzhGcaiHwZaLaR5ctJwOkr/gDd4XjpdK2 lKlHF+FI0EUfW6huyf0mEVVDoFxtgA== X-Google-Smtp-Source: AGHT+IHCCGywZ/HYfbxaVLHBEZo2BW7eF/WO7tTE0Yyz3azTB14B1zBRJeWLwUWNJp9gRbOcOWSeQUtP1TQc X-Received: by 2002:a05:6e02:2608:b0:3ce:856b:e451 with SMTP id e9e14a558f8ab-3cffe396c69mr139665695ab.5.1738412804837; Sat, 01 Feb 2025 04:26:44 -0800 (PST) Received: from postal.iol.unh.edu (postal.iol.unh.edu. [132.177.123.84]) by smtp-relay.gmail.com with ESMTPS id e9e14a558f8ab-3d0278a7431sm81875ab.30.2025.02.01.04.26.44 (version=TLS1_2 cipher=ECDHE-ECDSA-AES128-GCM-SHA256 bits=128/128); Sat, 01 Feb 2025 04:26:44 -0800 (PST) X-Relaying-Domain: iol.unh.edu Date: Sat, 01 Feb 2025 04:26:44 -0800 (PST) Message-ID: <679e1304.050a0220.343256.05e5SMTPIN_ADDED_MISSING@mx.google.com> Received: from [172.17.0.4] (unknown [172.18.0.217]) by postal.iol.unh.edu (Postfix) with ESMTP id 3552B6052471; Sat, 1 Feb 2025 07:26:44 -0500 (EST) Subject: |SUCCESS| [GIT MASTER] e290f8c00e068f06a37fbea251dfff2c78cb2aae From: dpdklab@iol.unh.edu To: Test Report Cc: dpdk-test-reports@iol.unh.edu, Stephen Hemminger Content-Type: text/plain X-BeenThere: test-report@dpdk.org X-Mailman-Version: 2.1.29 Precedence: list List-Id: automatic DPDK test reports List-Unsubscribe: , List-Archive: List-Post: List-Help: List-Subscribe: , Errors-To: test-report-bounces@dpdk.org _Testing PASS_ Branch: dpdk-next-net e290f8c00e068f06a37fbea251dfff2c78cb2aae --> testing pass Upstream job id: Generic-DPDK-Compile-Meson#357045 Test environment and result as below: +----------------------------------------+--------------------+ | Environment | dpdk_meson_compile | +========================================+====================+ | RHEL9 (ARM) | PASS | +----------------------------------------+--------------------+ | Ubuntu 20.04 ARM GCC Cross Compile | PASS | +----------------------------------------+--------------------+ | Ubuntu 20.04 ARM SVE | PASS | +----------------------------------------+--------------------+ | Debian 12 with MUSDK | PASS | +----------------------------------------+--------------------+ | Fedora 40 (ARM) | PASS | +----------------------------------------+--------------------+ | Fedora 40 (ARM Clang) | PASS | +----------------------------------------+--------------------+ | Fedora 41 (ARM Clang) | PASS | +----------------------------------------+--------------------+ | Ubuntu 20.04 (ARM) | PASS | +----------------------------------------+--------------------+ | Ubuntu 22.04 (ARM) | PASS | +----------------------------------------+--------------------+ | Ubuntu 24.04 (ARM) | PASS | +----------------------------------------+--------------------+ | CentOS Stream 9 (ARM) | PASS | +----------------------------------------+--------------------+ | Debian 11 (Buster) (ARM) | PASS | +----------------------------------------+--------------------+ | Debian 12 (arm) | PASS | +----------------------------------------+--------------------+ | Ubuntu 20.04 ARM Clang Cross Compile | PASS | +----------------------------------------+--------------------+ | Fedora 41 (ARM) | PASS | +----------------------------------------+--------------------+ | Ubuntu 20.04 aarch32 GCC Cross Compile | PASS | +----------------------------------------+--------------------+ RHEL9 (ARM) Kernel: Depends on container host Compiler: gcc 11.5.0 20240719 (Red Hat 11.5.0-2) Ubuntu 20.04 ARM GCC Cross Compile Kernel: Depends on container host Compiler: aarch64-linux-gnu-gcc (Ubuntu 9.4.0-1ubuntu1~20.04.2) 9.4.0 Ubuntu 20.04 ARM SVE Kernel: Depends on container host Compiler: gcc (Ubuntu 10.5.0-1ubuntu1~20.04) 10.5.0 Debian 12 with MUSDK Kernel: Depends on container host Compiler: gcc (Debian 12.2.0-14) 12.2.0 Fedora 40 (ARM) Kernel: Depends on container host Compiler: gcc 14.2.1 20240912 (Red Hat 14.2.1-3) Fedora 40 (ARM Clang) Kernel: Depends on container host Compiler: clang 18.1.8 (Fedora 18.1.8-1.fc40) Fedora 41 (ARM Clang) Kernel: Depends on container host Compiler: clang 19.1.5 (Fedora 19.1.5-1.fc41) Ubuntu 20.04 (ARM) Kernel: Depends on container host Compiler: gcc (Ubuntu 9.4.0-1ubuntu1~20.04.2) 9.4.0 Ubuntu 22.04 (ARM) Kernel: Depends on container host Compiler: gcc (Ubuntu 11.4.0-1ubuntu1~22.04) 11.4.0 Ubuntu 24.04 (ARM) Kernel: Depends on container host Compiler: gcc (Ubuntu 13.3.0-6ubuntu2~24.04) 13.3.0 CentOS Stream 9 (ARM) Kernel: Depends on container host Compiler: gcc 11.5.0 20240719 (Red Hat 11.5.0-2) Debian 11 (Buster) (ARM) Kernel: Depends on container host Compiler: gcc (Debian 10.2.1-6) 10.2.1 20210110 Debian 12 (arm) Kernel: Depends on container host Compiler: gcc (Debian 12.2.0-14) 12.2.0 Ubuntu 20.04 ARM Clang Cross Compile Kernel: Depends on container host Compiler: clang 10.0.0-4ubuntu1 Fedora 41 (ARM) Kernel: Depends on container host Compiler: gcc 14.2.1 20240912 (Red Hat 14.2.1-3) Ubuntu 20.04 aarch32 GCC Cross Compile Kernel: Depends on container host Compiler: gcc 9.4.0 To view detailed results, visit: https://lab.dpdk.org/results/dashboard/tarballs/32415/ UNH-IOL DPDK Community Lab To manage your email subscriptions, visit: https://lab.dpdk.org/results/dashboard/preferences/subscriptions/