From mboxrd@z Thu Jan 1 00:00:00 1970 Return-Path: Received: from mails.dpdk.org (mails.dpdk.org [217.70.189.124]) by inbox.dpdk.org (Postfix) with ESMTP id 2064346163 for ; Sat, 1 Feb 2025 13:33:30 +0100 (CET) Received: from mails.dpdk.org (localhost [127.0.0.1]) by mails.dpdk.org (Postfix) with ESMTP id EA10C4026B; Sat, 1 Feb 2025 13:33:29 +0100 (CET) Received: from mail-qv1-f98.google.com (mail-qv1-f98.google.com [209.85.219.98]) by mails.dpdk.org (Postfix) with ESMTP id C4BEF40264 for ; Sat, 1 Feb 2025 13:33:27 +0100 (CET) Received: by mail-qv1-f98.google.com with SMTP id 6a1803df08f44-6d8f99cb0d9so24704256d6.0 for ; Sat, 01 Feb 2025 04:33:27 -0800 (PST) DKIM-Signature: v=1; a=rsa-sha256; c=relaxed/relaxed; d=iol.unh.edu; s=unh-iol; t=1738413207; x=1739018007; darn=dpdk.org; h=references:in-reply-to:cc:to:from:subject:message-id:date:from:to :cc:subject:date:message-id:reply-to; bh=qxGaKgzbP/CpSd2M3Jl3vT8j917BQGGY21LiKX3Ce/w=; b=Dg043+Zq5n3b8YrU0jcUHJPCEyCk9wXehhtCoPgbk5AAxBmuQIjTx3lpbJVdrLlot1 iv9hFOI480pYNxsaEt+Z6RInlP7Y/iXccAVC/rxcnL9vJTmKztIN8QWekIEIcUbe8VK5 IdZDO4o/FMxbMi87TbENb9wfTjb7usATu4n/M= X-Google-DKIM-Signature: v=1; a=rsa-sha256; c=relaxed/relaxed; d=1e100.net; s=20230601; t=1738413207; x=1739018007; h=references:in-reply-to:cc:to:from:subject:message-id:date :x-gm-message-state:from:to:cc:subject:date:message-id:reply-to; bh=qxGaKgzbP/CpSd2M3Jl3vT8j917BQGGY21LiKX3Ce/w=; b=JCvw4rrL/ZTJ26GRq8G5YUT6yNz1Yf8EUPKi8PgycJA6cb/0D/N2oeON0JzqD4pTiU ov/1NKRLmB7UEA1T2nnoa75KzwCKruJsMRUBCphHLXX0KYqSofQPJAw+fd3FG3eifTLx cS1qfJsv2WtYvawQt3tdDq+o+/9jwF3M5qFLF4AUnHmBL6CXBNxFiBfZyJJvvEBJDEAj 8v9F0SUdwu1dBIQtGmEvRxlkZCSdyrv/tt6L0sFNUhx7YMfcobhvqcQKyrNNe2sxMuHL zwfTaum3Hl9gaxiqA2J7i1p+GR5SGrmaCONbiRITGQpTKUADFBmaRorbq0IK25sKJ6go 4sMw== X-Gm-Message-State: AOJu0YwHkgqjOcA1tQIRVdIwbS4YgmQGqD5RFM2G2c5iMShpB/Ow+i4E QqUCTn9/7bnxo/H0WMLi8Z3v3EiQL21zSHgFgX4WvgP6wO841xFaxIDmyK44OTk9Xn+al75vJEK f7A81Z96kznzbmKx0JBNICql6vsEvD+h7ooUtlYLn X-Gm-Gg: ASbGncsp8U+9WEgs65GmRBqZS29bqGNPqQfDw+OpjlpqVOmBoyrfnDz4aiWFDIoviB0 2iMOnpxFb+XHDI+6oRd5gtkWZRe+5JYWOtbSJpJ3fuO+Hp7sgj5BXne9ep3eY1TVpcV9TRl++Zr IJvplkkxsTshbjzlgPfCIxkCOwSejx/ZIMTuSfa2adWnKvfMXPdQolw6Jhsvc528qBahY4ZTbQ5 GIvWeini4I0QfR07PYAiAqjS2+tfZRUsAzOnQFit3KyLl1wIFN1rphJuHyRZZ6WpLI8c7lPmW/4 7/YXhY0V6fBOxMifpTNB5EcNAkBfPw== X-Google-Smtp-Source: AGHT+IGH3QLAayXEp5Wpw7I9PREW43GB5McvXvjAaytlC/1AmDdm9dMtQSQpVwB1/b4X5qREvPa4pT+h3COd X-Received: by 2002:a05:6214:5011:b0:6d4:36ff:435b with SMTP id 6a1803df08f44-6e243bf27f1mr198725496d6.20.1738413207119; Sat, 01 Feb 2025 04:33:27 -0800 (PST) Received: from postal.iol.unh.edu (postal.iol.unh.edu. [132.177.123.84]) by smtp-relay.gmail.com with ESMTPS id 6a1803df08f44-6e25480c5efsm3494056d6.17.2025.02.01.04.33.27 (version=TLS1_2 cipher=ECDHE-ECDSA-AES128-GCM-SHA256 bits=128/128); Sat, 01 Feb 2025 04:33:27 -0800 (PST) X-Relaying-Domain: iol.unh.edu Date: Sat, 01 Feb 2025 04:33:27 -0800 (PST) Message-ID: <679e1497.050a0220.1ecff8.1efaSMTPIN_ADDED_MISSING@mx.google.com> Received: from [172.17.0.4] (unknown [172.18.0.217]) by postal.iol.unh.edu (Postfix) with ESMTP id BF06B6052471; Sat, 1 Feb 2025 07:33:26 -0500 (EST) Subject: |SUCCESS| pw150765-150766 [PATCH] [v7,2/2] net/af_xdp: Refactor af_x From: dpdklab@iol.unh.edu To: Test Report Cc: dpdk-test-reports@iol.unh.edu In-Reply-To: <20250201100300.2194018-3-ariel.otilibili@6wind.com> References: <20250201100300.2194018-3-ariel.otilibili@6wind.com> Content-Type: text/plain X-BeenThere: test-report@dpdk.org X-Mailman-Version: 2.1.29 Precedence: list List-Id: automatic DPDK test reports List-Unsubscribe: , List-Archive: List-Post: List-Help: List-Subscribe: , Errors-To: test-report-bounces@dpdk.org Test-Label: iol-unit-arm64-testing Test-Status: SUCCESS http://dpdk.org/patch/150766 _Testing PASS_ Submitter: Ariel Otilibili Date: Saturday, February 01 2025 10:03:00 DPDK git baseline: Repo:dpdk Branch: master CommitID:e290f8c00e068f06a37fbea251dfff2c78cb2aae 150765-150766 --> testing pass Upstream job id: Generic-Unit-Test-DPDK#310989 Test environment and result as below: +-----------------------------+----------------+--------------+------------------------------+---------------------------+ | Environment | dpdk_unit_test | lpm_autotest | cryptodev_sw_snow3g_autotest | cryptodev_sw_zuc_autotest | +=============================+================+==============+==============================+===========================+ | 32-bit Ubuntu 22.04.4 (ARM) | PASS | SKIPPED | SKIPPED | SKIPPED | +-----------------------------+----------------+--------------+------------------------------+---------------------------+ | Fedora 40 (ARM) | PASS | SKIPPED | SKIPPED | SKIPPED | +-----------------------------+----------------+--------------+------------------------------+---------------------------+ | Debian 12 (arm) | PASS | SKIPPED | PASS | PASS | +-----------------------------+----------------+--------------+------------------------------+---------------------------+ | Debian 11 (Buster) (ARM) | PASS | SKIPPED | SKIPPED | SKIPPED | +-----------------------------+----------------+--------------+------------------------------+---------------------------+ | CentOS Stream 9 (ARM) | PASS | SKIPPED | SKIPPED | SKIPPED | +-----------------------------+----------------+--------------+------------------------------+---------------------------+ | Fedora 41 (ARM) | PASS | SKIPPED | SKIPPED | SKIPPED | +-----------------------------+----------------+--------------+------------------------------+---------------------------+ | RHEL9 (ARM) | PASS | SKIPPED | SKIPPED | SKIPPED | +-----------------------------+----------------+--------------+------------------------------+---------------------------+ | Fedora 40 (ARM Clang) | PASS | SKIPPED | SKIPPED | SKIPPED | +-----------------------------+----------------+--------------+------------------------------+---------------------------+ | Fedora 41 (ARM Clang) | PASS | SKIPPED | SKIPPED | SKIPPED | +-----------------------------+----------------+--------------+------------------------------+---------------------------+ | Ubuntu 20.04 (ARM) | PASS | SKIPPED | SKIPPED | SKIPPED | +-----------------------------+----------------+--------------+------------------------------+---------------------------+ | Ubuntu 24.04 (ARM) | PASS | SKIPPED | SKIPPED | SKIPPED | +-----------------------------+----------------+--------------+------------------------------+---------------------------+ | Ubuntu 22.04 (ARM) | PASS | SKIPPED | SKIPPED | SKIPPED | +-----------------------------+----------------+--------------+------------------------------+---------------------------+ | Ubuntu 20.04 ARM SVE | SKIPPED | PASS | SKIPPED | SKIPPED | +-----------------------------+----------------+--------------+------------------------------+---------------------------+ 32-bit Ubuntu 22.04.4 (ARM) Kernel: 5.15.83+ aarch64 Compiler: gcc (Ubuntu 11.4.0-1ubuntu1~22.04) 11.4.0 Fedora 40 (ARM) Kernel: Depends on container host Compiler: gcc 14.2.1 20240912 (Red Hat 14.2.1-3) Debian 12 (arm) Kernel: Depends on container host Compiler: gcc (Debian 12.2.0-14) 12.2.0 Debian 11 (Buster) (ARM) Kernel: Depends on container host Compiler: gcc (Debian 10.2.1-6) 10.2.1 20210110 CentOS Stream 9 (ARM) Kernel: Depends on container host Compiler: gcc 11.5.0 20240719 (Red Hat 11.5.0-2) Fedora 41 (ARM) Kernel: Depends on container host Compiler: gcc 14.2.1 20240912 (Red Hat 14.2.1-3) RHEL9 (ARM) Kernel: Depends on container host Compiler: gcc 11.5.0 20240719 (Red Hat 11.5.0-2) Fedora 40 (ARM Clang) Kernel: Depends on container host Compiler: clang 18.1.8 (Fedora 18.1.8-1.fc40) Fedora 41 (ARM Clang) Kernel: Depends on container host Compiler: clang 19.1.5 (Fedora 19.1.5-1.fc41) Ubuntu 20.04 (ARM) Kernel: Depends on container host Compiler: gcc (Ubuntu 9.4.0-1ubuntu1~20.04.2) 9.4.0 Ubuntu 24.04 (ARM) Kernel: Depends on container host Compiler: gcc (Ubuntu 13.3.0-6ubuntu2~24.04) 13.3.0 Ubuntu 22.04 (ARM) Kernel: Depends on container host Compiler: gcc (Ubuntu 11.4.0-1ubuntu1~22.04) 11.4.0 Ubuntu 20.04 ARM SVE Kernel: Depends on container host Compiler: gcc (Ubuntu 10.5.0-1ubuntu1~20.04) 10.5.0 To view detailed results, visit: https://lab.dpdk.org/results/dashboard/patchsets/32478/ UNH-IOL DPDK Community Lab To manage your email subscriptions, visit: https://lab.dpdk.org/results/dashboard/preferences/subscriptions/