From mboxrd@z Thu Jan 1 00:00:00 1970 Return-Path: Received: from mails.dpdk.org (mails.dpdk.org [217.70.189.124]) by inbox.dpdk.org (Postfix) with ESMTP id 727D446163 for ; Sat, 1 Feb 2025 13:56:58 +0100 (CET) Received: from mails.dpdk.org (localhost [127.0.0.1]) by mails.dpdk.org (Postfix) with ESMTP id E0D834026B; Sat, 1 Feb 2025 13:56:57 +0100 (CET) Received: from mail-oa1-f99.google.com (mail-oa1-f99.google.com [209.85.160.99]) by mails.dpdk.org (Postfix) with ESMTP id 1BBAF40264 for ; Sat, 1 Feb 2025 13:56:57 +0100 (CET) Received: by mail-oa1-f99.google.com with SMTP id 586e51a60fabf-29fc424237bso1871741fac.0 for ; Sat, 01 Feb 2025 04:56:57 -0800 (PST) DKIM-Signature: v=1; a=rsa-sha256; c=relaxed/relaxed; d=iol.unh.edu; s=unh-iol; t=1738414616; x=1739019416; darn=dpdk.org; h=references:in-reply-to:cc:to:from:subject:message-id:date:from:to :cc:subject:date:message-id:reply-to; bh=i7ZoXq8DvjU972wUCvlpic1uWXn/jSvdwdc17/tTTQw=; b=ROIEqWx3g4BV4YHGw4lTtSBu7bGTVVtJM3d8DjU9pg+lGhVHah7wYQYW3CfrQpZmas oxOWOEYZOrgkGcnV9rtM6sKx4WguJGiZ20RxIjcORsbod+dtuGkZ45n83xwVh/cTzR0D qKH7VwMnagQvSAEVQc+czHfNoGNNJGKimuaBI= X-Google-DKIM-Signature: v=1; a=rsa-sha256; c=relaxed/relaxed; d=1e100.net; s=20230601; t=1738414616; x=1739019416; h=references:in-reply-to:cc:to:from:subject:message-id:date :x-gm-message-state:from:to:cc:subject:date:message-id:reply-to; bh=i7ZoXq8DvjU972wUCvlpic1uWXn/jSvdwdc17/tTTQw=; b=AtxzBr4oSRXi3i9j0BBVeKdi6YhstH3GS82jBprmh42s87Drk3Jhz/gC7zK15FN59F zerWNbCM7Ia1IdM7WO9H6F1FZoh6bNVXPUErmi0Ji2WzWrOd9MzG8rRU40NhnDEjJMz0 ze2X5uu1WOXWnQunUml8Fjk8EZdJbGTPNjHDjpTCObWLWQ1u28WOud962DWiJLaza+pv zN29beHlZ1Mp1ej1mQfVSc7CD3vXAIwKe1cdDsof2CWz+JxHNLdu3bZdFmPhLx8AUMX2 MuZss+ufQJX3bVuiiAFg98CftlIct8h6OMnTaWSild5PBEO2PYHOvb7W0xfocYYm3DBI WTOQ== X-Gm-Message-State: AOJu0YwybSYS4pZMhW3DWJ8f8RvNK56R5nmusITtVcTdwY6qY7GTe7aA ZkaxYp/mm2KOMY9c04ysXv2fJK3A/s19ICHABoAx4OsbJWq7SDBdFd09rnDdI2suCL9NI0XiU7T A+T/RP6KiRuvJpG/yWAEm0w4PJhARLDoqfV196t4bWc1/7CDoD++T7/ju X-Gm-Gg: ASbGncuo63VzDJ9crdYZ4cLPSJBrCn/iZnMNk0dKfhdQa1d1zuPtnRUKThfhT+vI1oT m3oy9UJKLnhivzo5pqI02ZLqPCVzj234b5Z7vlKPtSCF8B5bqIl8sL0bau/kXFj1I6rMkxe+jkG WLodQJfgOCGNf29mdjFx+5lCBriEUmgFD7wxi3OylHxm4b8HpwA6Mq4FppVr0J+4hlPCtuexCbU FmWV7CwVG6jWDts+ZxNoQbpBkhqhac5v4anFIwpjDh4Lj3oHBSthVtaZ+eg3eoRYdJIEBq2tIH2 k5zPBvllJg7yvBGV/KOkhj1NRiRlTqPIrg1Kd6esfg== X-Google-Smtp-Source: AGHT+IGSAGQspViJRTcOPkCLv6M3ovK1ZkfxVtRFtpDYG1tMDaLChCRF7zwiaO34GjJINOhQVrt4qPUrq876 X-Received: by 2002:a05:6870:3d97:b0:29e:5894:9de7 with SMTP id 586e51a60fabf-2b32f2db94dmr9604668fac.33.1738414616059; Sat, 01 Feb 2025 04:56:56 -0800 (PST) Received: from postal.iol.unh.edu (postal.iol.unh.edu. [2606:4100:3880:1234::84]) by smtp-relay.gmail.com with ESMTPS id 586e51a60fabf-2b356112377sm382731fac.6.2025.02.01.04.56.55 (version=TLS1_2 cipher=ECDHE-ECDSA-AES128-GCM-SHA256 bits=128/128); Sat, 01 Feb 2025 04:56:56 -0800 (PST) X-Relaying-Domain: iol.unh.edu Date: Sat, 01 Feb 2025 04:56:56 -0800 (PST) Message-ID: <679e1a18.050a0220.370108.4107SMTPIN_ADDED_MISSING@mx.google.com> Received: from [172.17.0.4] (unknown [172.18.0.217]) by postal.iol.unh.edu (Postfix) with ESMTP id 79FE26052471; Sat, 1 Feb 2025 07:56:55 -0500 (EST) Subject: |SUCCESS| pw150765-150766 [PATCH] [v7,2/2] net/af_xdp: Refactor af_x From: dpdklab@iol.unh.edu To: Test Report Cc: dpdk-test-reports@iol.unh.edu In-Reply-To: <20250201100300.2194018-3-ariel.otilibili@6wind.com> References: <20250201100300.2194018-3-ariel.otilibili@6wind.com> Content-Type: text/plain X-BeenThere: test-report@dpdk.org X-Mailman-Version: 2.1.29 Precedence: list List-Id: automatic DPDK test reports List-Unsubscribe: , List-Archive: List-Post: List-Help: List-Subscribe: , Errors-To: test-report-bounces@dpdk.org Test-Label: iol-compile-arm64-testing Test-Status: SUCCESS http://dpdk.org/patch/150766 _Testing PASS_ Submitter: Ariel Otilibili Date: Saturday, February 01 2025 10:03:00 DPDK git baseline: Repo:dpdk Branch: master CommitID:e290f8c00e068f06a37fbea251dfff2c78cb2aae 150765-150766 --> testing pass Upstream job id: Generic-DPDK-Compile-Meson#357077 Test environment and result as below: +----------------------------------------+--------------------+ | Environment | dpdk_meson_compile | +========================================+====================+ | RHEL9 (ARM) | PASS | +----------------------------------------+--------------------+ | Ubuntu 20.04 ARM GCC Cross Compile | PASS | +----------------------------------------+--------------------+ | Ubuntu 20.04 ARM SVE | PASS | +----------------------------------------+--------------------+ | Fedora 40 (ARM Clang) | PASS | +----------------------------------------+--------------------+ | Debian 12 with MUSDK | PASS | +----------------------------------------+--------------------+ | Fedora 40 (ARM) | PASS | +----------------------------------------+--------------------+ | Fedora 41 (ARM) | PASS | +----------------------------------------+--------------------+ | Fedora 41 (ARM Clang) | PASS | +----------------------------------------+--------------------+ | Ubuntu 20.04 (ARM) | PASS | +----------------------------------------+--------------------+ | Ubuntu 22.04 (ARM) | PASS | +----------------------------------------+--------------------+ | Ubuntu 24.04 (ARM) | PASS | +----------------------------------------+--------------------+ | CentOS Stream 9 (ARM) | PASS | +----------------------------------------+--------------------+ | Debian 11 (Buster) (ARM) | PASS | +----------------------------------------+--------------------+ | Debian 12 (arm) | PASS | +----------------------------------------+--------------------+ | Ubuntu 20.04 aarch32 GCC Cross Compile | PASS | +----------------------------------------+--------------------+ | Ubuntu 20.04 ARM Clang Cross Compile | PASS | +----------------------------------------+--------------------+ RHEL9 (ARM) Kernel: Depends on container host Compiler: gcc 11.5.0 20240719 (Red Hat 11.5.0-2) Ubuntu 20.04 ARM GCC Cross Compile Kernel: Depends on container host Compiler: aarch64-linux-gnu-gcc (Ubuntu 9.4.0-1ubuntu1~20.04.2) 9.4.0 Ubuntu 20.04 ARM SVE Kernel: Depends on container host Compiler: gcc (Ubuntu 10.5.0-1ubuntu1~20.04) 10.5.0 Fedora 40 (ARM Clang) Kernel: Depends on container host Compiler: clang 18.1.8 (Fedora 18.1.8-1.fc40) Debian 12 with MUSDK Kernel: Depends on container host Compiler: gcc (Debian 12.2.0-14) 12.2.0 Fedora 40 (ARM) Kernel: Depends on container host Compiler: gcc 14.2.1 20240912 (Red Hat 14.2.1-3) Fedora 41 (ARM) Kernel: Depends on container host Compiler: gcc 14.2.1 20240912 (Red Hat 14.2.1-3) Fedora 41 (ARM Clang) Kernel: Depends on container host Compiler: clang 19.1.5 (Fedora 19.1.5-1.fc41) Ubuntu 20.04 (ARM) Kernel: Depends on container host Compiler: gcc (Ubuntu 9.4.0-1ubuntu1~20.04.2) 9.4.0 Ubuntu 22.04 (ARM) Kernel: Depends on container host Compiler: gcc (Ubuntu 11.4.0-1ubuntu1~22.04) 11.4.0 Ubuntu 24.04 (ARM) Kernel: Depends on container host Compiler: gcc (Ubuntu 13.3.0-6ubuntu2~24.04) 13.3.0 CentOS Stream 9 (ARM) Kernel: Depends on container host Compiler: gcc 11.5.0 20240719 (Red Hat 11.5.0-2) Debian 11 (Buster) (ARM) Kernel: Depends on container host Compiler: gcc (Debian 10.2.1-6) 10.2.1 20210110 Debian 12 (arm) Kernel: Depends on container host Compiler: gcc (Debian 12.2.0-14) 12.2.0 Ubuntu 20.04 aarch32 GCC Cross Compile Kernel: Depends on container host Compiler: gcc 9.4.0 Ubuntu 20.04 ARM Clang Cross Compile Kernel: Depends on container host Compiler: clang 10.0.0-4ubuntu1 To view detailed results, visit: https://lab.dpdk.org/results/dashboard/patchsets/32478/ UNH-IOL DPDK Community Lab To manage your email subscriptions, visit: https://lab.dpdk.org/results/dashboard/preferences/subscriptions/