From mboxrd@z Thu Jan 1 00:00:00 1970 Return-Path: Received: from mails.dpdk.org (mails.dpdk.org [217.70.189.124]) by inbox.dpdk.org (Postfix) with ESMTP id 51A0C4616A for ; Sun, 2 Feb 2025 03:11:28 +0100 (CET) Received: from mails.dpdk.org (localhost [127.0.0.1]) by mails.dpdk.org (Postfix) with ESMTP id 22B4040264; Sun, 2 Feb 2025 03:11:28 +0100 (CET) Received: from mail-il1-f226.google.com (mail-il1-f226.google.com [209.85.166.226]) by mails.dpdk.org (Postfix) with ESMTP id 6B8474025A for ; Sun, 2 Feb 2025 03:11:26 +0100 (CET) Received: by mail-il1-f226.google.com with SMTP id e9e14a558f8ab-3cfc8a2415fso11063975ab.2 for ; Sat, 01 Feb 2025 18:11:26 -0800 (PST) DKIM-Signature: v=1; a=rsa-sha256; c=relaxed/relaxed; d=iol.unh.edu; s=unh-iol; t=1738462285; x=1739067085; darn=dpdk.org; h=cc:to:from:subject:message-id:date:from:to:cc:subject:date :message-id:reply-to; bh=ht9Z6LmCZ4yLmaKqCQIxPS0G4k8dBiLaa2JkpB39KQs=; b=H7P095fVwPNybrF++AWiclRAoJive66/t2/7jpm69BVU+i/eUwPS7hx36ROQ7jKncR faTf5c1eZeWhToRCaQ+be+H73dFyRBVRdwtAUe9wytMiUeee45/qLGBADeppakdM5qTG F0KY3CajCv2iFWP92keF8fDE2xwvrs7a9I5w8= X-Google-DKIM-Signature: v=1; a=rsa-sha256; c=relaxed/relaxed; d=1e100.net; s=20230601; t=1738462285; x=1739067085; h=cc:to:from:subject:message-id:date:x-gm-message-state:from:to:cc :subject:date:message-id:reply-to; bh=ht9Z6LmCZ4yLmaKqCQIxPS0G4k8dBiLaa2JkpB39KQs=; b=fmBSAkPtio+wOD2vUexwixURVUsCpyRaiy2fAvg/oHbm7jZMyIf2PBCM5csHFAKjMs BPpEJ9rcKyta/uAX2Y3fVpC9RxnNvaL7Yk+C0Bc2CDs/GU7/8scCQ65D4NoXrds4PeEV YIV9RXV56BBXdZ8JR19DJGu9AD0IZcP3kYzoOlj4LFNlcYFSbR53pvI/dxtwosOrfeRJ 8oXTd7Qj0BFbS9P+oKHzHo3aOp+wuEoEmnO3X1rX4fav5Www8i2H1sXJ5QykyJUWnVe/ 4xVAqB0I0JRJFMAbaBhKXj/Sq3tyRJsTjp/h9E9oUiJYUutENxn5buoSxlKpUA25Bphg yjxg== X-Gm-Message-State: AOJu0Yw1kRDkLVVZWoLYq6QEG1eG3nN3YLozMpz7869ooFgWlrE4hDEt 0R9wA4L5fQae1TcwONS0Pfu7yHdkvGdZEeTEH0v+qLOqYB3tNOGN+G8sNM3/8gtO65NQKTeHY2u RqJIv0oFi5AF+bVv5vzp0AcZBhf3kr70xJUjQNqpFOl3CSyXbK9/lE/3m X-Gm-Gg: ASbGncuK9djxTo/Lg7Z5IMJJgayBD5BTM6UbxQX4ZZqPDMyh2lPVeGJtPaErbEy58FA IjzZF/BgL3a9nCONWv7DRvUhWS4Ym5LB5eJtEIH1fnVHZCySR8XFfwA4jUMCeitn8mOwBnBOPXc IRWgPu2PnfPGcu6GtxywK2ojkZYP3W8cNLNI5HoJ0URZBQHW9zzxNkPiiWEPzdAORWweIgquH0p EhX6lQu7Xm40vQluGwYdyfJk2WhTfY+iA1kj9q86m97s/GS2G8VQDJBVaXY0kJg8ZOYGM4A3FyV zfa6seU3YULd5ZF3rdILNSromx/rcfMu6yL7vQr/Pw== X-Google-Smtp-Source: AGHT+IFQhW6Zzs21cv6DfcU6hyinIPJZ1x5S55xRwopsemz/PBIRR+11mD1qL55HlQdpSDDJGqVUJSzGbv/u X-Received: by 2002:a05:6e02:1707:b0:3ce:7852:129b with SMTP id e9e14a558f8ab-3cffe445b8amr163392065ab.20.1738462285459; Sat, 01 Feb 2025 18:11:25 -0800 (PST) Received: from postal.iol.unh.edu (postal.iol.unh.edu. [2606:4100:3880:1234::84]) by smtp-relay.gmail.com with ESMTPS id e9e14a558f8ab-3d00a515108sm4705695ab.29.2025.02.01.18.11.25 (version=TLS1_2 cipher=ECDHE-ECDSA-AES128-GCM-SHA256 bits=128/128); Sat, 01 Feb 2025 18:11:25 -0800 (PST) X-Relaying-Domain: iol.unh.edu Date: Sat, 01 Feb 2025 18:11:25 -0800 (PST) Message-ID: <679ed44d.050a0220.12f74c.7449SMTPIN_ADDED_MISSING@mx.google.com> Received: from [172.17.0.4] (unknown [172.18.0.217]) by postal.iol.unh.edu (Postfix) with ESMTP id EA6C66052471; Sat, 1 Feb 2025 21:11:24 -0500 (EST) Subject: |SUCCESS| [GIT MASTER] dc4ce7c2538b713e16887eb598da309bc7b4d528 From: dpdklab@iol.unh.edu To: Test Report Cc: dpdk-test-reports@iol.unh.edu Content-Type: text/plain X-BeenThere: test-report@dpdk.org X-Mailman-Version: 2.1.29 Precedence: list List-Id: automatic DPDK test reports List-Unsubscribe: , List-Archive: List-Post: List-Help: List-Subscribe: , Errors-To: test-report-bounces@dpdk.org _Testing PASS_ Branch: dpdk dc4ce7c2538b713e16887eb598da309bc7b4d528 --> testing pass Upstream job id: Generic-DPDK-Compile-ABI#114483 Test environment and result as below: +-------------------+----------+ | Environment | abi_test | +===================+==========+ | Fedora 40 | PASS | +-------------------+----------+ | CentOS Stream 9 | PASS | +-------------------+----------+ | Debian 12 | PASS | +-------------------+----------+ | Debian Bullseye | PASS | +-------------------+----------+ | Fedora 41 (Clang) | PASS | +-------------------+----------+ | openSUSE Leap 15 | PASS | +-------------------+----------+ | Fedora 40 (Clang) | PASS | +-------------------+----------+ | RHEL8 | PASS | +-------------------+----------+ | Fedora 41 | PASS | +-------------------+----------+ | RHEL9 | PASS | +-------------------+----------+ | Ubuntu 22.04 | PASS | +-------------------+----------+ | Ubuntu 24.04 | PASS | +-------------------+----------+ | Arch Linux | PASS | +-------------------+----------+ Fedora 40 Kernel: Depends on container host Compiler: gcc 14.2.1 20240912 (Red Hat 14.2.1-3) CentOS Stream 9 Kernel: Depends on container host Compiler: gcc 11.5.0 20240719 (Red Hat 11.5.0-2) Debian 12 Kernel: Depends on container host Compiler: gcc (Debian 12.2.0-14) 12.2.0 Debian Bullseye Kernel: Depends on container host Compiler: gcc (Debian 10.2.1-6) 10.2.1 20210110 Fedora 41 (Clang) Kernel: Depends on container host Compiler: clang 19.1.5 (Fedora 19.1.5-1.fc41) openSUSE Leap 15 Kernel: Depends on container host Compiler: gcc (SUSE Linux) 7.5.0 Fedora 40 (Clang) Kernel: Depends on container host Compiler: clang 18.1.8 (Fedora 18.1.8-1.fc40) RHEL8 Kernel: Depends on container host Compiler: gcc 8.5.0 20210514 (Red Hat 8.5.0-22) Fedora 41 Kernel: Depends on container host Compiler: gcc 14.2.1 20240912 (Red Hat 14.2.1-3) RHEL9 Kernel: Depends on container host Compiler: gcc 11.5.0 20240719 (Red Hat 11.5.0-2) Ubuntu 22.04 Kernel: Depends on container host Compiler: gcc (Ubuntu 11.4.0-1ubuntu1~22.04) 11.4.0 Ubuntu 24.04 Kernel: Depends on container host Compiler: gcc (Ubuntu 13.3.0-6ubuntu2~24.04) 13.3.0 Arch Linux Kernel: Depends on container host Compiler: gcc 14.2.1 20240910 To view detailed results, visit: https://lab.dpdk.org/results/dashboard/tarballs/32417/ UNH-IOL DPDK Community Lab To manage your email subscriptions, visit: https://lab.dpdk.org/results/dashboard/preferences/subscriptions/