From mboxrd@z Thu Jan 1 00:00:00 1970 Return-Path: Received: from mails.dpdk.org (mails.dpdk.org [217.70.189.124]) by inbox.dpdk.org (Postfix) with ESMTP id 6C75C4616A for ; Sun, 2 Feb 2025 03:36:02 +0100 (CET) Received: from mails.dpdk.org (localhost [127.0.0.1]) by mails.dpdk.org (Postfix) with ESMTP id 41B5640264; Sun, 2 Feb 2025 03:36:02 +0100 (CET) Received: from mail-il1-f228.google.com (mail-il1-f228.google.com [209.85.166.228]) by mails.dpdk.org (Postfix) with ESMTP id 2A5E34025A for ; Sun, 2 Feb 2025 03:36:01 +0100 (CET) Received: by mail-il1-f228.google.com with SMTP id e9e14a558f8ab-3a813899384so8405045ab.1 for ; Sat, 01 Feb 2025 18:36:01 -0800 (PST) DKIM-Signature: v=1; a=rsa-sha256; c=relaxed/relaxed; d=iol.unh.edu; s=unh-iol; t=1738463760; x=1739068560; darn=dpdk.org; h=cc:to:from:subject:message-id:date:from:to:cc:subject:date :message-id:reply-to; bh=DfKQZTl9mclNmeEmObYyebowucsQwpK9xewLPoru+ho=; b=ZXRO0JZ2DSDCeMxMjUKof7OaGHL5m2OGWl7XgtmvD+jbY83z/Fg6TnDgF2vbuXfEUR QWdzcADMAJ6J7/EoOhNML92XcqmSc0c+sIRWtWsRVjlINAfI6y3eSsfBZWE1DPIUhjWI D25fnyEowpNpWAmpzYMFFy+AlpDL24xgDUYDM= X-Google-DKIM-Signature: v=1; a=rsa-sha256; c=relaxed/relaxed; d=1e100.net; s=20230601; t=1738463760; x=1739068560; h=cc:to:from:subject:message-id:date:x-gm-message-state:from:to:cc :subject:date:message-id:reply-to; bh=DfKQZTl9mclNmeEmObYyebowucsQwpK9xewLPoru+ho=; b=gpv5kY9NF1VmI8Dt2WVFHxOmZzlV0VqnhhgTJC7VtSQUtHt79c2ondZPPX1GWizTwj o/gClWy+Ht1/2wUx3tVhVzMqAqA7HkxPm4P9Ilo7p9eEIkJQe8FIU7fakuhRCx68ERBy bTEwVV7qa9vGKbs0aZpmjivXd/GLErzAv5TePHez48nzk8e8Gr3MAfN+Rl8V+ydpcNFl Gi5IMb8q6jTe8jgtQOx0Krth/j286gQIXJrAjOZGV4LDZThFGTIFeTlJqIvFf3iZ3NU1 FgGgOZivAEmxJNlyGhSXMdyZuGoAkEzsE7Hex97imxV78jwyek4lMOsbHLFsaOGlIyfs 04Qw== X-Gm-Message-State: AOJu0YzRdJNEbS4lxYj5voPjbGlIp9Ed8ySE31WZZdlDMelShhKc7sPU vOM02pS3gYtpRgI73XQWowF8MODyEIFY1LixPHctXZveLIwAw+Eot7lYvDO9e5IzZq8wKQWZwTV 4XoRHbT8++2ypImnKvFY7HovGu3sDhWc05xOlqgaEa7BqYGmIYwdtMkHV X-Gm-Gg: ASbGncsyxurpU1bMkwXiwlZeMcYT7lDnVWfHK4bLQY1mNW+UK7avg0zN4qCtgYezU7D qoml3o9GEHWk175FlZMP3Fglb9hQav51SYkidvWCvFoujLcAryrGI3MHUqSvenPJZ57kErhh63c tCZ5jD3wAQV2rKGOao25OI3sTBpvAfmGPgNwlJQo7iTGf5JG+BOn4IzlPqVRVfgzrOGkmT/N06q vZBXaEACVHnb5Vfilw33wvELCtCTYL3fLcCEZBG/gVALHINaKIL1rPS2SWWlfX+ZYPqVV+0IEa1 TI4iCdbLUWg7eMu3NU0QGI7DrgjVgWB6zw5BkslO5Q== X-Google-Smtp-Source: AGHT+IEqLmXuUh1VefkQFnjCDzYgMq2f6bzv7D3VHHz112z+isvpZmWoNbUHcPEYpWmjlSiTFFivzmctzZnz X-Received: by 2002:a05:6e02:13ad:b0:3d0:255e:fdc with SMTP id e9e14a558f8ab-3d0255e109fmr28944855ab.15.1738463760368; Sat, 01 Feb 2025 18:36:00 -0800 (PST) Received: from postal.iol.unh.edu (postal.iol.unh.edu. [2606:4100:3880:1234::84]) by smtp-relay.gmail.com with ESMTPS id e9e14a558f8ab-3d00fe861desm3978845ab.7.2025.02.01.18.36.00 (version=TLS1_2 cipher=ECDHE-ECDSA-AES128-GCM-SHA256 bits=128/128); Sat, 01 Feb 2025 18:36:00 -0800 (PST) X-Relaying-Domain: iol.unh.edu Date: Sat, 01 Feb 2025 18:36:00 -0800 (PST) Message-ID: <679eda10.050a0220.332451.30d2SMTPIN_ADDED_MISSING@mx.google.com> Received: from [172.17.0.4] (unknown [172.18.0.217]) by postal.iol.unh.edu (Postfix) with ESMTP id C882E6052471; Sat, 1 Feb 2025 21:35:59 -0500 (EST) Subject: |WARNING| [GIT MASTER] dc4ce7c2538b713e16887eb598da309bc7b4d528 From: dpdklab@iol.unh.edu To: Test Report Cc: dpdk-test-reports@iol.unh.edu Content-Type: text/plain X-BeenThere: test-report@dpdk.org X-Mailman-Version: 2.1.29 Precedence: list List-Id: automatic DPDK test reports List-Unsubscribe: , List-Archive: List-Post: List-Help: List-Subscribe: , Errors-To: test-report-bounces@dpdk.org _Testing issues_ Branch: dpdk dc4ce7c2538b713e16887eb598da309bc7b4d528 --> testing issues Upstream job id: Generic-DPDK-Compile-Meson#357116 Test environment and result as below: +---------------------+--------------------+------------------+-------------------+-------------------+----------------------+ | Environment | dpdk_meson_compile | dpdk_compile_ovs | dpdk_compile_spdk | dpdk_msvc_compile | dpdk_mingw64_compile | +=====================+====================+==================+===================+===================+======================+ | CentOS Stream 9 | PASS | PASS | PASS | SKIPPED | SKIPPED | +---------------------+--------------------+------------------+-------------------+-------------------+----------------------+ | Debian Bullseye | PASS | PASS | PASS | SKIPPED | SKIPPED | +---------------------+--------------------+------------------+-------------------+-------------------+----------------------+ | Fedora 40 (Clang) | PASS | PASS | PASS | SKIPPED | SKIPPED | +---------------------+--------------------+------------------+-------------------+-------------------+----------------------+ | Debian 12 | PASS | PASS | PASS | SKIPPED | SKIPPED | +---------------------+--------------------+------------------+-------------------+-------------------+----------------------+ | Fedora 41 (Clang) | PASS | PASS | PASS | SKIPPED | SKIPPED | +---------------------+--------------------+------------------+-------------------+-------------------+----------------------+ | Fedora 40 | PASS | PASS | PASS | SKIPPED | SKIPPED | +---------------------+--------------------+------------------+-------------------+-------------------+----------------------+ | Fedora 41 | PASS | PASS | PASS | SKIPPED | SKIPPED | +---------------------+--------------------+------------------+-------------------+-------------------+----------------------+ | openSUSE Leap 15 | PASS | SKIPPED | SKIPPED | SKIPPED | SKIPPED | +---------------------+--------------------+------------------+-------------------+-------------------+----------------------+ | RHEL8 | PASS | PASS | SKIPPED | SKIPPED | SKIPPED | +---------------------+--------------------+------------------+-------------------+-------------------+----------------------+ | RHEL9 | PASS | PASS | SKIPPED | SKIPPED | SKIPPED | +---------------------+--------------------+------------------+-------------------+-------------------+----------------------+ | Ubuntu 20.04 | PASS | WARN | SKIPPED | SKIPPED | SKIPPED | +---------------------+--------------------+------------------+-------------------+-------------------+----------------------+ | Ubuntu 22.04 | PASS | PASS | PASS | SKIPPED | SKIPPED | +---------------------+--------------------+------------------+-------------------+-------------------+----------------------+ | Ubuntu 24.04 | PASS | PASS | PASS | SKIPPED | SKIPPED | +---------------------+--------------------+------------------+-------------------+-------------------+----------------------+ | Alpine | PASS | PASS | SKIPPED | SKIPPED | SKIPPED | +---------------------+--------------------+------------------+-------------------+-------------------+----------------------+ | Arch Linux | PASS | PASS | SKIPPED | SKIPPED | SKIPPED | +---------------------+--------------------+------------------+-------------------+-------------------+----------------------+ | FreeBSD 13.4 | PASS | SKIPPED | SKIPPED | SKIPPED | SKIPPED | +---------------------+--------------------+------------------+-------------------+-------------------+----------------------+ | FreeBSD 14.2 | PASS | SKIPPED | SKIPPED | SKIPPED | SKIPPED | +---------------------+--------------------+------------------+-------------------+-------------------+----------------------+ | Windows Server 2022 | SKIPPED | SKIPPED | SKIPPED | PASS | PASS | +---------------------+--------------------+------------------+-------------------+-------------------+----------------------+ ==== 20 line log output for Ubuntu 20.04 (dpdk_compile_ovs): ==== --- Failed to get log output --- ==== End log output ==== CentOS Stream 9 Kernel: Depends on container host Compiler: gcc 11.5.0 20240719 (Red Hat 11.5.0-2) Debian Bullseye Kernel: Depends on container host Compiler: gcc (Debian 10.2.1-6) 10.2.1 20210110 Fedora 40 (Clang) Kernel: Depends on container host Compiler: clang 18.1.8 (Fedora 18.1.8-1.fc40) Debian 12 Kernel: Depends on container host Compiler: gcc (Debian 12.2.0-14) 12.2.0 Fedora 41 (Clang) Kernel: Depends on container host Compiler: clang 19.1.5 (Fedora 19.1.5-1.fc41) Fedora 40 Kernel: Depends on container host Compiler: gcc 14.2.1 20240912 (Red Hat 14.2.1-3) Fedora 41 Kernel: Depends on container host Compiler: gcc 14.2.1 20240912 (Red Hat 14.2.1-3) openSUSE Leap 15 Kernel: Depends on container host Compiler: gcc (SUSE Linux) 7.5.0 RHEL8 Kernel: Depends on container host Compiler: gcc 8.5.0 20210514 (Red Hat 8.5.0-22) RHEL9 Kernel: Depends on container host Compiler: gcc 11.5.0 20240719 (Red Hat 11.5.0-2) Ubuntu 20.04 Kernel: Depends on container host Compiler: gcc (Ubuntu 9.4.0-1ubuntu1~20.04.2) 9.4.0 Ubuntu 22.04 Kernel: Depends on container host Compiler: gcc (Ubuntu 11.4.0-1ubuntu1~22.04) 11.4.0 Ubuntu 24.04 Kernel: Depends on container host Compiler: gcc (Ubuntu 13.3.0-6ubuntu2~24.04) 13.3.0 Alpine Kernel: Depends on container host Compiler: gcc (Alpine 14.2.0) 14.2.0 Arch Linux Kernel: Depends on container host Compiler: gcc 14.2.1 20240910 FreeBSD 13.4 Kernel: 13.4-RELEASE-p1 Compiler: clang 18.1.6 FreeBSD 14.2 Kernel: 14.2-RELEASE Compiler: clang 18.1.6 Windows Server 2022 Kernel: 10.0.20348.2031 Compiler: clang 15.0.7, gcc 14.1.0 (MinGW), and MSVC VS 19.39.33521 To view detailed results, visit: https://lab.dpdk.org/results/dashboard/tarballs/32417/ UNH-IOL DPDK Community Lab To manage your email subscriptions, visit: https://lab.dpdk.org/results/dashboard/preferences/subscriptions/