From mboxrd@z Thu Jan 1 00:00:00 1970 Return-Path: Received: from mails.dpdk.org (mails.dpdk.org [217.70.189.124]) by inbox.dpdk.org (Postfix) with ESMTP id 58AC34616A for ; Sun, 2 Feb 2025 03:46:46 +0100 (CET) Received: from mails.dpdk.org (localhost [127.0.0.1]) by mails.dpdk.org (Postfix) with ESMTP id 2F16240264; Sun, 2 Feb 2025 03:46:46 +0100 (CET) Received: from mail-il1-f228.google.com (mail-il1-f228.google.com [209.85.166.228]) by mails.dpdk.org (Postfix) with ESMTP id 309794025A for ; Sun, 2 Feb 2025 03:46:45 +0100 (CET) Received: by mail-il1-f228.google.com with SMTP id e9e14a558f8ab-3d0062fb20bso28696095ab.2 for ; Sat, 01 Feb 2025 18:46:45 -0800 (PST) DKIM-Signature: v=1; a=rsa-sha256; c=relaxed/relaxed; d=iol.unh.edu; s=unh-iol; t=1738464404; x=1739069204; darn=dpdk.org; h=cc:to:from:subject:message-id:date:from:to:cc:subject:date :message-id:reply-to; bh=VTUAVe4U9zi8N4aRpluwOvo8t3+I9fIhGkUmD401a+c=; b=IPTHAY3hhvzlAFDa9pELBSMM50r02mvloHQLcPLhw9Dqk4RualpfVcposorZnBt7/Z WATXb//NhIyNVz+mY+8OnKXc0NbxtNAIDgqWxFlh+s8y6DdvXGgJtyN+ZHwyqhe3QVcf Hz1bmx0D+FqoPXdXOFQczRD8d130jb4vv0/B8= X-Google-DKIM-Signature: v=1; a=rsa-sha256; c=relaxed/relaxed; d=1e100.net; s=20230601; t=1738464404; x=1739069204; h=cc:to:from:subject:message-id:date:x-gm-message-state:from:to:cc :subject:date:message-id:reply-to; bh=VTUAVe4U9zi8N4aRpluwOvo8t3+I9fIhGkUmD401a+c=; b=HzdPhhMqXm2C9+8DcAKduUPEU4JMDpIzmmZr6fpw/aGHMoDzECT5ZCmsmscTfSi93v HJkWNjQzn1ajXPJ5oCWDieWaggWj9tmvBiRRrzUVyZqrvi3k9J8k65QG1gl2rmTlkpHD uQmFusG+AWD97KmZWiLTUDXzZNUymtgud0uKYXQ/x3A7xp9XVw4Or45Dqh9DJ8brajPT ex3fwm7bNsq/PVZo+1rfnhIiIeKjXhi2woy4laEdhEiQV0uSC7I3HZozqYFnhqWia2l6 Ez0y7joOhsLCUQffUZAM3WsFhS2loDqPCv/Q9wgDNDRqj8eiDhEa6CTz7nSjMsmFCOmG RyNA== X-Gm-Message-State: AOJu0YwRejUceGPZXGUGivT5sQD56530bTd37CvgSU2/elnKM2bo9NL1 y15BZKQdrNPjcfRnuiG6HwTs6zYMu96RZFkzXQPSpAZ8NKad/UvYxjGJ8aQRwVubykMaLKcDWDh 4ak5TN6n0Jkmo4/s9edICrvKLKftr697AynLNsVZo X-Gm-Gg: ASbGncsK/6307lB8qixn/f2oz0StJ6EzkB4wkVn/jhqW2mLoaXCkqK+gANum3GBKzYU vYvEyx5jePzTPk6mWAlH+NvD5uwFtZ6m78qRvxLSNSECu1S/Bi7LygwRLZ38be9qcVDYEw/jRP6 Rws50Z1Dr86hwLslQAsj5UgS3IjolOE7Z4FFa0kY/+d3Jv2D00KjkRRafwV49cZd1gv/IwQtwDP TVNn9vhI2jfTjRKWNhtXQzD7ZTCQqlitOVtxLrIARO4wsn37Jni68UWJeMtCrT/PycfNYV+okC9 NVOQE50pQFUh22aviT+46PnA1AiLog== X-Google-Smtp-Source: AGHT+IGLOKwLtpUeW13+lxqNON8MZ+ru7mGj3/gZYFObMAaRlTPcC4i18H8ZGryd21NfjJx5mK3nBssLRCgQ X-Received: by 2002:a92:c241:0:b0:3d0:137a:8ca2 with SMTP id e9e14a558f8ab-3d0137a8dd0mr100653165ab.22.1738464404499; Sat, 01 Feb 2025 18:46:44 -0800 (PST) Received: from postal.iol.unh.edu (postal.iol.unh.edu. [132.177.123.84]) by smtp-relay.gmail.com with ESMTPS id e9e14a558f8ab-3d00a4f8e04sm4751985ab.13.2025.02.01.18.46.44 (version=TLS1_2 cipher=ECDHE-ECDSA-AES128-GCM-SHA256 bits=128/128); Sat, 01 Feb 2025 18:46:44 -0800 (PST) X-Relaying-Domain: iol.unh.edu Date: Sat, 01 Feb 2025 18:46:44 -0800 (PST) Message-ID: <679edc94.050a0220.124875.795bSMTPIN_ADDED_MISSING@mx.google.com> Received: from [172.17.0.4] (unknown [172.18.0.217]) by postal.iol.unh.edu (Postfix) with ESMTP id D797F6052471; Sat, 1 Feb 2025 21:46:43 -0500 (EST) Subject: |SUCCESS| [GIT MASTER] dc4ce7c2538b713e16887eb598da309bc7b4d528 From: dpdklab@iol.unh.edu To: Test Report Cc: dpdk-test-reports@iol.unh.edu Content-Type: text/plain X-BeenThere: test-report@dpdk.org X-Mailman-Version: 2.1.29 Precedence: list List-Id: automatic DPDK test reports List-Unsubscribe: , List-Archive: List-Post: List-Help: List-Subscribe: , Errors-To: test-report-bounces@dpdk.org _Testing PASS_ Branch: dpdk dc4ce7c2538b713e16887eb598da309bc7b4d528 --> testing pass Upstream job id: ACVP-FIPS-testing#8757 Test environment and result as below: +--------------------+----------------------+----------------------+ | Environment | compressdev_zlib_pmd | dpdk_fips_validation | +====================+======================+======================+ | Ubuntu 22.04 (ARM) | PASS | SKIPPED | +--------------------+----------------------+----------------------+ | Ubuntu 22.04 | PASS | SKIPPED | +--------------------+----------------------+----------------------+ | Ubuntu 20.04 | SKIPPED | PASS | +--------------------+----------------------+----------------------+ Ubuntu 22.04 (ARM) Kernel: 5.15.0-97-generic Compiler: gcc gcc (Ubuntu 11.4.0-1ubuntu1~22.04) 11.4.0 Ubuntu 22.04 Kernel: 5.15.0-100-generic Compiler: gcc gcc (Ubuntu 11.4.0-1ubuntu1~22.04) 11.4.0 Ubuntu 20.04 Kernel: Depends on container host Compiler: gcc (Ubuntu 9.4.0-1ubuntu1~20.04.2) 9.4.0 To view detailed results, visit: https://lab.dpdk.org/results/dashboard/tarballs/32417/ UNH-IOL DPDK Community Lab To manage your email subscriptions, visit: https://lab.dpdk.org/results/dashboard/preferences/subscriptions/