From mboxrd@z Thu Jan 1 00:00:00 1970 Return-Path: Received: from mails.dpdk.org (mails.dpdk.org [217.70.189.124]) by inbox.dpdk.org (Postfix) with ESMTP id D16834616B for ; Sun, 2 Feb 2025 04:04:45 +0100 (CET) Received: from mails.dpdk.org (localhost [127.0.0.1]) by mails.dpdk.org (Postfix) with ESMTP id A2F3B40264; Sun, 2 Feb 2025 04:04:45 +0100 (CET) Received: from mail-qt1-f225.google.com (mail-qt1-f225.google.com [209.85.160.225]) by mails.dpdk.org (Postfix) with ESMTP id 8C1B24025A for ; Sun, 2 Feb 2025 04:04:44 +0100 (CET) Received: by mail-qt1-f225.google.com with SMTP id d75a77b69052e-46fa764aac2so28942141cf.1 for ; Sat, 01 Feb 2025 19:04:44 -0800 (PST) DKIM-Signature: v=1; a=rsa-sha256; c=relaxed/relaxed; d=iol.unh.edu; s=unh-iol; t=1738465484; x=1739070284; darn=dpdk.org; h=cc:to:from:subject:message-id:date:from:to:cc:subject:date :message-id:reply-to; bh=QZlnMPn0oHHHf8Og2vUrRbMWIyKMbsy61TnRp6rIpgY=; b=V3LYaJC/SBwUQ8+5VsHA1SxHgSCBOyBIPN1sEpwKED4fTK4Q/pZ9mNt8eqT1YKb1/0 Z9Q1pOXjPjT4+pUo9PEg95jN3VVJo30PGHVeSh9zxXjpCI8tO1QJrbqzSTTtPg+3RVNv 0t3u5kBsbGl8FlB+a4CvgyNlkwmyYm98uFoeo= X-Google-DKIM-Signature: v=1; a=rsa-sha256; c=relaxed/relaxed; d=1e100.net; s=20230601; t=1738465484; x=1739070284; h=cc:to:from:subject:message-id:date:x-gm-message-state:from:to:cc :subject:date:message-id:reply-to; bh=QZlnMPn0oHHHf8Og2vUrRbMWIyKMbsy61TnRp6rIpgY=; b=RHUlHKKKJLPezBrDhkbDJkIoSMnXoMK6UQjIhVn6+nzYne7oCbdYo9BkDESxN8pUh+ a/iKq+4V4lK4TOjQTrxSlOBuSarSGLxJ52rCHzS1GdiRWywl0XPKqQXNHNvMe+1SEqOq +LLOazFnNEWNGWPO0ga5nDlyLVRlzSxEgIIX6cy5iOYB3f++ZAVxttGPHdPTRhDks3bX ywQg1S7Wt5X//IzhEHyXKgOpcn90ZmM5TRx7epdDzeUmI1kikjmj33bs7lwk0Womu3kl xzAc0A/B33PYkgSDW+IaO6ZYH4yeQuGO3aDuAUdmHJ8AKkkdkGPkcZDG/pY5BOoos7+j 7SYQ== X-Gm-Message-State: AOJu0YyqJhizha/La3ggi8rAnTH36k128DrFY9OI3szVrTvK+Pmcp64H QlMedz/hNCPozEK7BkYSaojG6m6NrNFJPrs+99AVYCRr9c7EiScrvWQOKTjQqPLopYZigws5BR4 XKRzN7/buJIfBQ42wjURr67bizVOQiH3WIrW0x1zf6FqlDagBIYg1Msqb X-Gm-Gg: ASbGncvuIPenNzzY+VrRW8ACzCK4x73gIe1m+T8oxfQ0ewV56CywJGu1Lg5MpDMHkm7 KUTA8/W13t0uBC1aezmtppW4Jyh+aiSf4f9FH8sn55tT4vbRxcP8kS/+KiDmOSyjsr8z1IBj+Fu jAIAS62eTKkuUvbhrSNPlWcQYfPD7oMab6AOnY9cNRBS9wgkcizMaB0+cSwYeuJOVNXD8O3Oi4G jU2WaKXJkMUK3G5/KCcUkjA7bkXDBm5ji8iHgXseTTuVkdqfeC41y3Ko9oBzsJ89kNfkaqTS3Qn /QALyCGvR++S1qinoLMNjiXp5gZtla8IeY6Ie/vBYA== X-Google-Smtp-Source: AGHT+IEpgTkWXd98+ukU1ZWV1pP9zUY4XLFW9JDx/uYzjFuol4fInoyS+Mx9YDBk/VB4ktt4TVOAo8OkHGrc X-Received: by 2002:a05:6214:e4c:b0:6d8:9660:8877 with SMTP id 6a1803df08f44-6e243bb8e16mr258556076d6.18.1738465483797; Sat, 01 Feb 2025 19:04:43 -0800 (PST) Received: from postal.iol.unh.edu (postal.iol.unh.edu. [2606:4100:3880:1234::84]) by smtp-relay.gmail.com with ESMTPS id 6a1803df08f44-6e25482ef8asm4145836d6.34.2025.02.01.19.04.43 (version=TLS1_2 cipher=ECDHE-ECDSA-AES128-GCM-SHA256 bits=128/128); Sat, 01 Feb 2025 19:04:43 -0800 (PST) X-Relaying-Domain: iol.unh.edu Date: Sat, 01 Feb 2025 19:04:43 -0800 (PST) Message-ID: <679ee0cb.050a0220.17fd68.3b89SMTPIN_ADDED_MISSING@mx.google.com> Received: from [172.17.0.4] (unknown [172.18.0.217]) by postal.iol.unh.edu (Postfix) with ESMTP id 7912D6052471; Sat, 1 Feb 2025 22:04:43 -0500 (EST) Subject: |SUCCESS| [GIT MASTER] dc4ce7c2538b713e16887eb598da309bc7b4d528 From: dpdklab@iol.unh.edu To: Test Report Cc: dpdk-test-reports@iol.unh.edu Content-Type: text/plain X-BeenThere: test-report@dpdk.org X-Mailman-Version: 2.1.29 Precedence: list List-Id: automatic DPDK test reports List-Unsubscribe: , List-Archive: List-Post: List-Help: List-Subscribe: , Errors-To: test-report-bounces@dpdk.org _Testing PASS_ Branch: dpdk dc4ce7c2538b713e16887eb598da309bc7b4d528 --> testing pass Upstream job id: Generic-Unit-Test-DPDK#311014 Test environment and result as below: +-----------------------------+----------------+---------------------------+------------------------------+--------------+ | Environment | dpdk_unit_test | cryptodev_sw_zuc_autotest | cryptodev_sw_snow3g_autotest | lpm_autotest | +=============================+================+===========================+==============================+==============+ | CentOS Stream 9 (ARM) | PASS | SKIPPED | SKIPPED | SKIPPED | +-----------------------------+----------------+---------------------------+------------------------------+--------------+ | Debian 12 (arm) | PASS | PASS | PASS | SKIPPED | +-----------------------------+----------------+---------------------------+------------------------------+--------------+ | Debian 11 (Buster) (ARM) | PASS | SKIPPED | SKIPPED | SKIPPED | +-----------------------------+----------------+---------------------------+------------------------------+--------------+ | Fedora 40 (ARM) | PASS | SKIPPED | SKIPPED | SKIPPED | +-----------------------------+----------------+---------------------------+------------------------------+--------------+ | RHEL9 (ARM) | PASS | SKIPPED | SKIPPED | SKIPPED | +-----------------------------+----------------+---------------------------+------------------------------+--------------+ | Ubuntu 20.04 (ARM) | PASS | SKIPPED | SKIPPED | SKIPPED | +-----------------------------+----------------+---------------------------+------------------------------+--------------+ | Fedora 41 (ARM) | PASS | SKIPPED | SKIPPED | SKIPPED | +-----------------------------+----------------+---------------------------+------------------------------+--------------+ | Ubuntu 22.04 (ARM) | PASS | SKIPPED | SKIPPED | SKIPPED | +-----------------------------+----------------+---------------------------+------------------------------+--------------+ | Fedora 40 (ARM Clang) | PASS | SKIPPED | SKIPPED | SKIPPED | +-----------------------------+----------------+---------------------------+------------------------------+--------------+ | 32-bit Ubuntu 22.04.4 (ARM) | PASS | SKIPPED | SKIPPED | SKIPPED | +-----------------------------+----------------+---------------------------+------------------------------+--------------+ | Fedora 41 (ARM Clang) | PASS | SKIPPED | SKIPPED | SKIPPED | +-----------------------------+----------------+---------------------------+------------------------------+--------------+ | Ubuntu 24.04 (ARM) | PASS | SKIPPED | SKIPPED | SKIPPED | +-----------------------------+----------------+---------------------------+------------------------------+--------------+ | Ubuntu 20.04 ARM SVE | SKIPPED | SKIPPED | SKIPPED | PASS | +-----------------------------+----------------+---------------------------+------------------------------+--------------+ CentOS Stream 9 (ARM) Kernel: Depends on container host Compiler: gcc 11.5.0 20240719 (Red Hat 11.5.0-2) Debian 12 (arm) Kernel: Depends on container host Compiler: gcc (Debian 12.2.0-14) 12.2.0 Debian 11 (Buster) (ARM) Kernel: Depends on container host Compiler: gcc (Debian 10.2.1-6) 10.2.1 20210110 Fedora 40 (ARM) Kernel: Depends on container host Compiler: gcc 14.2.1 20240912 (Red Hat 14.2.1-3) RHEL9 (ARM) Kernel: Depends on container host Compiler: gcc 11.5.0 20240719 (Red Hat 11.5.0-2) Ubuntu 20.04 (ARM) Kernel: Depends on container host Compiler: gcc (Ubuntu 9.4.0-1ubuntu1~20.04.2) 9.4.0 Fedora 41 (ARM) Kernel: Depends on container host Compiler: gcc 14.2.1 20240912 (Red Hat 14.2.1-3) Ubuntu 22.04 (ARM) Kernel: Depends on container host Compiler: gcc (Ubuntu 11.4.0-1ubuntu1~22.04) 11.4.0 Fedora 40 (ARM Clang) Kernel: Depends on container host Compiler: clang 18.1.8 (Fedora 18.1.8-1.fc40) 32-bit Ubuntu 22.04.4 (ARM) Kernel: 5.15.83+ aarch64 Compiler: gcc (Ubuntu 11.4.0-1ubuntu1~22.04) 11.4.0 Fedora 41 (ARM Clang) Kernel: Depends on container host Compiler: clang 19.1.5 (Fedora 19.1.5-1.fc41) Ubuntu 24.04 (ARM) Kernel: Depends on container host Compiler: gcc (Ubuntu 13.3.0-6ubuntu2~24.04) 13.3.0 Ubuntu 20.04 ARM SVE Kernel: Depends on container host Compiler: gcc (Ubuntu 10.5.0-1ubuntu1~20.04) 10.5.0 To view detailed results, visit: https://lab.dpdk.org/results/dashboard/tarballs/32417/ UNH-IOL DPDK Community Lab To manage your email subscriptions, visit: https://lab.dpdk.org/results/dashboard/preferences/subscriptions/