From mboxrd@z Thu Jan 1 00:00:00 1970 Return-Path: Received: from mails.dpdk.org (mails.dpdk.org [217.70.189.124]) by inbox.dpdk.org (Postfix) with ESMTP id 169554616B for ; Sun, 2 Feb 2025 05:30:49 +0100 (CET) Received: from mails.dpdk.org (localhost [127.0.0.1]) by mails.dpdk.org (Postfix) with ESMTP id 1ED3040264; Sun, 2 Feb 2025 05:30:48 +0100 (CET) Received: from mail-yw1-f228.google.com (mail-yw1-f228.google.com [209.85.128.228]) by mails.dpdk.org (Postfix) with ESMTP id 2B4C94025A for ; Sun, 2 Feb 2025 05:30:47 +0100 (CET) Received: by mail-yw1-f228.google.com with SMTP id 00721157ae682-6efe4324f96so18724487b3.1 for ; Sat, 01 Feb 2025 20:30:47 -0800 (PST) DKIM-Signature: v=1; a=rsa-sha256; c=relaxed/relaxed; d=iol.unh.edu; s=unh-iol; t=1738470646; x=1739075446; darn=dpdk.org; h=cc:to:from:subject:message-id:date:from:to:cc:subject:date :message-id:reply-to; bh=2ROrdjfYqRcEncgfRaqoGeIYZJxb79kKbmYBiVc24mk=; b=WrOwhZSvH+sByM1VR15rNd00W732JTtwRS7iTlzkfOwAZ+nvYfAZOh/125M8ccuH1i W+z0BoDofOxm/MhXXcNiXU7YZykVf5Vc0HWA/dLUvBCysELbHoAQPgKDsoPcPcl64mGi a6mtVtPdSFfYUR657NTcblBUz5EsMegnkVsOI= X-Google-DKIM-Signature: v=1; a=rsa-sha256; c=relaxed/relaxed; d=1e100.net; s=20230601; t=1738470646; x=1739075446; h=cc:to:from:subject:message-id:date:x-gm-message-state:from:to:cc :subject:date:message-id:reply-to; bh=2ROrdjfYqRcEncgfRaqoGeIYZJxb79kKbmYBiVc24mk=; b=rRP5uPjYbb4q4RZctD57IVx5u8EcpHXPfA1MKDlYcSSQRM/S0NSbaK7wfPa5Ujb4jV ukhztXBQBvmMVdleqRDzuFi2hH1VFEA2Ok9YP5aQ2bzC2LMp0leF86jYygFm4pa9Bvmy Hg/AuU7WU6Y7eFdqnjODEH0zYPJCOwaCP8pUN7a7Hm8MmLrJI+anPzY0JF5HjKSEOyrt w+JOa7ojvJK4nMLDb71VCNM69dcLBNMpWIqUy8Gf/Ye5CtXIX1Ih9bByzEEMkqMr2llY hITwLX7xWf25X97Zvn3HkL7kwYi91AHQr2tT+ts0xdLH7INW8obhxnC96/IgwHwpdfyJ MdwA== X-Gm-Message-State: AOJu0Yzz7bCzv4xWM1t3N5QeKUOhUI9h7eP7hRFcf/BpvwAKnL/OVq2l 2V4lYBwRAwN//KKQ8ABHBDc2kd0Gl3ZSdlWZCLLWX0rSrZ0pWST26m/5fdY+jOQKoCr+hJVRsS9 WsalTti3ZMpoCd/fcyDRO5CxXa4k8o1nENuA++nDOforqO6B/0bsfy49l X-Gm-Gg: ASbGncuw8Cl6lVXkeGOekeFexFxLlMjTBpZusvqlS2mQqHL6yaEUUaLREHWo9UKhb8x QbdIFv9peU1HpaSZ9fSTJ6z5WSBrN9ohXPfUaYp45DcETBQ+FbQgG+xq66tnPtY4Qn2g1d4z2r4 XChISpWyE97N/0r22PGzvootHIRNqaR9Ipha6wOWufoecl4qlRBr6nt35RNlEcEAPl6fJ3wQtn6 l3lSH9SkK/AIrux6NicAF6pYAlZcUhJtJhDcLunTP57dGhqgOel5T/uN1b6DK/+riyGnS+dj0ks M0j8JNG13NL/FIequRBFEV+MWbP4pv2g3ytrLHmleA== X-Google-Smtp-Source: AGHT+IHA9kYhqXN2wDww2ZIWM79DF5xi1L9R3pwjN4OBLBOqRRpu8/pRXcJo7GTksG8afQEkMmtU7OHupOdW X-Received: by 2002:a05:690c:6e03:b0:6b0:70fc:f6e4 with SMTP id 00721157ae682-6f7a834eebdmr141890597b3.15.1738470646442; Sat, 01 Feb 2025 20:30:46 -0800 (PST) Received: from postal.iol.unh.edu (postal.iol.unh.edu. [2606:4100:3880:1234::84]) by smtp-relay.gmail.com with ESMTPS id 00721157ae682-6f8c4659b80sm3219427b3.29.2025.02.01.20.30.46 (version=TLS1_2 cipher=ECDHE-ECDSA-AES128-GCM-SHA256 bits=128/128); Sat, 01 Feb 2025 20:30:46 -0800 (PST) X-Relaying-Domain: iol.unh.edu Date: Sat, 01 Feb 2025 20:30:46 -0800 (PST) Message-ID: <679ef4f6.050a0220.20ab2a.f5e9SMTPIN_ADDED_MISSING@mx.google.com> Received: from [172.17.0.4] (unknown [172.18.0.217]) by postal.iol.unh.edu (Postfix) with ESMTP id D94866052471; Sat, 1 Feb 2025 23:30:45 -0500 (EST) Subject: |SUCCESS| [GIT MASTER] dc4ce7c2538b713e16887eb598da309bc7b4d528 From: dpdklab@iol.unh.edu To: Test Report Cc: dpdk-test-reports@iol.unh.edu Content-Type: text/plain X-BeenThere: test-report@dpdk.org X-Mailman-Version: 2.1.29 Precedence: list List-Id: automatic DPDK test reports List-Unsubscribe: , List-Archive: List-Post: List-Help: List-Subscribe: , Errors-To: test-report-bounces@dpdk.org _Testing PASS_ Branch: dpdk dc4ce7c2538b713e16887eb598da309bc7b4d528 --> testing pass Upstream job id: Generic-DPDK-Compile-Meson#357091 Test environment and result as below: +----------------------------------------+--------------------+ | Environment | dpdk_meson_compile | +========================================+====================+ | Ubuntu 20.04 ARM GCC Cross Compile | PASS | +----------------------------------------+--------------------+ | Fedora 40 (ARM) | PASS | +----------------------------------------+--------------------+ | RHEL9 (ARM) | PASS | +----------------------------------------+--------------------+ | Fedora 40 (ARM Clang) | PASS | +----------------------------------------+--------------------+ | Ubuntu 20.04 ARM SVE | PASS | +----------------------------------------+--------------------+ | Debian 12 with MUSDK | PASS | +----------------------------------------+--------------------+ | Fedora 41 (ARM) | PASS | +----------------------------------------+--------------------+ | Ubuntu 20.04 (ARM) | PASS | +----------------------------------------+--------------------+ | Fedora 41 (ARM Clang) | PASS | +----------------------------------------+--------------------+ | Ubuntu 22.04 (ARM) | PASS | +----------------------------------------+--------------------+ | Ubuntu 24.04 (ARM) | PASS | +----------------------------------------+--------------------+ | CentOS Stream 9 (ARM) | PASS | +----------------------------------------+--------------------+ | Debian 11 (Buster) (ARM) | PASS | +----------------------------------------+--------------------+ | Ubuntu 20.04 ARM Clang Cross Compile | PASS | +----------------------------------------+--------------------+ | Debian 12 (arm) | PASS | +----------------------------------------+--------------------+ | Ubuntu 20.04 aarch32 GCC Cross Compile | PASS | +----------------------------------------+--------------------+ Ubuntu 20.04 ARM GCC Cross Compile Kernel: Depends on container host Compiler: aarch64-linux-gnu-gcc (Ubuntu 9.4.0-1ubuntu1~20.04.2) 9.4.0 Fedora 40 (ARM) Kernel: Depends on container host Compiler: gcc 14.2.1 20240912 (Red Hat 14.2.1-3) RHEL9 (ARM) Kernel: Depends on container host Compiler: gcc 11.5.0 20240719 (Red Hat 11.5.0-2) Fedora 40 (ARM Clang) Kernel: Depends on container host Compiler: clang 18.1.8 (Fedora 18.1.8-1.fc40) Ubuntu 20.04 ARM SVE Kernel: Depends on container host Compiler: gcc (Ubuntu 10.5.0-1ubuntu1~20.04) 10.5.0 Debian 12 with MUSDK Kernel: Depends on container host Compiler: gcc (Debian 12.2.0-14) 12.2.0 Fedora 41 (ARM) Kernel: Depends on container host Compiler: gcc 14.2.1 20240912 (Red Hat 14.2.1-3) Ubuntu 20.04 (ARM) Kernel: Depends on container host Compiler: gcc (Ubuntu 9.4.0-1ubuntu1~20.04.2) 9.4.0 Fedora 41 (ARM Clang) Kernel: Depends on container host Compiler: clang 19.1.5 (Fedora 19.1.5-1.fc41) Ubuntu 22.04 (ARM) Kernel: Depends on container host Compiler: gcc (Ubuntu 11.4.0-1ubuntu1~22.04) 11.4.0 Ubuntu 24.04 (ARM) Kernel: Depends on container host Compiler: gcc (Ubuntu 13.3.0-6ubuntu2~24.04) 13.3.0 CentOS Stream 9 (ARM) Kernel: Depends on container host Compiler: gcc 11.5.0 20240719 (Red Hat 11.5.0-2) Debian 11 (Buster) (ARM) Kernel: Depends on container host Compiler: gcc (Debian 10.2.1-6) 10.2.1 20210110 Ubuntu 20.04 ARM Clang Cross Compile Kernel: Depends on container host Compiler: clang 10.0.0-4ubuntu1 Debian 12 (arm) Kernel: Depends on container host Compiler: gcc (Debian 12.2.0-14) 12.2.0 Ubuntu 20.04 aarch32 GCC Cross Compile Kernel: Depends on container host Compiler: gcc 9.4.0 To view detailed results, visit: https://lab.dpdk.org/results/dashboard/tarballs/32417/ UNH-IOL DPDK Community Lab To manage your email subscriptions, visit: https://lab.dpdk.org/results/dashboard/preferences/subscriptions/