From mboxrd@z Thu Jan 1 00:00:00 1970 Return-Path: Received: from mails.dpdk.org (mails.dpdk.org [217.70.189.124]) by inbox.dpdk.org (Postfix) with ESMTP id 1B7464616E for ; Sun, 2 Feb 2025 07:43:36 +0100 (CET) Received: from mails.dpdk.org (localhost [127.0.0.1]) by mails.dpdk.org (Postfix) with ESMTP id EFEAF40264; Sun, 2 Feb 2025 07:43:35 +0100 (CET) Received: from mail-oo1-f100.google.com (mail-oo1-f100.google.com [209.85.161.100]) by mails.dpdk.org (Postfix) with ESMTP id ED2AE4025A for ; Sun, 2 Feb 2025 07:43:34 +0100 (CET) Received: by mail-oo1-f100.google.com with SMTP id 006d021491bc7-5fc0c06e1deso1734193eaf.1 for ; Sat, 01 Feb 2025 22:43:34 -0800 (PST) DKIM-Signature: v=1; a=rsa-sha256; c=relaxed/relaxed; d=iol.unh.edu; s=unh-iol; t=1738478614; x=1739083414; darn=dpdk.org; h=cc:to:from:subject:message-id:date:from:to:cc:subject:date :message-id:reply-to; bh=KlDLio91dOdoJaUVLhIGS4GxablRWD07JaRwY2rgYzo=; b=cFxyQ1ElquIIOM+duOjtol4eqElRdh8D3Q7auYa5emho4HpNVPlhUXx7vDdkNgOCIF iuz9shNwWB4HcDF4N5PeaNRw5ifgHkhj1LP1umSV3OjCmJtBv8XNkEO4sp1McLuIEDs1 aIRhJ6duHC9rfOBDeh5ygCiZq2xLtWAzaYFPI= X-Google-DKIM-Signature: v=1; a=rsa-sha256; c=relaxed/relaxed; d=1e100.net; s=20230601; t=1738478614; x=1739083414; h=cc:to:from:subject:message-id:date:x-gm-message-state:from:to:cc :subject:date:message-id:reply-to; bh=KlDLio91dOdoJaUVLhIGS4GxablRWD07JaRwY2rgYzo=; b=Igl/i6Cp9XOKsyUD/gYZeiXOG7mlPmeYD8uXbjZtA/znDPXo9A0WfuEUMWSWYdij27 o/AbJECCDv/6uQk8rvSNUACZxYwaD5XPRkrtCvjnUEMWb6Ef6QNg8vKr4U7IKaDcs1EC y80Z7w/pO2q6aONDkthboHeF7w3yqrhTOlHTSXoPdoFDl6JJx8K5xrK+3Gx7i6dfNhBu l0ABb8u8vZH9q5gDntDuVjx2odo3HHrXhAcEXJHu7QPz4TT04G6IUniNMjYCEzQYcEYp G5aTkOf5STynWPm6vNT5CB4OX2b0C0HyeU4iJrlwq5JOGTPXUDOdDtT/e8gzgH6ZmqPc SF5g== X-Gm-Message-State: AOJu0Yzbd/9MSrzp0OuAALowelXy/Z9+8Q2S9woOVWV3Km9Zt6H7NKAy zzNwAFg6pQ8Lpp2vdUjjBSIkoKDH84R1xuTdy9zfxpN9BA0i+bMOg9615rHRZKHF3fGE9FR4+E0 FWXTOyiqZz53EvprjD74o5t7f/ye6ChEPptpSFih/GMKj5qlv X-Gm-Gg: ASbGncv3PdRFWnHAv2Q4GOQq1L6EKQ7JfxFejOTmEAUAgWjk6k/moL7AtSX6WcQSjkA wE9DTP+M5wJYrBKXCO01gSJW0/n9iZwqcOoGBLz5J5w7WE/5+tNhuB9mNbc1aFiHP+OJtitYZPH s1Rg0xrLyUOUcJeVL836EkdfZ5ViChuR3lEKAglPjULAlKKsaVTWqrdCoqog33lzomBfQht3yCO fHwlvscNX++dP5PcmpMc19hdVC6bMgb0XZP+GgNCqPqOHsCsIUUH1S/8ueHT6Vhmo70rFvChMl7 dibTjPffYeG625quOs5OxY5oW1suAtF4dmEYPUmgpw== X-Google-Smtp-Source: AGHT+IGEPeRZ2azsF1J41DZtHn+vhXrRhLECdkPYZgiUARArZHxa5X2xB++2kWJUT6Y+oMp14J3cgvZdKSdV X-Received: by 2002:a05:6820:1609:b0:5fa:3bf1:f9df with SMTP id 006d021491bc7-5fc0031cf4amr11626116eaf.8.1738478614132; Sat, 01 Feb 2025 22:43:34 -0800 (PST) Received: from postal.iol.unh.edu (postal.iol.unh.edu. [2606:4100:3880:1234::84]) by smtp-relay.gmail.com with ESMTPS id 006d021491bc7-5fc104b4966sm155011eaf.4.2025.02.01.22.43.34 (version=TLS1_2 cipher=ECDHE-ECDSA-AES128-GCM-SHA256 bits=128/128); Sat, 01 Feb 2025 22:43:34 -0800 (PST) X-Relaying-Domain: iol.unh.edu Date: Sat, 01 Feb 2025 22:43:34 -0800 (PST) Message-ID: <679f1416.050a0220.42f13.7dc4SMTPIN_ADDED_MISSING@mx.google.com> Received: from [172.21.0.5] (unknown [172.18.0.240]) by postal.iol.unh.edu (Postfix) with ESMTP id 908586052471; Sun, 2 Feb 2025 01:43:33 -0500 (EST) Subject: |SUCCESS| [GIT MASTER] f2eea2f37a82bb73fb01d56350708f7d70e21379 From: dpdklab@iol.unh.edu To: Test Report Cc: dpdk-test-reports@iol.unh.edu, Xueming Li , Christian Ehrhardt , Kevin Traynor , Luca Boccassi Content-Type: text/plain X-BeenThere: test-report@dpdk.org X-Mailman-Version: 2.1.29 Precedence: list List-Id: automatic DPDK test reports List-Unsubscribe: , List-Archive: List-Post: List-Help: List-Subscribe: , Errors-To: test-report-bounces@dpdk.org _Testing PASS_ Branch: tags/v24.11 f2eea2f37a82bb73fb01d56350708f7d70e21379 --> testing pass Upstream job id: Generic-Unit-Test-DPDK#311044 Test environment and result as below: +---------------------+----------------+ | Environment | dpdk_unit_test | +=====================+================+ | Debian Bullseye | PASS | +---------------------+----------------+ | Fedora 40 (Clang) | PASS | +---------------------+----------------+ | Fedora 41 (Clang) | PASS | +---------------------+----------------+ | CentOS Stream 9 | PASS | +---------------------+----------------+ | Fedora 41 | PASS | +---------------------+----------------+ | Debian 12 | PASS | +---------------------+----------------+ | RHEL8 | PASS | +---------------------+----------------+ | Fedora 40 | PASS | +---------------------+----------------+ | Ubuntu 20.04 | PASS | +---------------------+----------------+ | Ubuntu 22.04 | PASS | +---------------------+----------------+ | RHEL9 | PASS | +---------------------+----------------+ | Ubuntu 24.04 | PASS | +---------------------+----------------+ | Windows Server 2022 | PASS | +---------------------+----------------+ Debian Bullseye Kernel: Depends on container host Compiler: gcc (Debian 10.2.1-6) 10.2.1 20210110 Fedora 40 (Clang) Kernel: Depends on container host Compiler: clang 18.1.8 (Fedora 18.1.8-1.fc40) Fedora 41 (Clang) Kernel: Depends on container host Compiler: clang 19.1.5 (Fedora 19.1.5-1.fc41) CentOS Stream 9 Kernel: Depends on container host Compiler: gcc 11.5.0 20240719 (Red Hat 11.5.0-2) Fedora 41 Kernel: Depends on container host Compiler: gcc 14.2.1 20240912 (Red Hat 14.2.1-3) Debian 12 Kernel: Depends on container host Compiler: gcc (Debian 12.2.0-14) 12.2.0 RHEL8 Kernel: Depends on container host Compiler: gcc 8.5.0 20210514 (Red Hat 8.5.0-22) Fedora 40 Kernel: Depends on container host Compiler: gcc 14.2.1 20240912 (Red Hat 14.2.1-3) Ubuntu 20.04 Kernel: Depends on container host Compiler: gcc (Ubuntu 9.4.0-1ubuntu1~20.04.2) 9.4.0 Ubuntu 22.04 Kernel: Depends on container host Compiler: gcc (Ubuntu 11.4.0-1ubuntu1~22.04) 11.4.0 RHEL9 Kernel: Depends on container host Compiler: gcc 11.5.0 20240719 (Red Hat 11.5.0-2) Ubuntu 24.04 Kernel: Depends on container host Compiler: gcc (Ubuntu 13.3.0-6ubuntu2~24.04) 13.3.0 Windows Server 2022 Kernel: 10.0.20348.2031 Compiler: clang 15.0.7, gcc 14.1.0 (MinGW), and MSVC VS 19.39.33521 To view detailed results, visit: https://lab.dpdk.org/results/dashboard/tarballs/32418/ UNH-IOL DPDK Community Lab To manage your email subscriptions, visit: https://lab.dpdk.org/results/dashboard/preferences/subscriptions/