From mboxrd@z Thu Jan 1 00:00:00 1970 Return-Path: Received: from mails.dpdk.org (mails.dpdk.org [217.70.189.124]) by inbox.dpdk.org (Postfix) with ESMTP id F04234616E for ; Sun, 2 Feb 2025 07:54:29 +0100 (CET) Received: from mails.dpdk.org (localhost [127.0.0.1]) by mails.dpdk.org (Postfix) with ESMTP id E7906402BD; Sun, 2 Feb 2025 07:54:29 +0100 (CET) Received: from mail-qv1-f97.google.com (mail-qv1-f97.google.com [209.85.219.97]) by mails.dpdk.org (Postfix) with ESMTP id 6C8A24025A for ; Sun, 2 Feb 2025 07:54:28 +0100 (CET) Received: by mail-qv1-f97.google.com with SMTP id 6a1803df08f44-6d900c27af7so29156576d6.2 for ; Sat, 01 Feb 2025 22:54:28 -0800 (PST) DKIM-Signature: v=1; a=rsa-sha256; c=relaxed/relaxed; d=iol.unh.edu; s=unh-iol; t=1738479268; x=1739084068; darn=dpdk.org; h=cc:to:from:subject:message-id:date:from:to:cc:subject:date :message-id:reply-to; bh=UzMVCC80S0SsBYaLs9AdQLG37uy5BayI7lf1HZGUeSs=; b=cGXl9NZkwt+MXMzDb5oOKMja+lTMKQVtcLpV+LzYrr3CUrclhPPa04ROtsSnjQzpp5 nlyTVz03MBRvZ4B/kOmBgeY94CjrG46VxdU54s8pqAVUOXZkFGi4T80449UK+XyFy2n4 iIvgMylqq9kd+3ZROosVmdq0pG8S6at5sBoMU= X-Google-DKIM-Signature: v=1; a=rsa-sha256; c=relaxed/relaxed; d=1e100.net; s=20230601; t=1738479268; x=1739084068; h=cc:to:from:subject:message-id:date:x-gm-message-state:from:to:cc :subject:date:message-id:reply-to; bh=UzMVCC80S0SsBYaLs9AdQLG37uy5BayI7lf1HZGUeSs=; b=sTQOPXJV/XTw4iPY5HE/auSR6NSdxwXl+WNUFHVbRkOfmdIQWpHyGLYjSk70Q+q2fY SXIXv67eiF6q4yzDbN9je0CPN8k3Ci7esSkyn38SJsEK7PTR0OQValRFh6ATqtNNiXyU WKGShvp9YrtJXcNf7yFcuXG7kRvsIA6z5sMlgUzn23UDnOiks6jTtzmdMFXmm24riusK tVicBFpXqeknlRNADrBVAR/lxBgsCblarDOwDsSF+KH6EVBq3oE7Gf/8Dwh6BcxcqsjA Ao9K5VkPIFsbpcHN4JZamFbNn20RurWADjCHQcxF+6Mdl69MSFNCwHGQYvYpRrnbtNhB uVuA== X-Gm-Message-State: AOJu0YwqHMCtTCN2za5ilDjBm+hnGOTK4Q31KpOmtWK/YFnn8h77XaJ/ 9YwrwXPri2ZKZTPjNuWBcKJlAo6P/XOFjmfds1uwQWdYM0w7AOW8KJ6U5Wqp8ejUw9imdETaLxl 6vC4nsQCYJuQDsgE5//RYA5kAOckXq7kt5rzlm++wmYrE1WUz X-Gm-Gg: ASbGncvR6juYDg/QypeaoS6K1HB3GqC0i4njBkFofHoNS3RyCYPDxuTiwItM+pYN6hw Pmc4zMK587s9Shg7XaLPc6sgnldytFaYXIGgtmf2E8UvNhii6JB6d6zUrhx6Y8r0FrzF52HfiWc 6raqFnMa4hP4cx/4kfPZTZhbue3BP6hr91dmpciT2NtsrpvUG8jMpZl/PpEVsNbalZ4NoDRiYt6 DFcp8VuQaClCVjUs0YMOr/viGDVI7BIrZqVeye9lmFQZSyY8Rjk+EQo1Uqqgao77m+1epwuKvYK 9uhGXMUC/X+C6Z4ZQ9dUVx6yYw5tPfHeJhFBATTfFg== X-Google-Smtp-Source: AGHT+IGTCrnD3Dbnhyjtvij/CJ81a11QTsAG778H/n4AM9xAaicNSBWUl3MzdO2QvrYbeB9S4GKkmaTMfcR3 X-Received: by 2002:a05:6214:428f:b0:6e2:4940:400b with SMTP id 6a1803df08f44-6e249404305mr260876596d6.16.1738479267858; Sat, 01 Feb 2025 22:54:27 -0800 (PST) Received: from postal.iol.unh.edu (postal.iol.unh.edu. [2606:4100:3880:1234::84]) by smtp-relay.gmail.com with ESMTPS id 6a1803df08f44-6e2544dfd18sm4862236d6.6.2025.02.01.22.54.27 (version=TLS1_2 cipher=ECDHE-ECDSA-AES128-GCM-SHA256 bits=128/128); Sat, 01 Feb 2025 22:54:27 -0800 (PST) X-Relaying-Domain: iol.unh.edu Date: Sat, 01 Feb 2025 22:54:27 -0800 (PST) Message-ID: <679f16a3.050a0220.152496.7dcdSMTPIN_ADDED_MISSING@mx.google.com> Received: from [172.21.0.6] (unknown [172.18.0.240]) by postal.iol.unh.edu (Postfix) with ESMTP id 8796D6052471; Sun, 2 Feb 2025 01:54:27 -0500 (EST) Subject: |SUCCESS| [GIT MASTER] f2eea2f37a82bb73fb01d56350708f7d70e21379 From: dpdklab@iol.unh.edu To: Test Report Cc: dpdk-test-reports@iol.unh.edu, Xueming Li , Christian Ehrhardt , Kevin Traynor , Luca Boccassi Content-Type: text/plain X-BeenThere: test-report@dpdk.org X-Mailman-Version: 2.1.29 Precedence: list List-Id: automatic DPDK test reports List-Unsubscribe: , List-Archive: List-Post: List-Help: List-Subscribe: , Errors-To: test-report-bounces@dpdk.org _Testing PASS_ Branch: tags/v24.11 f2eea2f37a82bb73fb01d56350708f7d70e21379 --> testing pass Upstream job id: Generic-Unit-Test-DPDK#311052 Test environment and result as below: +-----------------------------+----------------+---------------------------+--------------+------------------------------+ | Environment | dpdk_unit_test | cryptodev_sw_zuc_autotest | lpm_autotest | cryptodev_sw_snow3g_autotest | +=============================+================+===========================+==============+==============================+ | Debian 11 (Buster) (ARM) | PASS | SKIPPED | SKIPPED | SKIPPED | +-----------------------------+----------------+---------------------------+--------------+------------------------------+ | Fedora 40 (ARM Clang) | PASS | SKIPPED | SKIPPED | SKIPPED | +-----------------------------+----------------+---------------------------+--------------+------------------------------+ | Fedora 40 (ARM) | PASS | SKIPPED | SKIPPED | SKIPPED | +-----------------------------+----------------+---------------------------+--------------+------------------------------+ | Fedora 41 (ARM Clang) | PASS | SKIPPED | SKIPPED | SKIPPED | +-----------------------------+----------------+---------------------------+--------------+------------------------------+ | Debian 12 (arm) | PASS | PASS | SKIPPED | PASS | +-----------------------------+----------------+---------------------------+--------------+------------------------------+ | CentOS Stream 9 (ARM) | PASS | SKIPPED | SKIPPED | SKIPPED | +-----------------------------+----------------+---------------------------+--------------+------------------------------+ | Fedora 41 (ARM) | PASS | SKIPPED | SKIPPED | SKIPPED | +-----------------------------+----------------+---------------------------+--------------+------------------------------+ | RHEL9 (ARM) | PASS | SKIPPED | SKIPPED | SKIPPED | +-----------------------------+----------------+---------------------------+--------------+------------------------------+ | Ubuntu 20.04 (ARM) | PASS | SKIPPED | SKIPPED | SKIPPED | +-----------------------------+----------------+---------------------------+--------------+------------------------------+ | Ubuntu 22.04 (ARM) | PASS | SKIPPED | SKIPPED | SKIPPED | +-----------------------------+----------------+---------------------------+--------------+------------------------------+ | Ubuntu 24.04 (ARM) | PASS | SKIPPED | SKIPPED | SKIPPED | +-----------------------------+----------------+---------------------------+--------------+------------------------------+ | 32-bit Ubuntu 22.04.4 (ARM) | PASS | SKIPPED | SKIPPED | SKIPPED | +-----------------------------+----------------+---------------------------+--------------+------------------------------+ | Ubuntu 20.04 ARM SVE | SKIPPED | SKIPPED | PASS | SKIPPED | +-----------------------------+----------------+---------------------------+--------------+------------------------------+ Debian 11 (Buster) (ARM) Kernel: Depends on container host Compiler: gcc (Debian 10.2.1-6) 10.2.1 20210110 Fedora 40 (ARM Clang) Kernel: Depends on container host Compiler: clang 18.1.8 (Fedora 18.1.8-1.fc40) Fedora 40 (ARM) Kernel: Depends on container host Compiler: gcc 14.2.1 20240912 (Red Hat 14.2.1-3) Fedora 41 (ARM Clang) Kernel: Depends on container host Compiler: clang 19.1.5 (Fedora 19.1.5-1.fc41) Debian 12 (arm) Kernel: Depends on container host Compiler: gcc (Debian 12.2.0-14) 12.2.0 CentOS Stream 9 (ARM) Kernel: Depends on container host Compiler: gcc 11.5.0 20240719 (Red Hat 11.5.0-2) Fedora 41 (ARM) Kernel: Depends on container host Compiler: gcc 14.2.1 20240912 (Red Hat 14.2.1-3) RHEL9 (ARM) Kernel: Depends on container host Compiler: gcc 11.5.0 20240719 (Red Hat 11.5.0-2) Ubuntu 20.04 (ARM) Kernel: Depends on container host Compiler: gcc (Ubuntu 9.4.0-1ubuntu1~20.04.2) 9.4.0 Ubuntu 22.04 (ARM) Kernel: Depends on container host Compiler: gcc (Ubuntu 11.4.0-1ubuntu1~22.04) 11.4.0 Ubuntu 24.04 (ARM) Kernel: Depends on container host Compiler: gcc (Ubuntu 13.3.0-6ubuntu2~24.04) 13.3.0 32-bit Ubuntu 22.04.4 (ARM) Kernel: 5.15.83+ aarch64 Compiler: gcc (Ubuntu 11.4.0-1ubuntu1~22.04) 11.4.0 Ubuntu 20.04 ARM SVE Kernel: Depends on container host Compiler: gcc (Ubuntu 10.5.0-1ubuntu1~20.04) 10.5.0 To view detailed results, visit: https://lab.dpdk.org/results/dashboard/tarballs/32418/ UNH-IOL DPDK Community Lab To manage your email subscriptions, visit: https://lab.dpdk.org/results/dashboard/preferences/subscriptions/