From mboxrd@z Thu Jan 1 00:00:00 1970 Return-Path: Received: from mails.dpdk.org (mails.dpdk.org [217.70.189.124]) by inbox.dpdk.org (Postfix) with ESMTP id 894B646170 for ; Sun, 2 Feb 2025 08:10:01 +0100 (CET) Received: from mails.dpdk.org (localhost [127.0.0.1]) by mails.dpdk.org (Postfix) with ESMTP id 6A7FC40264; Sun, 2 Feb 2025 08:10:01 +0100 (CET) Received: from mail-il1-f228.google.com (mail-il1-f228.google.com [209.85.166.228]) by mails.dpdk.org (Postfix) with ESMTP id A50B04025A for ; Sun, 2 Feb 2025 08:09:59 +0100 (CET) Received: by mail-il1-f228.google.com with SMTP id e9e14a558f8ab-3cfe17f75dfso26653675ab.2 for ; Sat, 01 Feb 2025 23:09:59 -0800 (PST) DKIM-Signature: v=1; a=rsa-sha256; c=relaxed/relaxed; d=iol.unh.edu; s=unh-iol; t=1738480199; x=1739084999; darn=dpdk.org; h=cc:to:from:subject:message-id:date:from:to:cc:subject:date :message-id:reply-to; bh=AQx5Ygbs+tHLyAnU1sD7sdNxyVjhzQE9hqjM43k6tk4=; b=O8Uil3xbV9Yr9xQ2EJdz0Rw41F4Q1ni2EGOET8YtKflnSjM2nMlclQkzu+uH2ynvO5 edoFY02rtwWyGgj8qMXSOI/t+bK50zqCaztKsG5lSV0iSYbLZjgFnhQCcUbtIj/29P5R DsXnzg2jZO/y3Fr/YfA6Y4fjoS5vlucmhtc3E= X-Google-DKIM-Signature: v=1; a=rsa-sha256; c=relaxed/relaxed; d=1e100.net; s=20230601; t=1738480199; x=1739084999; h=cc:to:from:subject:message-id:date:x-gm-message-state:from:to:cc :subject:date:message-id:reply-to; bh=AQx5Ygbs+tHLyAnU1sD7sdNxyVjhzQE9hqjM43k6tk4=; b=bkmGKM1IOp5F+mfvnBloF76Q81NlZagrwjdPpUHAKtFFhm4kkAP7XWT6bQ3naQzsao TGm8mgoSg/NqMma6LzUYI89keEHE1xbG/ZKnmz2RFs4iSRUONJ5PfLEv7x64WKJmEaRc WJWTcR8rBjH6gBKeWkIw8gvbAaZ4cMzeLalNcI7PciB0LCR7uGytAQKE4fGACMQKSGkg myT+zf60PHzT6Oa85YloB0d1ZPwoIU1ZpJlqeXZ2PXcB3erpuU9Naf9xtDUaEaM9bUXD 3CMT0ppmU37OMBH6ifdFfFwEG9ZP/G72PlalKUAIZpE1IOD4kdA7ZZEGY8PWDUBj6Tvw +0MA== X-Gm-Message-State: AOJu0YwQqUdYJ+Ee1KK8coMyc7VuXB4VNzuEeG21Amwyiw++Q7FWCKcM YAc9PJ9MG3WHbajt5o9TqvexZB3uAFhg/cYIKYcG5Zb840jV3bNCDl/mixOw1gU9a4HWwY0xLcn 4SPTeul6kEOCUe7Ddb8X6mbTVDpLzriVNk+cf2uhyRiZPc0MO X-Gm-Gg: ASbGncsxOvPGvQAfAS1E0dC6ln4dZ8MtPtYrlZp09oMJHde21r/5AqwNjowLMYisT7Y fz1tt4OH6QGNYt7SwdCFBzljcVUWtcn3UQu5K8bVumEsqZDLQsWi+YCOeBfY9J3Z5Rm3zJljcpQ jzIlQjmrr1JyznAWchYTDPWU83MG2TBZ6gTJ24THXAQcPK1BQAVx8Qe3CpwMkGZz1pS9a3Ncx9l 7TKN6cog00D3oZzw/wmCwQuf97iW6ds4UCP/BI9zfUOQm4HBdYuKgrpuxXnV29UJqBv6v/N0y++ xlKPyHWACrCfn6GboOVAVItRLzqKKsUJ1ozMo7N8/Q== X-Google-Smtp-Source: AGHT+IG21OgfN532ZN6sdpu6JHYn02OKlsYBvZAU8AgvLc6MAyBZHNrEBF/amGCNfZqp85qB64Dgyfjkp8m9 X-Received: by 2002:a05:6e02:184a:b0:3cf:ba9:f964 with SMTP id e9e14a558f8ab-3cffe3da557mr145473555ab.10.1738480198869; Sat, 01 Feb 2025 23:09:58 -0800 (PST) Received: from postal.iol.unh.edu (postal.iol.unh.edu. [2606:4100:3880:1234::84]) by smtp-relay.gmail.com with ESMTPS id e9e14a558f8ab-3d019bdb6eesm3041215ab.69.2025.02.01.23.09.58 (version=TLS1_2 cipher=ECDHE-ECDSA-AES128-GCM-SHA256 bits=128/128); Sat, 01 Feb 2025 23:09:58 -0800 (PST) X-Relaying-Domain: iol.unh.edu Date: Sat, 01 Feb 2025 23:09:58 -0800 (PST) Message-ID: <679f1a46.050a0220.396192.d979SMTPIN_ADDED_MISSING@mx.google.com> Received: from [172.21.0.5] (unknown [172.18.0.240]) by postal.iol.unh.edu (Postfix) with ESMTP id 5C87F6052471; Sun, 2 Feb 2025 02:09:58 -0500 (EST) Subject: |SUCCESS| [GIT MASTER] f2eea2f37a82bb73fb01d56350708f7d70e21379 From: dpdklab@iol.unh.edu To: Test Report Cc: dpdk-test-reports@iol.unh.edu, Xueming Li , Christian Ehrhardt , Kevin Traynor , Luca Boccassi Content-Type: text/plain X-BeenThere: test-report@dpdk.org X-Mailman-Version: 2.1.29 Precedence: list List-Id: automatic DPDK test reports List-Unsubscribe: , List-Archive: List-Post: List-Help: List-Subscribe: , Errors-To: test-report-bounces@dpdk.org _Testing PASS_ Branch: tags/v24.11 f2eea2f37a82bb73fb01d56350708f7d70e21379 --> testing pass Upstream job id: Generic-DPDK-Compile-ABI#114497 Test environment and result as below: +-------------------+----------+ | Environment | abi_test | +===================+==========+ | CentOS Stream 9 | PASS | +-------------------+----------+ | Debian Bullseye | PASS | +-------------------+----------+ | Debian 12 | PASS | +-------------------+----------+ | Fedora 40 | PASS | +-------------------+----------+ | Fedora 41 (Clang) | PASS | +-------------------+----------+ | Fedora 41 | PASS | +-------------------+----------+ | RHEL8 | PASS | +-------------------+----------+ | RHEL9 | PASS | +-------------------+----------+ | Ubuntu 22.04 | PASS | +-------------------+----------+ | Ubuntu 24.04 | PASS | +-------------------+----------+ | Fedora 40 (Clang) | PASS | +-------------------+----------+ | openSUSE Leap 15 | PASS | +-------------------+----------+ CentOS Stream 9 Kernel: Depends on container host Compiler: gcc 11.5.0 20240719 (Red Hat 11.5.0-2) Debian Bullseye Kernel: Depends on container host Compiler: gcc (Debian 10.2.1-6) 10.2.1 20210110 Debian 12 Kernel: Depends on container host Compiler: gcc (Debian 12.2.0-14) 12.2.0 Fedora 40 Kernel: Depends on container host Compiler: gcc 14.2.1 20240912 (Red Hat 14.2.1-3) Fedora 41 (Clang) Kernel: Depends on container host Compiler: clang 19.1.5 (Fedora 19.1.5-1.fc41) Fedora 41 Kernel: Depends on container host Compiler: gcc 14.2.1 20240912 (Red Hat 14.2.1-3) RHEL8 Kernel: Depends on container host Compiler: gcc 8.5.0 20210514 (Red Hat 8.5.0-22) RHEL9 Kernel: Depends on container host Compiler: gcc 11.5.0 20240719 (Red Hat 11.5.0-2) Ubuntu 22.04 Kernel: Depends on container host Compiler: gcc (Ubuntu 11.4.0-1ubuntu1~22.04) 11.4.0 Ubuntu 24.04 Kernel: Depends on container host Compiler: gcc (Ubuntu 13.3.0-6ubuntu2~24.04) 13.3.0 Fedora 40 (Clang) Kernel: Depends on container host Compiler: clang 18.1.8 (Fedora 18.1.8-1.fc40) openSUSE Leap 15 Kernel: Depends on container host Compiler: gcc (SUSE Linux) 7.5.0 To view detailed results, visit: https://lab.dpdk.org/results/dashboard/tarballs/32418/ UNH-IOL DPDK Community Lab To manage your email subscriptions, visit: https://lab.dpdk.org/results/dashboard/preferences/subscriptions/