From mboxrd@z Thu Jan 1 00:00:00 1970 Return-Path: Received: from mails.dpdk.org (mails.dpdk.org [217.70.189.124]) by inbox.dpdk.org (Postfix) with ESMTP id 913BC46170 for ; Sun, 2 Feb 2025 08:19:50 +0100 (CET) Received: from mails.dpdk.org (localhost [127.0.0.1]) by mails.dpdk.org (Postfix) with ESMTP id 63F4240264; Sun, 2 Feb 2025 08:19:50 +0100 (CET) Received: from mail-yb1-f226.google.com (mail-yb1-f226.google.com [209.85.219.226]) by mails.dpdk.org (Postfix) with ESMTP id E0D604025A for ; Sun, 2 Feb 2025 08:19:48 +0100 (CET) Received: by mail-yb1-f226.google.com with SMTP id 3f1490d57ef6-e545c1e8a15so3258774276.1 for ; Sat, 01 Feb 2025 23:19:48 -0800 (PST) DKIM-Signature: v=1; a=rsa-sha256; c=relaxed/relaxed; d=iol.unh.edu; s=unh-iol; t=1738480788; x=1739085588; darn=dpdk.org; h=cc:to:from:subject:message-id:date:from:to:cc:subject:date :message-id:reply-to; bh=0XUrX9dRJtTIgLzJk3R3/ON++VAz2sHTf1SVlKrBA7w=; b=OUvhhDK4lmbu9wOQlztJBdBYHAIH3XNzu1G7nuGlHfgchBrxskeRALi/eMHYSjVGse 3m97LLRx5pcgaekjeLXXgNzj21qKbiEwuMLKMmaIA2kS1bknIiUGMPjohyIp7g4zBDuO j+hE2Z0EJTarb6gmmfxBXsHCc65RUkVE1ALV8= X-Google-DKIM-Signature: v=1; a=rsa-sha256; c=relaxed/relaxed; d=1e100.net; s=20230601; t=1738480788; x=1739085588; h=cc:to:from:subject:message-id:date:x-gm-message-state:from:to:cc :subject:date:message-id:reply-to; bh=0XUrX9dRJtTIgLzJk3R3/ON++VAz2sHTf1SVlKrBA7w=; b=Ijs2+Kwjae50O1jZCW9nepai2DGC1dFErTLrjLXOWlxSGoC7RD5Jlz2CWEzwBX2o1P ClClU69n87g1KKG9zkSR/CHVKnK41Y39+6SZkzMEUeRHW4ne9/LYt5yZPaTJ70ps1yHS WSWf5dXUr6ADqRouS9hjjMvT5scaQvRvFi3ZYWrljxlSyi2zk8VpyxuhTMgSFqNvo5Fp EP6pVYESlJLLvBtzJhRgxDnDTqtqCPnxaWvlij+E73K/T1FpxZ/4OgIxPWs39tITErrd KZlKAl1+8QBOuSZcoOFKtj5HEG1in8/H3Kh0fOJrvoJEStrODO6DAIrlZ+T2FBEo0xb7 WfbQ== X-Gm-Message-State: AOJu0YytEKxmIf/M2FYE8JpHX1hL0BDI+rH+kP56x4P3TxSbR2IJ9ORJ xr4nQ20pwny1oIrJPWYyE8gQQ8L2YU8BnSCBKLlzm/+ekiVgU+JmyvU7r1wvSmT+uhG9M2tHkwX 5FXh2Pp+rboboOb3olmBY27sTfPwLuuVB X-Gm-Gg: ASbGnctjWyDpKPA5RU38UShfbbQP8nLeP8tVDqMHBFWv4ucNgIG7SZ6INIoJddOgEkJ 7vuoRqZb6rkyS0asHcoE++B1csZTkqS39ocP9XAcf1J4RHdCrdap+ScIyC9pFmfc57UB5ROe0zv ihVF30noVXgt9CW0R2VesXGIjzn7bFsM7YGFOfWKEWnmbO1Dey2KzZYc8JFP4+u8/qQzTLDIO8V rmzDOH/lIBprwTvjbZOvhK0yGMcSaxVSB8MArB8pi+x8G47IOoP7iXzSWHpcPW0iy+eoecQNfDC jyFp36cewlgf/eECEmZErvEOxKeeJw== X-Google-Smtp-Source: AGHT+IGs0Z18033kzNGrlAbDocLdV5spr6cSjSbDnmOzCZbS+zgPq84fk37RheEuD57kH/GkORR9Zz8Vw8uO X-Received: by 2002:a05:6902:1792:b0:e54:6daf:c6ec with SMTP id 3f1490d57ef6-e58a4bd6399mr12630958276.42.1738480788132; Sat, 01 Feb 2025 23:19:48 -0800 (PST) Received: from postal.iol.unh.edu (postal.iol.unh.edu. [132.177.123.84]) by smtp-relay.gmail.com with ESMTPS id 3f1490d57ef6-e5acb3fc701sm157695276.27.2025.02.01.23.19.48 (version=TLS1_2 cipher=ECDHE-ECDSA-AES128-GCM-SHA256 bits=128/128); Sat, 01 Feb 2025 23:19:48 -0800 (PST) X-Relaying-Domain: iol.unh.edu Date: Sat, 01 Feb 2025 23:19:48 -0800 (PST) Message-ID: <679f1c94.050a0220.35cc96.6b73SMTPIN_ADDED_MISSING@mx.google.com> Received: from [172.21.0.5] (unknown [172.18.0.240]) by postal.iol.unh.edu (Postfix) with ESMTP id 815B56052471; Sun, 2 Feb 2025 02:19:47 -0500 (EST) Subject: |SUCCESS| [GIT MASTER] 7ce7d3341d7e21c2a81f2fea8e451681d7306d77 From: dpdklab@iol.unh.edu To: Test Report Cc: dpdk-test-reports@iol.unh.edu, Xueming Li , Christian Ehrhardt , Kevin Traynor , Luca Boccassi Content-Type: text/plain X-BeenThere: test-report@dpdk.org X-Mailman-Version: 2.1.29 Precedence: list List-Id: automatic DPDK test reports List-Unsubscribe: , List-Archive: List-Post: List-Help: List-Subscribe: , Errors-To: test-report-bounces@dpdk.org _Testing PASS_ Branch: tags/v22.11 7ce7d3341d7e21c2a81f2fea8e451681d7306d77 --> testing pass Upstream job id: Windows-Compile-DPDK-Native#26264 Test environment and result as below: +---------------------+--------------------+----------------------+ | Environment | dpdk_meson_compile | dpdk_mingw64_compile | +=====================+====================+======================+ | FreeBSD 13.4 | PASS | SKIPPED | +---------------------+--------------------+----------------------+ | FreeBSD 14.2 | PASS | SKIPPED | +---------------------+--------------------+----------------------+ | Windows Server 2022 | SKIPPED | PASS | +---------------------+--------------------+----------------------+ FreeBSD 13.4 Kernel: 13.4-RELEASE-p1 Compiler: clang 18.1.6 FreeBSD 14.2 Kernel: 14.2-RELEASE Compiler: clang 18.1.6 Windows Server 2022 Kernel: 10.0.20348.2031 Compiler: clang 15.0.7, gcc 14.1.0 (MinGW), and MSVC VS 19.39.33521 To view detailed results, visit: https://lab.dpdk.org/results/dashboard/tarballs/32420/ UNH-IOL DPDK Community Lab To manage your email subscriptions, visit: https://lab.dpdk.org/results/dashboard/preferences/subscriptions/