From mboxrd@z Thu Jan 1 00:00:00 1970 Return-Path: Received: from mails.dpdk.org (mails.dpdk.org [217.70.189.124]) by inbox.dpdk.org (Postfix) with ESMTP id 008D546170 for ; Sun, 2 Feb 2025 08:24:03 +0100 (CET) Received: from mails.dpdk.org (localhost [127.0.0.1]) by mails.dpdk.org (Postfix) with ESMTP id E95CF40264; Sun, 2 Feb 2025 08:24:03 +0100 (CET) Received: from mail-io1-f99.google.com (mail-io1-f99.google.com [209.85.166.99]) by mails.dpdk.org (Postfix) with ESMTP id 0DE774025A for ; Sun, 2 Feb 2025 08:24:02 +0100 (CET) Received: by mail-io1-f99.google.com with SMTP id ca18e2360f4ac-844e55a981dso97838839f.3 for ; Sat, 01 Feb 2025 23:24:02 -0800 (PST) DKIM-Signature: v=1; a=rsa-sha256; c=relaxed/relaxed; d=iol.unh.edu; s=unh-iol; t=1738481041; x=1739085841; darn=dpdk.org; h=cc:to:from:subject:message-id:date:from:to:cc:subject:date :message-id:reply-to; bh=x3dWEyPPvv8n3xLW20XBbMLZ/JOuadC30R3i9PiPHpw=; b=DMCv772YvEZn39CXidWOe43quI+PbTdfHyabJ34i8a+ZzhQRnwoiwcmgly40W07YM0 fGBQY4/Vk1JJnocyaFLi0zHK1ggeknfhkpxBC4vE99JBFQBa7QnhhfuC34MJJSLGASa9 Qi6VmCH5FRfIb6LFIRh93jeHFGLb+PD5y6Udg= X-Google-DKIM-Signature: v=1; a=rsa-sha256; c=relaxed/relaxed; d=1e100.net; s=20230601; t=1738481041; x=1739085841; h=cc:to:from:subject:message-id:date:x-gm-message-state:from:to:cc :subject:date:message-id:reply-to; bh=x3dWEyPPvv8n3xLW20XBbMLZ/JOuadC30R3i9PiPHpw=; b=k4PafgWfsaVdvxLHi6C06MkblaImDqe70Oq/8a7jPqkIXfuJiqAKBQ4OSs2njBrY8q 6VUMchTZQ4qLYah7AxvJxe3JxCe8+dpTw6ZKxYYNQmsjIiVdWCCxj8B484YUGXj4pRPW 3I3pFRzjM2Z9PuktsYHYWK7AcDvz+zXxTQxoELZ+t8E+YDgOHIg0u9CvmZAbZJdFiHd5 /1Poz7xiMBID7bpJ+65anD/g94fEQFFPFrUyzcbPkZZf0k1bbqyY+WqRzJkWiClBb4XD j59gJMrd6RtN3bh0+03lxM6SpCRBgPA1mdDwsYgX6iPrrW8QavwypuCgluMGwcjy5w3F oE2A== X-Gm-Message-State: AOJu0YznM0fqmciyI74gfBggBygGdh+zREhS5aQy1+OggPg610C6Bl8X JYYdn8N/BO0HoXeKeqkwFVakWXcWGN/MKXeCcnycC6UNIPv3UD47tSp8rbPGiRgnRA9Nb4cflzg a/u6h3kL2NzC4/PLAbyjnc+6HfwCQv8c1KPsKlRBJwVuE7myq X-Gm-Gg: ASbGncu0rgTNNxKZ9c2r01rG8ja1fPTVZybMa7Kwj3QR2gJLa54joAp5IxesO+SJmxB Q6VT9ddG/EX6d85mxGMPzXjABrANpe5E0Xc/8+JijccHRJXJwFdfwjUuDI9I/9ziGRdXyUgCsQZ TDxsvq0opXvhJGiL21feSYIu1dtgryukG2M5bFUprvvR8fRZWHPk+4ci4ffbS8ZgRlZp3v41Efl Wm0wryzOUaqAJ+Tka2wTeHCx1Hjxx0N9uRLQoM08uEa181hP5xho6ALGsrBZK0OM8jCWbAQS69H sHocm1N5XZtnZ0LoRZfLR7/9PJqVizcziM5BdZ6qjA== X-Google-Smtp-Source: AGHT+IEMDFBg7ozE0B+cDFiEJ/8oCrehf4W/8EO6uQNpEqjyrTRCnirLv1ddjcbaXyZTLMy8lZRdh/earjID X-Received: by 2002:a05:6602:3943:b0:847:4fc0:c775 with SMTP id ca18e2360f4ac-85427d770f6mr1584828239f.8.1738481041333; Sat, 01 Feb 2025 23:24:01 -0800 (PST) Received: from postal.iol.unh.edu (postal.iol.unh.edu. [2606:4100:3880:1234::84]) by smtp-relay.gmail.com with ESMTPS id ca18e2360f4ac-854a144849fsm42655839f.0.2025.02.01.23.24.01 (version=TLS1_2 cipher=ECDHE-ECDSA-AES128-GCM-SHA256 bits=128/128); Sat, 01 Feb 2025 23:24:01 -0800 (PST) X-Relaying-Domain: iol.unh.edu Date: Sat, 01 Feb 2025 23:24:01 -0800 (PST) Message-ID: <679f1d91.050a0220.10ad0c.4c92SMTPIN_ADDED_MISSING@mx.google.com> Received: from [172.21.0.5] (unknown [172.18.0.240]) by postal.iol.unh.edu (Postfix) with ESMTP id CD80F6052471; Sun, 2 Feb 2025 02:24:00 -0500 (EST) Subject: |SUCCESS| [GIT MASTER] c66daa12e76d7b4912cfb7109a761856a7a873ab From: dpdklab@iol.unh.edu To: Test Report Cc: dpdk-test-reports@iol.unh.edu, Xueming Li , Christian Ehrhardt , Kevin Traynor , Luca Boccassi Content-Type: text/plain X-BeenThere: test-report@dpdk.org X-Mailman-Version: 2.1.29 Precedence: list List-Id: automatic DPDK test reports List-Unsubscribe: , List-Archive: List-Post: List-Help: List-Subscribe: , Errors-To: test-report-bounces@dpdk.org _Testing PASS_ Branch: tags/v23.11 c66daa12e76d7b4912cfb7109a761856a7a873ab --> testing pass Upstream job id: Generic-Unit-Test-DPDK#311073 Test environment and result as below: +---------------------+----------------+ | Environment | dpdk_unit_test | +=====================+================+ | Debian 12 | PASS | +---------------------+----------------+ | Debian Bullseye | PASS | +---------------------+----------------+ | Fedora 40 | PASS | +---------------------+----------------+ | CentOS Stream 9 | PASS | +---------------------+----------------+ | RHEL8 | PASS | +---------------------+----------------+ | Ubuntu 20.04 | PASS | +---------------------+----------------+ | Fedora 40 (Clang) | PASS | +---------------------+----------------+ | Fedora 41 (Clang) | PASS | +---------------------+----------------+ | Fedora 41 | PASS | +---------------------+----------------+ | RHEL9 | PASS | +---------------------+----------------+ | Ubuntu 22.04 | PASS | +---------------------+----------------+ | Ubuntu 24.04 | PASS | +---------------------+----------------+ | Windows Server 2022 | PASS | +---------------------+----------------+ Debian 12 Kernel: Depends on container host Compiler: gcc (Debian 12.2.0-14) 12.2.0 Debian Bullseye Kernel: Depends on container host Compiler: gcc (Debian 10.2.1-6) 10.2.1 20210110 Fedora 40 Kernel: Depends on container host Compiler: gcc 14.2.1 20240912 (Red Hat 14.2.1-3) CentOS Stream 9 Kernel: Depends on container host Compiler: gcc 11.5.0 20240719 (Red Hat 11.5.0-2) RHEL8 Kernel: Depends on container host Compiler: gcc 8.5.0 20210514 (Red Hat 8.5.0-22) Ubuntu 20.04 Kernel: Depends on container host Compiler: gcc (Ubuntu 9.4.0-1ubuntu1~20.04.2) 9.4.0 Fedora 40 (Clang) Kernel: Depends on container host Compiler: clang 18.1.8 (Fedora 18.1.8-1.fc40) Fedora 41 (Clang) Kernel: Depends on container host Compiler: clang 19.1.5 (Fedora 19.1.5-1.fc41) Fedora 41 Kernel: Depends on container host Compiler: gcc 14.2.1 20240912 (Red Hat 14.2.1-3) RHEL9 Kernel: Depends on container host Compiler: gcc 11.5.0 20240719 (Red Hat 11.5.0-2) Ubuntu 22.04 Kernel: Depends on container host Compiler: gcc (Ubuntu 11.4.0-1ubuntu1~22.04) 11.4.0 Ubuntu 24.04 Kernel: Depends on container host Compiler: gcc (Ubuntu 13.3.0-6ubuntu2~24.04) 13.3.0 Windows Server 2022 Kernel: 10.0.20348.2031 Compiler: clang 15.0.7, gcc 14.1.0 (MinGW), and MSVC VS 19.39.33521 To view detailed results, visit: https://lab.dpdk.org/results/dashboard/tarballs/32419/ UNH-IOL DPDK Community Lab To manage your email subscriptions, visit: https://lab.dpdk.org/results/dashboard/preferences/subscriptions/