From mboxrd@z Thu Jan 1 00:00:00 1970 Return-Path: Received: from mails.dpdk.org (mails.dpdk.org [217.70.189.124]) by inbox.dpdk.org (Postfix) with ESMTP id 9D27246170 for ; Sun, 2 Feb 2025 08:41:25 +0100 (CET) Received: from mails.dpdk.org (localhost [127.0.0.1]) by mails.dpdk.org (Postfix) with ESMTP id 6A9C240264; Sun, 2 Feb 2025 08:41:25 +0100 (CET) Received: from mail-pl1-f228.google.com (mail-pl1-f228.google.com [209.85.214.228]) by mails.dpdk.org (Postfix) with ESMTP id 39A284025A for ; Sun, 2 Feb 2025 08:41:23 +0100 (CET) Received: by mail-pl1-f228.google.com with SMTP id d9443c01a7336-2166f1e589cso85034995ad.3 for ; Sat, 01 Feb 2025 23:41:23 -0800 (PST) DKIM-Signature: v=1; a=rsa-sha256; c=relaxed/relaxed; d=iol.unh.edu; s=unh-iol; t=1738482082; x=1739086882; darn=dpdk.org; h=cc:to:from:subject:message-id:date:from:to:cc:subject:date :message-id:reply-to; bh=dQgzPNqGQ7d1mQlRSfMIA3zQwyNkc1367kJZ9z/EtIs=; b=VAytB6r2u12SsxFaBFQhi0s53Rs0ImT842LwwFdZUFfpOPEPa1GuI/4zgvdjUPRR1P yIuj54+sYAsbaauzYEQujVyoHCAjQOSrQ/sPe8wR2vEryUx9KINoFrslD7e/ArdVYU2v C5HbySKz5YlB1YbKil9yjRAgR4o4z4hsrnYWU= X-Google-DKIM-Signature: v=1; a=rsa-sha256; c=relaxed/relaxed; d=1e100.net; s=20230601; t=1738482082; x=1739086882; h=cc:to:from:subject:message-id:date:x-gm-message-state:from:to:cc :subject:date:message-id:reply-to; bh=dQgzPNqGQ7d1mQlRSfMIA3zQwyNkc1367kJZ9z/EtIs=; b=MaD39ysemJdOyMkdpW000/iirwxQQ6RzD1LhQ1mXsflP2/GdThpOo2ghzz79p9umjK KV/KzTXhR6SO2yN2ChSE61S6F6eZ+77AkptB/CIwPryWgYgmp0nwvtnEPXZ9wHimmQ6a UUkrnXps3bEgA7iqNYnDZOvykBl7nLuhDnatfh84REc5uO90lnV60hpypp0k9b2BfJAq i1bg20q5e4BzmP8zb0YfR9E2nd0FsjDNFPGKBfdOVIXcQHa7Vb/7e3R+E8DXrJWGR9Hl pJcsYoEiC+tD8j/C94o/Og0qSRJsipvaMuVnOl+uESl3yP2V/Yw/zmTzX21hz5KibNT/ VcXg== X-Gm-Message-State: AOJu0Yz0cBaxyq9Y+6MLj/h7XuIlX3UMI9bqul4JvLXf9lW3CTrRM1Nj wt5vUnGeKp50b/UQkOX9LflJik66IiThQwx9pGv/pZ+VORNf+f97jllzM4Zb5UrNaeoHH2SYwlW rFNcdTLICNBsiOjJ870EbS6pCSsA+kSbp X-Gm-Gg: ASbGnculkeXjVnD0oW9UNvJ3ZOTX9B/+uVumWPJXgtY7+XfEKzbLpelg4vP1u9xeYpl oYOZPJC/4Ba8p9Whe0jdlBRrjx1wxseC8avjVWOo35fNNb9EbTk0psDzdtL/YoqCXhWhGpaxZPI TrPGr5QX/jOHZhW9GulvzcLktF6c0dvXqGOsaFeHbC03B1LnrFoBmHEgf7Om4a3pCQBye7JdTn6 0NCeE7bppljGEWtm6uGvw18QTBhi2IJAI+FTKqQMA14X8YCVHor8NkQjwJy1tkUKpCh4gNRh7Xu eydr6uzZDIe5WmoH7wpsxqZvWA6erg== X-Google-Smtp-Source: AGHT+IHl7wI1OJFr5nNUSEwiy7DMbY382I45q7wmAgo75qNTXVd5oj2ca5BXH4HZw4vOtmHH+cv7s1lHK/1U X-Received: by 2002:a05:6a20:2d27:b0:1dc:2365:4d7d with SMTP id adf61e73a8af0-1ed7a4cc6f9mr25256811637.16.1738482082124; Sat, 01 Feb 2025 23:41:22 -0800 (PST) Received: from postal.iol.unh.edu (postal.iol.unh.edu. [132.177.123.84]) by smtp-relay.gmail.com with ESMTPS id d2e1a72fcca58-72fe6a28af9sm526693b3a.22.2025.02.01.23.41.22 (version=TLS1_2 cipher=ECDHE-ECDSA-AES128-GCM-SHA256 bits=128/128); Sat, 01 Feb 2025 23:41:22 -0800 (PST) X-Relaying-Domain: iol.unh.edu Date: Sat, 01 Feb 2025 23:41:22 -0800 (PST) Message-ID: <679f21a2.050a0220.1b5a59.8f57SMTPIN_ADDED_MISSING@mx.google.com> Received: from [172.21.0.5] (unknown [172.18.0.240]) by postal.iol.unh.edu (Postfix) with ESMTP id 8F9306052471; Sun, 2 Feb 2025 02:41:20 -0500 (EST) Subject: |SUCCESS| [GIT MASTER] f2eea2f37a82bb73fb01d56350708f7d70e21379 From: dpdklab@iol.unh.edu To: Test Report Cc: dpdk-test-reports@iol.unh.edu, Xueming Li , Christian Ehrhardt , Kevin Traynor , Luca Boccassi Content-Type: text/plain X-BeenThere: test-report@dpdk.org X-Mailman-Version: 2.1.29 Precedence: list List-Id: automatic DPDK test reports List-Unsubscribe: , List-Archive: List-Post: List-Help: List-Subscribe: , Errors-To: test-report-bounces@dpdk.org _Testing PASS_ Branch: tags/v24.11 f2eea2f37a82bb73fb01d56350708f7d70e21379 --> testing pass Upstream job id: ACVP-FIPS-testing#8758 Test environment and result as below: +--------------------+----------------------+----------------------+ | Environment | compressdev_zlib_pmd | dpdk_fips_validation | +====================+======================+======================+ | Ubuntu 22.04 (ARM) | PASS | SKIPPED | +--------------------+----------------------+----------------------+ | Ubuntu 22.04 | PASS | SKIPPED | +--------------------+----------------------+----------------------+ | Ubuntu 20.04 | SKIPPED | PASS | +--------------------+----------------------+----------------------+ Ubuntu 22.04 (ARM) Kernel: 5.15.0-97-generic Compiler: gcc gcc (Ubuntu 11.4.0-1ubuntu1~22.04) 11.4.0 Ubuntu 22.04 Kernel: 5.15.0-100-generic Compiler: gcc gcc (Ubuntu 11.4.0-1ubuntu1~22.04) 11.4.0 Ubuntu 20.04 Kernel: Depends on container host Compiler: gcc (Ubuntu 9.4.0-1ubuntu1~20.04.2) 9.4.0 To view detailed results, visit: https://lab.dpdk.org/results/dashboard/tarballs/32418/ UNH-IOL DPDK Community Lab To manage your email subscriptions, visit: https://lab.dpdk.org/results/dashboard/preferences/subscriptions/