From mboxrd@z Thu Jan 1 00:00:00 1970 Return-Path: Received: from mails.dpdk.org (mails.dpdk.org [217.70.189.124]) by inbox.dpdk.org (Postfix) with ESMTP id 4E13846170 for ; Sun, 2 Feb 2025 08:48:30 +0100 (CET) Received: from mails.dpdk.org (localhost [127.0.0.1]) by mails.dpdk.org (Postfix) with ESMTP id 278EF40264; Sun, 2 Feb 2025 08:48:30 +0100 (CET) Received: from mail-yb1-f227.google.com (mail-yb1-f227.google.com [209.85.219.227]) by mails.dpdk.org (Postfix) with ESMTP id 5C6B14025A for ; Sun, 2 Feb 2025 08:48:29 +0100 (CET) Received: by mail-yb1-f227.google.com with SMTP id 3f1490d57ef6-e46ebe19489so2965928276.2 for ; Sat, 01 Feb 2025 23:48:29 -0800 (PST) DKIM-Signature: v=1; a=rsa-sha256; c=relaxed/relaxed; d=iol.unh.edu; s=unh-iol; t=1738482508; x=1739087308; darn=dpdk.org; h=cc:to:from:subject:message-id:date:from:to:cc:subject:date :message-id:reply-to; bh=HDV7S1Ydvp7NGytAGAjgqZHMie8u0IuNBCZyiBaOEZw=; b=antchqJHft1nhPL3I2aFdJRGkLygtIvhwg9cLZGEWx/HNt0wXFQKa8vOKsKgKN0cWt ysWk6bMjX71SQXbvr90u85Fs/2Ru8aG7pJ/IQyy4JKDCzdWoBou727KY+0xg8TuMg+cE kRWrnDiZpINvD7KHekg6MI3xLmFJOwbqgvJYM= X-Google-DKIM-Signature: v=1; a=rsa-sha256; c=relaxed/relaxed; d=1e100.net; s=20230601; t=1738482508; x=1739087308; h=cc:to:from:subject:message-id:date:x-gm-message-state:from:to:cc :subject:date:message-id:reply-to; bh=HDV7S1Ydvp7NGytAGAjgqZHMie8u0IuNBCZyiBaOEZw=; b=lSTwA8o4bgELPdIewOf4g/vSY8gTyqj8NWsD8bod1HxvAJ5PZL06yus6jJlwI9qyi0 PwcvdL75+pghQ8l5P+jzKxQfhwe5lZImT5n+bJShP4Suz6SdCGGrvWD1xB3vnDRQelR5 YlkdbfQ1bGjabnEU21nnVBZIFgkm7PuTccbWawtIy/pPG/3CMwe3045HdzlrPE64itVo ovdedOsnse4+GtMcTRYaI/brDMIiqlxyZukk0SNzJu6AbKQdtRideJ40pgGcuvo39ETl Uu+pWI6axGiBFt6m1Pwf5N2/HO9GT2XXuR5y06GMCJpQBS/9C2rGVGm7MZUJSRZYL2DR QEzA== X-Gm-Message-State: AOJu0YwjBghjltezMN9U6oS2tI3Utz1FnytBEK3sGeYngF/r5E00jDX/ 5xhs9AymmVOFrlfxsQ2q9IQw61/y6xaAam3MxKDhi8Co+mu3+N2ZhsdtmR7uHCT4ZUU/fWwhb25 mrsoglwu6EtCV6NxnNBbOu8nHuABk+LUX X-Gm-Gg: ASbGnct+uBlPvgVOPNhpJLnrHDsIyMoIrrn7apjA42c8xpyu9asQy7jNCbW++gxq/TQ rzCGu3by0miNatY7kWVaOxZIHq1lmTJZZnivPWqsZhpHp0+2K/BUoqT7lsY1KpHzXHaHNQL5w8g t11dRV+/jNM1nxuSp+2MFEq1MkPc8whgzmfSoponRuvz05OGfa7QYchMF2fedu60pS4IiEvEYbd MTgqHSfPcuC19dZ37jZ/asC3VdQmeJZJhGaeEQ/2YhpHZrepwi0mJQzRJIiDnCNtZlJzvw3YNwE CugPFSQ4sHJOkmBw+2kI9ABsl4f/pg== X-Google-Smtp-Source: AGHT+IHK2yRwyOHTG6s0FofJ67xOO7IstGUVvob5p5d10p4dS6GQSaXxT6mlM6OCn43Hw+w9v9XzNJj8g/FB X-Received: by 2002:a05:690c:6103:b0:6ee:7339:ab42 with SMTP id 00721157ae682-6f7a8354ae9mr143763477b3.14.1738482508268; Sat, 01 Feb 2025 23:48:28 -0800 (PST) Received: from postal.iol.unh.edu (postal.iol.unh.edu. [132.177.123.84]) by smtp-relay.gmail.com with ESMTPS id 00721157ae682-6f8c4b93eb6sm5776407b3.66.2025.02.01.23.48.28 (version=TLS1_2 cipher=ECDHE-ECDSA-AES128-GCM-SHA256 bits=128/128); Sat, 01 Feb 2025 23:48:28 -0800 (PST) X-Relaying-Domain: iol.unh.edu Date: Sat, 01 Feb 2025 23:48:28 -0800 (PST) Message-ID: <679f234c.0d0a0220.145041.def6SMTPIN_ADDED_MISSING@mx.google.com> Received: from [172.21.0.5] (unknown [172.18.0.240]) by postal.iol.unh.edu (Postfix) with ESMTP id DB55B6052471; Sun, 2 Feb 2025 02:48:27 -0500 (EST) Subject: |SUCCESS| [GIT MASTER] 7ce7d3341d7e21c2a81f2fea8e451681d7306d77 From: dpdklab@iol.unh.edu To: Test Report Cc: dpdk-test-reports@iol.unh.edu, Xueming Li , Christian Ehrhardt , Kevin Traynor , Luca Boccassi Content-Type: text/plain X-BeenThere: test-report@dpdk.org X-Mailman-Version: 2.1.29 Precedence: list List-Id: automatic DPDK test reports List-Unsubscribe: , List-Archive: List-Post: List-Help: List-Subscribe: , Errors-To: test-report-bounces@dpdk.org _Testing PASS_ Branch: tags/v22.11 7ce7d3341d7e21c2a81f2fea8e451681d7306d77 --> testing pass Upstream job id: Generic-DPDK-Compile-ABI#114520 Test environment and result as below: +-------------------+----------+ | Environment | abi_test | +===================+==========+ | CentOS Stream 9 | PASS | +-------------------+----------+ | Fedora 40 (Clang) | PASS | +-------------------+----------+ | Fedora 40 | PASS | +-------------------+----------+ | Debian 12 | PASS | +-------------------+----------+ | Debian Bullseye | PASS | +-------------------+----------+ | Fedora 41 (Clang) | PASS | +-------------------+----------+ | Fedora 41 | PASS | +-------------------+----------+ | openSUSE Leap 15 | PASS | +-------------------+----------+ | RHEL9 | PASS | +-------------------+----------+ | RHEL8 | PASS | +-------------------+----------+ | Ubuntu 24.04 | PASS | +-------------------+----------+ | Ubuntu 22.04 | PASS | +-------------------+----------+ CentOS Stream 9 Kernel: Depends on container host Compiler: gcc 11.5.0 20240719 (Red Hat 11.5.0-2) Fedora 40 (Clang) Kernel: Depends on container host Compiler: clang 18.1.8 (Fedora 18.1.8-1.fc40) Fedora 40 Kernel: Depends on container host Compiler: gcc 14.2.1 20240912 (Red Hat 14.2.1-3) Debian 12 Kernel: Depends on container host Compiler: gcc (Debian 12.2.0-14) 12.2.0 Debian Bullseye Kernel: Depends on container host Compiler: gcc (Debian 10.2.1-6) 10.2.1 20210110 Fedora 41 (Clang) Kernel: Depends on container host Compiler: clang 19.1.5 (Fedora 19.1.5-1.fc41) Fedora 41 Kernel: Depends on container host Compiler: gcc 14.2.1 20240912 (Red Hat 14.2.1-3) openSUSE Leap 15 Kernel: Depends on container host Compiler: gcc (SUSE Linux) 7.5.0 RHEL9 Kernel: Depends on container host Compiler: gcc 11.5.0 20240719 (Red Hat 11.5.0-2) RHEL8 Kernel: Depends on container host Compiler: gcc 8.5.0 20210514 (Red Hat 8.5.0-22) Ubuntu 24.04 Kernel: Depends on container host Compiler: gcc (Ubuntu 13.3.0-6ubuntu2~24.04) 13.3.0 Ubuntu 22.04 Kernel: Depends on container host Compiler: gcc (Ubuntu 11.4.0-1ubuntu1~22.04) 11.4.0 To view detailed results, visit: https://lab.dpdk.org/results/dashboard/tarballs/32420/ UNH-IOL DPDK Community Lab To manage your email subscriptions, visit: https://lab.dpdk.org/results/dashboard/preferences/subscriptions/