From mboxrd@z Thu Jan 1 00:00:00 1970 Return-Path: Received: from mails.dpdk.org (mails.dpdk.org [217.70.189.124]) by inbox.dpdk.org (Postfix) with ESMTP id CAAD546170 for ; Sun, 2 Feb 2025 09:19:46 +0100 (CET) Received: from mails.dpdk.org (localhost [127.0.0.1]) by mails.dpdk.org (Postfix) with ESMTP id A92E040264; Sun, 2 Feb 2025 09:19:46 +0100 (CET) Received: from mail-pl1-f227.google.com (mail-pl1-f227.google.com [209.85.214.227]) by mails.dpdk.org (Postfix) with ESMTP id 34FFC4025A for ; Sun, 2 Feb 2025 09:19:45 +0100 (CET) Received: by mail-pl1-f227.google.com with SMTP id d9443c01a7336-218c8aca5f1so62835465ad.0 for ; Sun, 02 Feb 2025 00:19:45 -0800 (PST) DKIM-Signature: v=1; a=rsa-sha256; c=relaxed/relaxed; d=iol.unh.edu; s=unh-iol; t=1738484384; x=1739089184; darn=dpdk.org; h=cc:to:from:subject:message-id:date:from:to:cc:subject:date :message-id:reply-to; bh=biyX+XyZYyTN2XhsWcWLQaL1chAgFYUZgwVLQ5uxdgU=; b=dL4rZiw1jeGVp6vBqhVb6Pqi/zGuM50KTKGaE4fVtjgZzNtTMD1PcX/Rs3+5Xvh58K eJdWahGUhmbQmGRorjnPKNTseE+S/nkovjB9MtyvDGYpkRUybDSA1X4XVYhLka5tNMxf nZdTP1VZCC1g0o7G311h79ca4JmaJTs6R+VwY= X-Google-DKIM-Signature: v=1; a=rsa-sha256; c=relaxed/relaxed; d=1e100.net; s=20230601; t=1738484384; x=1739089184; h=cc:to:from:subject:message-id:date:x-gm-message-state:from:to:cc :subject:date:message-id:reply-to; bh=biyX+XyZYyTN2XhsWcWLQaL1chAgFYUZgwVLQ5uxdgU=; b=WGrwKp2o3r861iLPCrGK4zhco+coDb63lFy9dR8M8HccHQjIeKr5AUxgIf38ur8TOU xNLorkoTjUlZsthDnZ77DXWlxtAfIA0kFwGBGnQPenePUcdXSq6VAnBseau0bpf/1bXO PbGON0kI6qmEC4CiY0CKHwZJOexU8JbM7szNFqex3SBBiFoBN9lRASX8Gt5FsHxlsQ66 GTsTNg6dZq92V00WuHaH82cUlVl+F93r0MbH+EyjywXBSHDorpz/FcrcABU9q1ei7D80 alKBzkdCUQbEL8PMQvZ2Pcdm4X9jwEF24JfqD9dLAg0v0esXc+AYMUlv8R2Y3juTDs/z W/yQ== X-Gm-Message-State: AOJu0YzQ6KNnwvN2UHL7fC74EKD8IgA6F9zUgpzsXfEble10G6/Gd8jY QOH1Ml1wH0O9lykR3JpoCiKNUw+NH+kbxn40zMNVYnDw3GyW+oQlSQ5FyjcdbUqUYjtDmWSj32F DDIzXST3PTncMbht9q+d9l/C0IKInFBcXk4VbJoLA7EQ1+D8b X-Gm-Gg: ASbGncsT+MqfXNlOezzS/yXrw+xMRTyiBNnEqxuO05jptnvJyzzIoPa1aTH9r596Mbq B/OBmM77ZCAWf2eY2pZAbyiEorH6Bqr1zqii9j9ndDL8u01P5t8OhNvmuZLPYGeDs4McaZaRH1f nYFbrtTPJtPGVOFhReEsVJ2QD0tugE63upTuf5F4A1IrUxd82EpTHXTlMXoSt7nf7Blk+yawUso 4aK5ckfuHVk4fIk+EPEGYayWgurESKHcAX/uChrJMMh4CsdWhhmP6BGCnV5KSiZJ2XwNLrbFBur 88jq3a1bbKNidu+HrUKaRCRQRXksgXRmOAygSwbm3Q== X-Google-Smtp-Source: AGHT+IG6hiXmnUQtYnA5jzqMPsODYo0hTppzh2N22XG+ddVjSfLm69eNhXM5Wyu1MfQlIECcxprd5cyxYVjy X-Received: by 2002:a17:902:d2cf:b0:215:b45a:6a5e with SMTP id d9443c01a7336-21dd7c6701cmr230410645ad.18.1738484384336; Sun, 02 Feb 2025 00:19:44 -0800 (PST) Received: from postal.iol.unh.edu (postal.iol.unh.edu. [2606:4100:3880:1234::84]) by smtp-relay.gmail.com with ESMTPS id d9443c01a7336-21de3325673sm2663125ad.77.2025.02.02.00.19.44 (version=TLS1_2 cipher=ECDHE-ECDSA-AES128-GCM-SHA256 bits=128/128); Sun, 02 Feb 2025 00:19:44 -0800 (PST) X-Relaying-Domain: iol.unh.edu Date: Sun, 02 Feb 2025 00:19:44 -0800 (PST) Message-ID: <679f2aa0.170a0220.20d073.bf3dSMTPIN_ADDED_MISSING@mx.google.com> Received: from [172.21.0.5] (unknown [172.18.0.240]) by postal.iol.unh.edu (Postfix) with ESMTP id C00D16052471; Sun, 2 Feb 2025 03:19:43 -0500 (EST) Subject: |SUCCESS| [GIT MASTER] f2eea2f37a82bb73fb01d56350708f7d70e21379 From: dpdklab@iol.unh.edu To: Test Report Cc: dpdk-test-reports@iol.unh.edu, Xueming Li , Christian Ehrhardt , Kevin Traynor , Luca Boccassi Content-Type: text/plain X-BeenThere: test-report@dpdk.org X-Mailman-Version: 2.1.29 Precedence: list List-Id: automatic DPDK test reports List-Unsubscribe: , List-Archive: List-Post: List-Help: List-Subscribe: , Errors-To: test-report-bounces@dpdk.org _Testing PASS_ Branch: tags/v24.11 f2eea2f37a82bb73fb01d56350708f7d70e21379 --> testing pass Upstream job id: Generic-DPDK-Compile-Meson#357132 Test environment and result as below: +------------------------------------+--------------------+ | Environment | dpdk_meson_compile | +====================================+====================+ | Ubuntu 20.04 ARM GCC Cross Compile | PASS | +------------------------------------+--------------------+ | RHEL9 (ARM) | PASS | +------------------------------------+--------------------+ | Ubuntu 20.04 ARM SVE | PASS | +------------------------------------+--------------------+ | Debian 12 (arm) | PASS | +------------------------------------+--------------------+ | Fedora 40 (ARM Clang) | PASS | +------------------------------------+--------------------+ | Fedora 41 (ARM Clang) | PASS | +------------------------------------+--------------------+ | Debian 12 with MUSDK | PASS | +------------------------------------+--------------------+ | Fedora 40 (ARM) | PASS | +------------------------------------+--------------------+ | Ubuntu 22.04 (ARM) | PASS | +------------------------------------+--------------------+ | Fedora 41 (ARM) | PASS | +------------------------------------+--------------------+ | Ubuntu 20.04 (ARM) | PASS | +------------------------------------+--------------------+ | Ubuntu 24.04 (ARM) | PASS | +------------------------------------+--------------------+ | Debian 11 (Buster) (ARM) | PASS | +------------------------------------+--------------------+ | CentOS Stream 9 (ARM) | PASS | +------------------------------------+--------------------+ Ubuntu 20.04 ARM GCC Cross Compile Kernel: Depends on container host Compiler: aarch64-linux-gnu-gcc (Ubuntu 9.4.0-1ubuntu1~20.04.2) 9.4.0 RHEL9 (ARM) Kernel: Depends on container host Compiler: gcc 11.5.0 20240719 (Red Hat 11.5.0-2) Ubuntu 20.04 ARM SVE Kernel: Depends on container host Compiler: gcc (Ubuntu 10.5.0-1ubuntu1~20.04) 10.5.0 Debian 12 (arm) Kernel: Depends on container host Compiler: gcc (Debian 12.2.0-14) 12.2.0 Fedora 40 (ARM Clang) Kernel: Depends on container host Compiler: clang 18.1.8 (Fedora 18.1.8-1.fc40) Fedora 41 (ARM Clang) Kernel: Depends on container host Compiler: clang 19.1.5 (Fedora 19.1.5-1.fc41) Debian 12 with MUSDK Kernel: Depends on container host Compiler: gcc (Debian 12.2.0-14) 12.2.0 Fedora 40 (ARM) Kernel: Depends on container host Compiler: gcc 14.2.1 20240912 (Red Hat 14.2.1-3) Ubuntu 22.04 (ARM) Kernel: Depends on container host Compiler: gcc (Ubuntu 11.4.0-1ubuntu1~22.04) 11.4.0 Fedora 41 (ARM) Kernel: Depends on container host Compiler: gcc 14.2.1 20240912 (Red Hat 14.2.1-3) Ubuntu 20.04 (ARM) Kernel: Depends on container host Compiler: gcc (Ubuntu 9.4.0-1ubuntu1~20.04.2) 9.4.0 Ubuntu 24.04 (ARM) Kernel: Depends on container host Compiler: gcc (Ubuntu 13.3.0-6ubuntu2~24.04) 13.3.0 Debian 11 (Buster) (ARM) Kernel: Depends on container host Compiler: gcc (Debian 10.2.1-6) 10.2.1 20210110 CentOS Stream 9 (ARM) Kernel: Depends on container host Compiler: gcc 11.5.0 20240719 (Red Hat 11.5.0-2) To view detailed results, visit: https://lab.dpdk.org/results/dashboard/tarballs/32418/ UNH-IOL DPDK Community Lab To manage your email subscriptions, visit: https://lab.dpdk.org/results/dashboard/preferences/subscriptions/