From mboxrd@z Thu Jan 1 00:00:00 1970 Return-Path: Received: from mails.dpdk.org (mails.dpdk.org [217.70.189.124]) by inbox.dpdk.org (Postfix) with ESMTP id 729F046170 for ; Sun, 2 Feb 2025 09:25:59 +0100 (CET) Received: from mails.dpdk.org (localhost [127.0.0.1]) by mails.dpdk.org (Postfix) with ESMTP id 32F3840264; Sun, 2 Feb 2025 09:25:59 +0100 (CET) Received: from mail-pl1-f226.google.com (mail-pl1-f226.google.com [209.85.214.226]) by mails.dpdk.org (Postfix) with ESMTP id 1C48A4025A for ; Sun, 2 Feb 2025 09:25:58 +0100 (CET) Received: by mail-pl1-f226.google.com with SMTP id d9443c01a7336-216395e151bso40276595ad.0 for ; Sun, 02 Feb 2025 00:25:57 -0800 (PST) DKIM-Signature: v=1; a=rsa-sha256; c=relaxed/relaxed; d=iol.unh.edu; s=unh-iol; t=1738484757; x=1739089557; darn=dpdk.org; h=cc:to:from:subject:message-id:date:from:to:cc:subject:date :message-id:reply-to; bh=N+ADjJIItHyxeLvAsghp9V5lPhTYQexv6rMI2drEMsc=; b=frMBZxpGfhIyqU/HdIq4dQdCYzWz8/GhWmnbSfE7laSz92SaQ0oOR/7CGhmQqeVGfO H+s9S3YlPgguTpFEoBxMr7T9xBc1BunyqRJMuRwEmmKcqCAP0Ksyd1scvGnIair3VPDs EAUOXBBkN+RIZL1RLkwtBgY0gE/qZcotai89A= X-Google-DKIM-Signature: v=1; a=rsa-sha256; c=relaxed/relaxed; d=1e100.net; s=20230601; t=1738484757; x=1739089557; h=cc:to:from:subject:message-id:date:x-gm-message-state:from:to:cc :subject:date:message-id:reply-to; bh=N+ADjJIItHyxeLvAsghp9V5lPhTYQexv6rMI2drEMsc=; b=LCOk26ISHZM5HfRR6jVdxuP/xXo8/TtrFB5IkVCNap/5EVt7CmS+EIrPfYHrPApPyj Qke25BXzHqG8EaJruRBH+/zDFbaPCp84fBIG0IN8MsPPiP0nz13OiJdhQrqcZGqC7aFw PFrWTuP+OzHo+q4Rfjw2R0WoVTQcKto9DG098fWClPucBUzR2hbKRO9zPGMGTQyfln67 mo4BrZJwmalspibFGucWGctJWZBMifdr2Rg0nG3x6zUs3tw8r2Df4HPKaA2IIZVAZRAu RLl2lEg/Ua2n62dRlNstFL5Bj8JtlIjJoJa2ZOjVY3q4AV4r1RWhnQvCCE/BZoga8jfN Z24w== X-Gm-Message-State: AOJu0Yz3pmE4QcjEHY6fJY3gBCWhv8w/ZCv2+SRUORetVkloD6wjh4mj CryCztbgx1nXp1MI1e65+OqwONdzVgtMSRoRE9s+Ph2MtiTgfP5o9gHDr0XwD3ZA+z8EqXwiQex V10z0IBKxVRHfyskLlmYX9oWmUCrFkgQ3 X-Gm-Gg: ASbGncsyDYo5+1rSW3o8RYIO0RIbBLy+p4o/ILU1GVNssMHbB42+tFZPM4pQE7DsV16 7IDeQ0C/GtFvuHHLz0pFRdtnh1hqLTWYNO7hwSCddoD3Eiswx4nDaVlyIXAu7cmggTgJBH/fg5e FUptTxTKXZhbOVu/b5Xe3Q+koe/NcBGEHlhNOxH7ZttZaDaOAIWbeJm7M3Xi85FauJ+zs4D+FF3 yXYn3Mg6OuRmWtLsSuay1Dc1NTjcjY40N7WIWEdeaWhBYTMNnaEUDeAGag/tPTHRUzMN5gf3ZxL sxMMPYy8RcREMTIKtXKAHhcNTGB7Sg== X-Google-Smtp-Source: AGHT+IG6sdDsHiVukfpTyvVT1C4K4BkqLcMqKf3JqiGsO6a+78fQ0wQOwp2RsPeST6qTz+1XLib1I+lp/+T8 X-Received: by 2002:a17:903:903:b0:215:58be:334e with SMTP id d9443c01a7336-21de1958de1mr202047515ad.10.1738484756928; Sun, 02 Feb 2025 00:25:56 -0800 (PST) Received: from postal.iol.unh.edu (postal.iol.unh.edu. [132.177.123.84]) by smtp-relay.gmail.com with ESMTPS id d9443c01a7336-21de3346d8fsm3030565ad.111.2025.02.02.00.25.56 (version=TLS1_2 cipher=ECDHE-ECDSA-AES128-GCM-SHA256 bits=128/128); Sun, 02 Feb 2025 00:25:56 -0800 (PST) X-Relaying-Domain: iol.unh.edu Date: Sun, 02 Feb 2025 00:25:56 -0800 (PST) Message-ID: <679f2c14.170a0220.18a7db.dfeaSMTPIN_ADDED_MISSING@mx.google.com> Received: from [172.21.0.5] (unknown [172.18.0.240]) by postal.iol.unh.edu (Postfix) with ESMTP id E5CB16052471; Sun, 2 Feb 2025 03:25:55 -0500 (EST) Subject: |SUCCESS| [GIT MASTER] c66daa12e76d7b4912cfb7109a761856a7a873ab From: dpdklab@iol.unh.edu To: Test Report Cc: dpdk-test-reports@iol.unh.edu, Xueming Li , Christian Ehrhardt , Kevin Traynor , Luca Boccassi Content-Type: text/plain X-BeenThere: test-report@dpdk.org X-Mailman-Version: 2.1.29 Precedence: list List-Id: automatic DPDK test reports List-Unsubscribe: , List-Archive: List-Post: List-Help: List-Subscribe: , Errors-To: test-report-bounces@dpdk.org _Testing PASS_ Branch: tags/v23.11 c66daa12e76d7b4912cfb7109a761856a7a873ab --> testing pass Upstream job id: Generic-Unit-Test-DPDK#311072 Test environment and result as below: +-----------------------------+----------------+---------------------------+--------------+------------------------------+ | Environment | dpdk_unit_test | cryptodev_sw_zuc_autotest | lpm_autotest | cryptodev_sw_snow3g_autotest | +=============================+================+===========================+==============+==============================+ | Fedora 40 (ARM) | PASS | SKIPPED | SKIPPED | SKIPPED | +-----------------------------+----------------+---------------------------+--------------+------------------------------+ | CentOS Stream 9 (ARM) | PASS | SKIPPED | SKIPPED | SKIPPED | +-----------------------------+----------------+---------------------------+--------------+------------------------------+ | Debian 11 (Buster) (ARM) | PASS | SKIPPED | SKIPPED | SKIPPED | +-----------------------------+----------------+---------------------------+--------------+------------------------------+ | Fedora 40 (ARM Clang) | PASS | SKIPPED | SKIPPED | SKIPPED | +-----------------------------+----------------+---------------------------+--------------+------------------------------+ | Debian 12 (arm) | PASS | PASS | SKIPPED | PASS | +-----------------------------+----------------+---------------------------+--------------+------------------------------+ | Fedora 41 (ARM Clang) | PASS | SKIPPED | SKIPPED | SKIPPED | +-----------------------------+----------------+---------------------------+--------------+------------------------------+ | RHEL9 (ARM) | PASS | SKIPPED | SKIPPED | SKIPPED | +-----------------------------+----------------+---------------------------+--------------+------------------------------+ | Fedora 41 (ARM) | PASS | SKIPPED | SKIPPED | SKIPPED | +-----------------------------+----------------+---------------------------+--------------+------------------------------+ | Ubuntu 22.04 (ARM) | PASS | SKIPPED | SKIPPED | SKIPPED | +-----------------------------+----------------+---------------------------+--------------+------------------------------+ | Ubuntu 20.04 (ARM) | PASS | SKIPPED | SKIPPED | SKIPPED | +-----------------------------+----------------+---------------------------+--------------+------------------------------+ | Ubuntu 24.04 (ARM) | PASS | SKIPPED | SKIPPED | SKIPPED | +-----------------------------+----------------+---------------------------+--------------+------------------------------+ | 32-bit Ubuntu 22.04.4 (ARM) | PASS | SKIPPED | SKIPPED | SKIPPED | +-----------------------------+----------------+---------------------------+--------------+------------------------------+ | Ubuntu 20.04 ARM SVE | SKIPPED | SKIPPED | PASS | SKIPPED | +-----------------------------+----------------+---------------------------+--------------+------------------------------+ Fedora 40 (ARM) Kernel: Depends on container host Compiler: gcc 14.2.1 20240912 (Red Hat 14.2.1-3) CentOS Stream 9 (ARM) Kernel: Depends on container host Compiler: gcc 11.5.0 20240719 (Red Hat 11.5.0-2) Debian 11 (Buster) (ARM) Kernel: Depends on container host Compiler: gcc (Debian 10.2.1-6) 10.2.1 20210110 Fedora 40 (ARM Clang) Kernel: Depends on container host Compiler: clang 18.1.8 (Fedora 18.1.8-1.fc40) Debian 12 (arm) Kernel: Depends on container host Compiler: gcc (Debian 12.2.0-14) 12.2.0 Fedora 41 (ARM Clang) Kernel: Depends on container host Compiler: clang 19.1.5 (Fedora 19.1.5-1.fc41) RHEL9 (ARM) Kernel: Depends on container host Compiler: gcc 11.5.0 20240719 (Red Hat 11.5.0-2) Fedora 41 (ARM) Kernel: Depends on container host Compiler: gcc 14.2.1 20240912 (Red Hat 14.2.1-3) Ubuntu 22.04 (ARM) Kernel: Depends on container host Compiler: gcc (Ubuntu 11.4.0-1ubuntu1~22.04) 11.4.0 Ubuntu 20.04 (ARM) Kernel: Depends on container host Compiler: gcc (Ubuntu 9.4.0-1ubuntu1~20.04.2) 9.4.0 Ubuntu 24.04 (ARM) Kernel: Depends on container host Compiler: gcc (Ubuntu 13.3.0-6ubuntu2~24.04) 13.3.0 32-bit Ubuntu 22.04.4 (ARM) Kernel: 5.15.83+ aarch64 Compiler: gcc (Ubuntu 11.4.0-1ubuntu1~22.04) 11.4.0 Ubuntu 20.04 ARM SVE Kernel: Depends on container host Compiler: gcc (Ubuntu 10.5.0-1ubuntu1~20.04) 10.5.0 To view detailed results, visit: https://lab.dpdk.org/results/dashboard/tarballs/32419/ UNH-IOL DPDK Community Lab To manage your email subscriptions, visit: https://lab.dpdk.org/results/dashboard/preferences/subscriptions/