From mboxrd@z Thu Jan 1 00:00:00 1970 Return-Path: Received: from mails.dpdk.org (mails.dpdk.org [217.70.189.124]) by inbox.dpdk.org (Postfix) with ESMTP id A310346170 for ; Sun, 2 Feb 2025 09:28:04 +0100 (CET) Received: from mails.dpdk.org (localhost [127.0.0.1]) by mails.dpdk.org (Postfix) with ESMTP id 8DD9340264; Sun, 2 Feb 2025 09:28:04 +0100 (CET) Received: from mail-pj1-f98.google.com (mail-pj1-f98.google.com [209.85.216.98]) by mails.dpdk.org (Postfix) with ESMTP id 32E0F4025A for ; Sun, 2 Feb 2025 09:28:03 +0100 (CET) Received: by mail-pj1-f98.google.com with SMTP id 98e67ed59e1d1-2f78a4ca5deso4363574a91.0 for ; Sun, 02 Feb 2025 00:28:03 -0800 (PST) DKIM-Signature: v=1; a=rsa-sha256; c=relaxed/relaxed; d=iol.unh.edu; s=unh-iol; t=1738484882; x=1739089682; darn=dpdk.org; h=cc:to:from:subject:message-id:date:from:to:cc:subject:date :message-id:reply-to; bh=CJ3f8kVgHNpZq1mjBj6UxagDAPKj/5kh6g/pfybS4o8=; b=bI/3GGKISQpIhbSdfjhA9sLSlUGrTQXOEe9lLm7/Gl1LBwAZ+l0jur10oViWt02NO/ t93nObw4nUVdxaMRoeqEHh4nhKwM4rqbO6fwtAY1OaAFpb4RxZopl5uVm5xTnYegILG4 AmCjc9wf7ZiM0oMrgUKBXeHFfVoo/GBmCLYAE= X-Google-DKIM-Signature: v=1; a=rsa-sha256; c=relaxed/relaxed; d=1e100.net; s=20230601; t=1738484882; x=1739089682; h=cc:to:from:subject:message-id:date:x-gm-message-state:from:to:cc :subject:date:message-id:reply-to; bh=CJ3f8kVgHNpZq1mjBj6UxagDAPKj/5kh6g/pfybS4o8=; b=ZuknlUVI31xQxmM4cXO2jLjdyV2Z6n3sgDXBmkFbfDgXwVsLpvRDJXgGdskzXjw1na FtyHPxNus7Inepwo5KT9sUtIuQ90lmN4pJlmpGbKzYArJEgPQzwQpxtJOmzxOvviE96D FE7yiJj9pnASi6CAEM2tn24oCM1fRHIQ2T7DX2+dzWod3ByC3VPqZZEd/ioB0b+ihlye XmDOfayUn+UX1Vl+a4DVQyl+Bzl9isEEEU4ieK9XGceBMS30E4g9+YiAuXpOkuFNbi/+ MTrIgBuvt8WcJMkxjhaP9P9REeYvbkgUoK7JRJfmhA/jQmQAuGMywuELXchsT6I0yemb qDvg== X-Gm-Message-State: AOJu0YyB1GF+yCPf1u7pT7ErWY4nWFiIsepSZQ1KaY7Cv3cv9C0/zWpo bxRKS1Hk9i846jTMQX//SntoKW+RVGy7hGBeDOklyhAlSi3cemk+mkHb485XC4QkiGiAUC0X1vx mm7R8pLKCkK87mjoDfz++5mmvFdYiOKMR X-Gm-Gg: ASbGncvLY9ow2T6hvFDSGdkuS6HXczXpEpi7UOvOXesjYs+P4AjIsT3wJp9qVQGZAvh ZSAyCVI9EeT1EKP5z3mw5GMoVPBSjvzVb2sN49APnPWciiZydqivAtU/UoQiUJZMcwppiadP7pi isANUdcmilpHaLcQKIoc2RKl8/33jO4Kf3JnEK9rKm3LAP8/llrEY8i96uhNAQ8NQ+Yr2TCQRYz ut7JwNe+JVfsp8QOSTRdu3/pC/EPVIxKNRygcaiIokM4peAuN/zhRTekKG/jkRboIx6a4a17cRK FYcJhYkThcv4Mnrbu+FaplBwCzL7vw== X-Google-Smtp-Source: AGHT+IE78ogAop3vlbRyrTStHlHqlGZomMTTFq2owo2oDC9TuWixmB2c6sJt1cffeZcBGxXx3fZ+vp2LKXca X-Received: by 2002:a17:90b:1f8c:b0:2ee:94d1:7a89 with SMTP id 98e67ed59e1d1-2f83ab8c371mr24835648a91.1.1738484882320; Sun, 02 Feb 2025 00:28:02 -0800 (PST) Received: from postal.iol.unh.edu (postal.iol.unh.edu. [132.177.123.84]) by smtp-relay.gmail.com with ESMTPS id d9443c01a7336-21de326cdc0sm2926455ad.59.2025.02.02.00.28.02 (version=TLS1_2 cipher=ECDHE-ECDSA-AES128-GCM-SHA256 bits=128/128); Sun, 02 Feb 2025 00:28:02 -0800 (PST) X-Relaying-Domain: iol.unh.edu Date: Sun, 02 Feb 2025 00:28:02 -0800 (PST) Message-ID: <679f2c92.170a0220.1d853.d60aSMTPIN_ADDED_MISSING@mx.google.com> Received: from [172.21.0.5] (unknown [172.18.0.240]) by postal.iol.unh.edu (Postfix) with ESMTP id 680E16052471; Sun, 2 Feb 2025 03:28:01 -0500 (EST) Subject: |SUCCESS| [GIT MASTER] 7ce7d3341d7e21c2a81f2fea8e451681d7306d77 From: dpdklab@iol.unh.edu To: Test Report Cc: dpdk-test-reports@iol.unh.edu, Xueming Li , Christian Ehrhardt , Kevin Traynor , Luca Boccassi Content-Type: text/plain X-BeenThere: test-report@dpdk.org X-Mailman-Version: 2.1.29 Precedence: list List-Id: automatic DPDK test reports List-Unsubscribe: , List-Archive: List-Post: List-Help: List-Subscribe: , Errors-To: test-report-bounces@dpdk.org _Testing PASS_ Branch: tags/v22.11 7ce7d3341d7e21c2a81f2fea8e451681d7306d77 --> testing pass Upstream job id: Generic-Unit-Test-DPDK#311093 Test environment and result as below: +-----------------------------+----------------+--------------+------------------------------+---------------------------+ | Environment | dpdk_unit_test | lpm_autotest | cryptodev_sw_snow3g_autotest | cryptodev_sw_zuc_autotest | +=============================+================+==============+==============================+===========================+ | 32-bit Ubuntu 22.04.4 (ARM) | PASS | SKIPPED | SKIPPED | SKIPPED | +-----------------------------+----------------+--------------+------------------------------+---------------------------+ | Ubuntu 20.04 ARM SVE | SKIPPED | PASS | SKIPPED | SKIPPED | +-----------------------------+----------------+--------------+------------------------------+---------------------------+ | Debian 12 (arm) | SKIPPED | SKIPPED | PASS | PASS | +-----------------------------+----------------+--------------+------------------------------+---------------------------+ 32-bit Ubuntu 22.04.4 (ARM) Kernel: 5.15.83+ aarch64 Compiler: gcc (Ubuntu 11.4.0-1ubuntu1~22.04) 11.4.0 Ubuntu 20.04 ARM SVE Kernel: Depends on container host Compiler: gcc (Ubuntu 10.5.0-1ubuntu1~20.04) 10.5.0 Debian 12 (arm) Kernel: Depends on container host Compiler: gcc (Debian 12.2.0-14) 12.2.0 To view detailed results, visit: https://lab.dpdk.org/results/dashboard/tarballs/32420/ UNH-IOL DPDK Community Lab To manage your email subscriptions, visit: https://lab.dpdk.org/results/dashboard/preferences/subscriptions/