From mboxrd@z Thu Jan 1 00:00:00 1970 Return-Path: Received: from mails.dpdk.org (mails.dpdk.org [217.70.189.124]) by inbox.dpdk.org (Postfix) with ESMTP id 4C0C746170 for ; Sun, 2 Feb 2025 09:47:39 +0100 (CET) Received: from mails.dpdk.org (localhost [127.0.0.1]) by mails.dpdk.org (Postfix) with ESMTP id 2456E40264; Sun, 2 Feb 2025 09:47:39 +0100 (CET) Received: from mail-oa1-f97.google.com (mail-oa1-f97.google.com [209.85.160.97]) by mails.dpdk.org (Postfix) with ESMTP id 6F6A34025A for ; Sun, 2 Feb 2025 09:47:37 +0100 (CET) Received: by mail-oa1-f97.google.com with SMTP id 586e51a60fabf-29fe7ff65e6so1067990fac.0 for ; Sun, 02 Feb 2025 00:47:37 -0800 (PST) DKIM-Signature: v=1; a=rsa-sha256; c=relaxed/relaxed; d=iol.unh.edu; s=unh-iol; t=1738486056; x=1739090856; darn=dpdk.org; h=cc:to:from:subject:message-id:date:from:to:cc:subject:date :message-id:reply-to; bh=EWmGntr+9gg0NjFdWKBKB8gOxusVMs+AwwSq6tRjy3M=; b=DIzwu+nn0uh/e7r5bU2Iktysk+uoM/VRAzk8/HOqEGUV26dF9ZUQ0+BK4uhDfJd5Mm STGYtOY/ipDpMunp07VyrY3a+iDcBD/0qLKeVj5ZhNHC13L0NAQoliJBPWBDu40uUOmc AMwYDoXwgVjy+sODSysoLIAKd8egzy4ua6/KE= X-Google-DKIM-Signature: v=1; a=rsa-sha256; c=relaxed/relaxed; d=1e100.net; s=20230601; t=1738486056; x=1739090856; h=cc:to:from:subject:message-id:date:x-gm-message-state:from:to:cc :subject:date:message-id:reply-to; bh=EWmGntr+9gg0NjFdWKBKB8gOxusVMs+AwwSq6tRjy3M=; b=MfNDw773BtipOBHXdRTLrIjiiCggbAJxRSsvxixTijn35cmNxbPfyYTguulA0eqY1z HbgxsVFQJMCkd86zFdtZef2tAXWOpSIE3b9CUb8d4iBs9P/0GfFFg0RrrEeLwfTRCZ3w D/xXzJyAVr2Hcl0bXzrcopupO+Ab/LfhwYIev3iLivZl3GgZy590p5z1LnX+tPt8aIHB hV1eEcBqR/GX/x0Sxlvk6eFvuJKd72JD07cZoNbVS1QyhlPndlEz2+yf9/0I2gEQF0iN fBUZf7WHMhLr3k1QhNc5Pa1Aerwr+2gtqh4m0rJesN6h23zSU4I9HW2vRliKjhTjt0AZ LLHg== X-Gm-Message-State: AOJu0YxlVVDZxxlkm0ON+59jkZ8e77ltmiG+ln/lOD8XBLHUHYZnWTPh YJbuZi1p97KxjUymqqlb2//9jTCgAtku+8iDXFkRHfxGK0qqBVxocJ+5WwTxXdeFEioDRWvCSGR +WijanPlfGPgHJdybNkFwTDh8i06b5VBn X-Gm-Gg: ASbGncvc6YESifk5LMk0LM7zXsHm+neR/FlGdFLj+tYFJ3JT8Vt/khbETxNZzW9RPwJ 0eW0mcmqmhIIYyCq/EqMZwQQuPakMkyzB/kDNEcvx6+eMh7yyIUrBGtoIf1Mo/2oPYFUILfVPbr qnxAJKgJiMl+72SV+mXtnhNr89BI2r1d4wIek1W8ntsyhH07U9omHwQncRZf9NoSstfIfd6cXU8 b1MLswEM0ineennxvJq2s4FJOKbw9dT3Is9soBOC1WDTzsRvNG88CeLgCvm9vH6SMmzNFkkE7yw xZihKnXeVcdQkloEbOX7rESlEFn4NA== X-Google-Smtp-Source: AGHT+IHffhB52t16/rKnKt1hkqif1H1doiPCeXFYGvAcobaCJN+/AWOo7nD94wdWl4QFIaTIjOPbrvOKLx5i X-Received: by 2002:a05:6871:5cc:b0:29f:d0bb:618e with SMTP id 586e51a60fabf-2b32f2dc433mr10967267fac.25.1738486056046; Sun, 02 Feb 2025 00:47:36 -0800 (PST) Received: from postal.iol.unh.edu (postal.iol.unh.edu. [132.177.123.84]) by smtp-relay.gmail.com with ESMTPS id 586e51a60fabf-2b3562f6407sm508464fac.24.2025.02.02.00.47.35 (version=TLS1_2 cipher=ECDHE-ECDSA-AES128-GCM-SHA256 bits=128/128); Sun, 02 Feb 2025 00:47:36 -0800 (PST) X-Relaying-Domain: iol.unh.edu Date: Sun, 02 Feb 2025 00:47:36 -0800 (PST) Message-ID: <679f3128.050a0220.f9de9.8d72SMTPIN_ADDED_MISSING@mx.google.com> Received: from [172.17.0.5] (unknown [172.18.0.217]) by postal.iol.unh.edu (Postfix) with ESMTP id 71E726052471; Sun, 2 Feb 2025 03:47:35 -0500 (EST) Subject: |SUCCESS| [GIT MASTER] c66daa12e76d7b4912cfb7109a761856a7a873ab From: dpdklab@iol.unh.edu To: Test Report Cc: dpdk-test-reports@iol.unh.edu, Xueming Li , Christian Ehrhardt , Kevin Traynor , Luca Boccassi Content-Type: text/plain X-BeenThere: test-report@dpdk.org X-Mailman-Version: 2.1.29 Precedence: list List-Id: automatic DPDK test reports List-Unsubscribe: , List-Archive: List-Post: List-Help: List-Subscribe: , Errors-To: test-report-bounces@dpdk.org _Testing PASS_ Branch: tags/v23.11 c66daa12e76d7b4912cfb7109a761856a7a873ab --> testing pass Upstream job id: ACVP-FIPS-testing#8759 Test environment and result as below: +--------------------+----------------------+----------------------+ | Environment | compressdev_zlib_pmd | dpdk_fips_validation | +====================+======================+======================+ | Ubuntu 22.04 (ARM) | PASS | SKIPPED | +--------------------+----------------------+----------------------+ | Ubuntu 22.04 | PASS | SKIPPED | +--------------------+----------------------+----------------------+ | Ubuntu 20.04 | SKIPPED | PASS | +--------------------+----------------------+----------------------+ Ubuntu 22.04 (ARM) Kernel: 5.15.0-97-generic Compiler: gcc gcc (Ubuntu 11.4.0-1ubuntu1~22.04) 11.4.0 Ubuntu 22.04 Kernel: 5.15.0-100-generic Compiler: gcc gcc (Ubuntu 11.4.0-1ubuntu1~22.04) 11.4.0 Ubuntu 20.04 Kernel: Depends on container host Compiler: gcc (Ubuntu 9.4.0-1ubuntu1~20.04.2) 9.4.0 To view detailed results, visit: https://lab.dpdk.org/results/dashboard/tarballs/32419/ UNH-IOL DPDK Community Lab To manage your email subscriptions, visit: https://lab.dpdk.org/results/dashboard/preferences/subscriptions/