From mboxrd@z Thu Jan 1 00:00:00 1970 Return-Path: Received: from mails.dpdk.org (mails.dpdk.org [217.70.189.124]) by inbox.dpdk.org (Postfix) with ESMTP id B895746171 for ; Sun, 2 Feb 2025 10:04:08 +0100 (CET) Received: from mails.dpdk.org (localhost [127.0.0.1]) by mails.dpdk.org (Postfix) with ESMTP id 901E940264; Sun, 2 Feb 2025 10:04:08 +0100 (CET) Received: from mail-io1-f98.google.com (mail-io1-f98.google.com [209.85.166.98]) by mails.dpdk.org (Postfix) with ESMTP id 380E94025A for ; Sun, 2 Feb 2025 10:04:07 +0100 (CET) Received: by mail-io1-f98.google.com with SMTP id ca18e2360f4ac-84a012f7232so120013839f.0 for ; Sun, 02 Feb 2025 01:04:07 -0800 (PST) DKIM-Signature: v=1; a=rsa-sha256; c=relaxed/relaxed; d=iol.unh.edu; s=unh-iol; t=1738487046; x=1739091846; darn=dpdk.org; h=cc:to:from:subject:message-id:date:from:to:cc:subject:date :message-id:reply-to; bh=5ZfTNaVqTnQEW/ZmxzLFCiNG+dV7Gb2MyCb/2c/T/1Y=; b=Z94BIhF8T2A7ZjvILSObRr62wO/XDPD9JuEYaD7SNXTVK5MyIjKd1AcX5/pjgNSmqO 6baZu47UqC0/dUrvLl6/MAd2L9iSAJ8tOxB9mb5GzWhVnZ0sF50Y+3eftoGee1FsW+nd +YWHZUyXk9hHFZSyyTm+ktl6o9FiBU6OpHWSc= X-Google-DKIM-Signature: v=1; a=rsa-sha256; c=relaxed/relaxed; d=1e100.net; s=20230601; t=1738487046; x=1739091846; h=cc:to:from:subject:message-id:date:x-gm-message-state:from:to:cc :subject:date:message-id:reply-to; bh=5ZfTNaVqTnQEW/ZmxzLFCiNG+dV7Gb2MyCb/2c/T/1Y=; b=hPw1JCbdI56Yr+ThNPbWh3vHyHf8hbOfPU1UfpfHw6FxvKhfzxulewItvzjKAeg8PJ Rm4mc/JNnJsxh32UYWoHjEI0IT8GDP/c5MrAEmyaF8cvZkcYQWQM814whY0kkzaGzgoz 7MGyO/ImrjSD4n0dM5vX06Dix53v4lzsHX/h+OPMbpH6ymIMSxtA8RAjFGfVpiy8zetV KkS+hZOQxOCvmjYOY3uFKuFiKBnDckhYp/f/KEeu+XdcJrrPS1IwLwsE50N74mxs8Mco TSTOK/AHikzuT5iMQULYREkL2ikumWtEnygTLtDobTTgZp0EQ/ymW64ZZoJEQjg8UBmF 7C/A== X-Gm-Message-State: AOJu0Ywb8hWZtKAcEZDjQHmxn2ko7BfXPgBGL3HkiepzHgXte9xCaumj hBUd1OTqwDCunWewPHgfDGkj7wM69L6byn8QNVDDcpSzCLy1Jg1V9/3aAKStf/2xsn38gDbGhex Bbv7BL0coTshg2KtmPWQLqPgj1RVEdU2F X-Gm-Gg: ASbGncuC+8g+/EHZXkN2r5umL15ihuAfw2S9CYOi0QCT16uC/hY6rkHe0gGRojss9J6 6wSlzZjo4Xm/OiK7fkYA6+8QYhiU3gtVnZTFJu6PFNApFQ2FcgmpGkDhcDOhM7i40DFHQjftxJE Nu1irh8TrNSemqNgSa1GjtBycf6q0UV1ZuECwc8p/nVsfakicDFdbyMOL2QrzoqqYkigPr7W4r4 d1vCICoeR80Jolfnv04Xvksrbh4tJPFTlUaQfh+zHAhDWumj3+q9TE62y5krDzsACg9EzU0RPyh k1aABMVc4jG4BQBZ4NhSJTaPGu0yXg== X-Google-Smtp-Source: AGHT+IGeGX4KrDVS7sxv4Vms8R+q/K3akZRU+Is/D/FS4jrIv/o7yxCEAr+MO7+UQ5QzDaRS5Bs8qN4SKwmp X-Received: by 2002:a05:6602:14f:b0:841:9225:1f56 with SMTP id ca18e2360f4ac-854ac246178mr770454739f.3.1738487046527; Sun, 02 Feb 2025 01:04:06 -0800 (PST) Received: from postal.iol.unh.edu (postal.iol.unh.edu. [132.177.123.84]) by smtp-relay.gmail.com with ESMTPS id ca18e2360f4ac-854a15d0983sm40984039f.7.2025.02.02.01.04.06 (version=TLS1_2 cipher=ECDHE-ECDSA-AES128-GCM-SHA256 bits=128/128); Sun, 02 Feb 2025 01:04:06 -0800 (PST) X-Relaying-Domain: iol.unh.edu Date: Sun, 02 Feb 2025 01:04:06 -0800 (PST) Message-ID: <679f3506.050a0220.1d7425.32bdSMTPIN_ADDED_MISSING@mx.google.com> Received: from [172.17.0.4] (unknown [172.18.0.217]) by postal.iol.unh.edu (Postfix) with ESMTP id F1A4F6052471; Sun, 2 Feb 2025 04:04:05 -0500 (EST) Subject: |SUCCESS| [GIT MASTER] 7ce7d3341d7e21c2a81f2fea8e451681d7306d77 From: dpdklab@iol.unh.edu To: Test Report Cc: dpdk-test-reports@iol.unh.edu, Xueming Li , Christian Ehrhardt , Kevin Traynor , Luca Boccassi Content-Type: text/plain X-BeenThere: test-report@dpdk.org X-Mailman-Version: 2.1.29 Precedence: list List-Id: automatic DPDK test reports List-Unsubscribe: , List-Archive: List-Post: List-Help: List-Subscribe: , Errors-To: test-report-bounces@dpdk.org _Testing PASS_ Branch: tags/v22.11 7ce7d3341d7e21c2a81f2fea8e451681d7306d77 --> testing pass Upstream job id: Generic-DPDK-Compile-Meson#357193 Test environment and result as below: +---------------------+--------------------+----------------------+ | Environment | dpdk_meson_compile | dpdk_mingw64_compile | +=====================+====================+======================+ | FreeBSD 13.4 | PASS | SKIPPED | +---------------------+--------------------+----------------------+ | FreeBSD 14.2 | PASS | SKIPPED | +---------------------+--------------------+----------------------+ | CentOS Stream 9 | PASS | SKIPPED | +---------------------+--------------------+----------------------+ | Debian Bullseye | PASS | SKIPPED | +---------------------+--------------------+----------------------+ | Debian 12 | PASS | SKIPPED | +---------------------+--------------------+----------------------+ | Fedora 40 (Clang) | PASS | SKIPPED | +---------------------+--------------------+----------------------+ | Fedora 40 | PASS | SKIPPED | +---------------------+--------------------+----------------------+ | Fedora 41 (Clang) | PASS | SKIPPED | +---------------------+--------------------+----------------------+ | Fedora 41 | PASS | SKIPPED | +---------------------+--------------------+----------------------+ | openSUSE Leap 15 | PASS | SKIPPED | +---------------------+--------------------+----------------------+ | RHEL8 | PASS | SKIPPED | +---------------------+--------------------+----------------------+ | RHEL9 | PASS | SKIPPED | +---------------------+--------------------+----------------------+ | Ubuntu 20.04 | PASS | SKIPPED | +---------------------+--------------------+----------------------+ | Ubuntu 22.04 | PASS | SKIPPED | +---------------------+--------------------+----------------------+ | Ubuntu 24.04 | PASS | SKIPPED | +---------------------+--------------------+----------------------+ | Windows Server 2022 | SKIPPED | PASS | +---------------------+--------------------+----------------------+ FreeBSD 13.4 Kernel: 13.4-RELEASE-p1 Compiler: clang 18.1.6 FreeBSD 14.2 Kernel: 14.2-RELEASE Compiler: clang 18.1.6 CentOS Stream 9 Kernel: Depends on container host Compiler: gcc 11.5.0 20240719 (Red Hat 11.5.0-2) Debian Bullseye Kernel: Depends on container host Compiler: gcc (Debian 10.2.1-6) 10.2.1 20210110 Debian 12 Kernel: Depends on container host Compiler: gcc (Debian 12.2.0-14) 12.2.0 Fedora 40 (Clang) Kernel: Depends on container host Compiler: clang 18.1.8 (Fedora 18.1.8-1.fc40) Fedora 40 Kernel: Depends on container host Compiler: gcc 14.2.1 20240912 (Red Hat 14.2.1-3) Fedora 41 (Clang) Kernel: Depends on container host Compiler: clang 19.1.5 (Fedora 19.1.5-1.fc41) Fedora 41 Kernel: Depends on container host Compiler: gcc 14.2.1 20240912 (Red Hat 14.2.1-3) openSUSE Leap 15 Kernel: Depends on container host Compiler: gcc (SUSE Linux) 7.5.0 RHEL8 Kernel: Depends on container host Compiler: gcc 8.5.0 20210514 (Red Hat 8.5.0-22) RHEL9 Kernel: Depends on container host Compiler: gcc 11.5.0 20240719 (Red Hat 11.5.0-2) Ubuntu 20.04 Kernel: Depends on container host Compiler: gcc (Ubuntu 9.4.0-1ubuntu1~20.04.2) 9.4.0 Ubuntu 22.04 Kernel: Depends on container host Compiler: gcc (Ubuntu 11.4.0-1ubuntu1~22.04) 11.4.0 Ubuntu 24.04 Kernel: Depends on container host Compiler: gcc (Ubuntu 13.3.0-6ubuntu2~24.04) 13.3.0 Windows Server 2022 Kernel: 10.0.20348.2031 Compiler: clang 15.0.7, gcc 14.1.0 (MinGW), and MSVC VS 19.39.33521 To view detailed results, visit: https://lab.dpdk.org/results/dashboard/tarballs/32420/ UNH-IOL DPDK Community Lab To manage your email subscriptions, visit: https://lab.dpdk.org/results/dashboard/preferences/subscriptions/