From mboxrd@z Thu Jan 1 00:00:00 1970 Return-Path: Received: from mails.dpdk.org (mails.dpdk.org [217.70.189.124]) by inbox.dpdk.org (Postfix) with ESMTP id DEB7546171 for ; Sun, 2 Feb 2025 10:07:07 +0100 (CET) Received: from mails.dpdk.org (localhost [127.0.0.1]) by mails.dpdk.org (Postfix) with ESMTP id ED6C140264; Sun, 2 Feb 2025 10:07:06 +0100 (CET) Received: from mail-yb1-f226.google.com (mail-yb1-f226.google.com [209.85.219.226]) by mails.dpdk.org (Postfix) with ESMTP id CF7BA4025A for ; Sun, 2 Feb 2025 10:07:05 +0100 (CET) Received: by mail-yb1-f226.google.com with SMTP id 3f1490d57ef6-e58a7e02514so3663089276.1 for ; Sun, 02 Feb 2025 01:07:05 -0800 (PST) DKIM-Signature: v=1; a=rsa-sha256; c=relaxed/relaxed; d=iol.unh.edu; s=unh-iol; t=1738487225; x=1739092025; darn=dpdk.org; h=cc:to:from:subject:message-id:date:from:to:cc:subject:date :message-id:reply-to; bh=Lh+MjRYxushO31e9K4IrzlVZLhiZfHw1A+wGu6WrspU=; b=GjS0Oyc6LP5oseHdo9cCefVME+ZClYpWN2g6l3bJmn2C5f/R5vcTsMXpPIiW78g6fJ I4ZRwjNakaBRwNI0A4EkNPJgbQVd42LeZxSj/t4que06FyFPfLQfO7TZ6kb1ZlmpWgRi jzeme4SDXLc+VE/F7azDCnX1ro+k+rPqduDhM= X-Google-DKIM-Signature: v=1; a=rsa-sha256; c=relaxed/relaxed; d=1e100.net; s=20230601; t=1738487225; x=1739092025; h=cc:to:from:subject:message-id:date:x-gm-message-state:from:to:cc :subject:date:message-id:reply-to; bh=Lh+MjRYxushO31e9K4IrzlVZLhiZfHw1A+wGu6WrspU=; b=fp/C3rg/0pppzdDoOBWb2MqHB0w4BiVjihptfmrzASpCiIHE5LVwy1dBT3zgj9H97b guQUwPR/lR+ivcgBklSUBfOCF8I9HUbdiFz8R3eluHis3JmJa8+O1DuXjm6imgDnKefq hkvIHArrxMDs66ieI/kS38M8H9H2RqSxIZ/TYDoGmRb9FnHV3UliGH0uRmW+oqsdPVpJ e/r+tu5yKMKHmRZiSybq1WsLCHczbDmBz/au2ChnhHKLOj/aI8Z/hrPJgOmIVWL2Qm3E PRHrP+CPHzPAO6yGZiTDu+IxvSmOzFIq7Bx6Xc3JNYdcm2nGrAOag/EjcApwk4fVkA+b nAvA== X-Gm-Message-State: AOJu0YzTdMfHrmw3LYq06iIEeysc5m8/EhkYr8jxB8eDxzfgln1jRBPU GfojnQ3cAl4txqFT4on+izYdCiQbEXY4n7qPT8wAtYO8ARzByd7MctHj68g3rdNzrKW2n4JuWpP lsAkcFzcYpFyxtkMCnUtu+SxqHncnrdFYynftkKEflXXPupLS X-Gm-Gg: ASbGnctOQ4zwNKDMin1fjdhH+B5/z1qZwKgXYTlJc5ALLx4jljP0d4H5G2Qi5QfHmq9 78LvF8QNHH4H1GfJiEhVrVRZchuocXW1jRFs8OP18fbPxDW9IHcN2B3IiIl4Y4vs3tePUraH8VK 3o//rxHyQJj6UxNw34AN7ZJETr5j8u4ZfoRjaRgH8h0zmd4amzs6u/tOT1t0PQbc8yoUTQqVXk/ 4w1P+AHVcvJ2Z9x7Qp2ELgf/XAxq/b+rizzDgMB8fe1ORosIX6xqYBIhpzCobrmIZMOY/utso+M G3lMSwtKnL08oxYfyc+l19k73dAAGg3Z9E1tBkATIw== X-Google-Smtp-Source: AGHT+IG/WyVhY/Dakxr0WxLxCxk6O7sh3mbrWTOxGX4JrWtCA3dqeQOY53kqi+Dg5ALN2yFgvfEuxEk4CiU3 X-Received: by 2002:a05:6902:849:b0:e39:a3d9:48eb with SMTP id 3f1490d57ef6-e58a4b1b6d5mr12855523276.26.1738487225161; Sun, 02 Feb 2025 01:07:05 -0800 (PST) Received: from postal.iol.unh.edu (postal.iol.unh.edu. [2606:4100:3880:1234::84]) by smtp-relay.gmail.com with ESMTPS id 3f1490d57ef6-e5acb3db1fbsm414763276.20.2025.02.02.01.07.05 (version=TLS1_2 cipher=ECDHE-ECDSA-AES128-GCM-SHA256 bits=128/128); Sun, 02 Feb 2025 01:07:05 -0800 (PST) X-Relaying-Domain: iol.unh.edu Date: Sun, 02 Feb 2025 01:07:05 -0800 (PST) Message-ID: <679f35b9.250a0220.194c10.4bacSMTPIN_ADDED_MISSING@mx.google.com> Received: from [172.17.0.4] (unknown [172.18.0.217]) by postal.iol.unh.edu (Postfix) with ESMTP id 8A4C26052471; Sun, 2 Feb 2025 04:07:04 -0500 (EST) Subject: |SUCCESS| [GIT MASTER] c66daa12e76d7b4912cfb7109a761856a7a873ab From: dpdklab@iol.unh.edu To: Test Report Cc: dpdk-test-reports@iol.unh.edu, Xueming Li , Christian Ehrhardt , Kevin Traynor , Luca Boccassi Content-Type: text/plain X-BeenThere: test-report@dpdk.org X-Mailman-Version: 2.1.29 Precedence: list List-Id: automatic DPDK test reports List-Unsubscribe: , List-Archive: List-Post: List-Help: List-Subscribe: , Errors-To: test-report-bounces@dpdk.org _Testing PASS_ Branch: tags/v23.11 c66daa12e76d7b4912cfb7109a761856a7a873ab --> testing pass Upstream job id: Generic-DPDK-Compile-Meson#357164 Test environment and result as below: +------------------------------------+--------------------+ | Environment | dpdk_meson_compile | +====================================+====================+ | RHEL9 (ARM) | PASS | +------------------------------------+--------------------+ | Ubuntu 20.04 ARM GCC Cross Compile | PASS | +------------------------------------+--------------------+ | Ubuntu 20.04 ARM SVE | PASS | +------------------------------------+--------------------+ | Debian 12 with MUSDK | PASS | +------------------------------------+--------------------+ | Fedora 40 (ARM) | PASS | +------------------------------------+--------------------+ | Fedora 40 (ARM Clang) | PASS | +------------------------------------+--------------------+ | Fedora 41 (ARM) | PASS | +------------------------------------+--------------------+ | Ubuntu 22.04 (ARM) | PASS | +------------------------------------+--------------------+ | Fedora 41 (ARM Clang) | PASS | +------------------------------------+--------------------+ | Ubuntu 20.04 (ARM) | PASS | +------------------------------------+--------------------+ | Ubuntu 24.04 (ARM) | PASS | +------------------------------------+--------------------+ | Debian 12 (arm) | PASS | +------------------------------------+--------------------+ | Debian 11 (Buster) (ARM) | PASS | +------------------------------------+--------------------+ | CentOS Stream 9 (ARM) | PASS | +------------------------------------+--------------------+ RHEL9 (ARM) Kernel: Depends on container host Compiler: gcc 11.5.0 20240719 (Red Hat 11.5.0-2) Ubuntu 20.04 ARM GCC Cross Compile Kernel: Depends on container host Compiler: aarch64-linux-gnu-gcc (Ubuntu 9.4.0-1ubuntu1~20.04.2) 9.4.0 Ubuntu 20.04 ARM SVE Kernel: Depends on container host Compiler: gcc (Ubuntu 10.5.0-1ubuntu1~20.04) 10.5.0 Debian 12 with MUSDK Kernel: Depends on container host Compiler: gcc (Debian 12.2.0-14) 12.2.0 Fedora 40 (ARM) Kernel: Depends on container host Compiler: gcc 14.2.1 20240912 (Red Hat 14.2.1-3) Fedora 40 (ARM Clang) Kernel: Depends on container host Compiler: clang 18.1.8 (Fedora 18.1.8-1.fc40) Fedora 41 (ARM) Kernel: Depends on container host Compiler: gcc 14.2.1 20240912 (Red Hat 14.2.1-3) Ubuntu 22.04 (ARM) Kernel: Depends on container host Compiler: gcc (Ubuntu 11.4.0-1ubuntu1~22.04) 11.4.0 Fedora 41 (ARM Clang) Kernel: Depends on container host Compiler: clang 19.1.5 (Fedora 19.1.5-1.fc41) Ubuntu 20.04 (ARM) Kernel: Depends on container host Compiler: gcc (Ubuntu 9.4.0-1ubuntu1~20.04.2) 9.4.0 Ubuntu 24.04 (ARM) Kernel: Depends on container host Compiler: gcc (Ubuntu 13.3.0-6ubuntu2~24.04) 13.3.0 Debian 12 (arm) Kernel: Depends on container host Compiler: gcc (Debian 12.2.0-14) 12.2.0 Debian 11 (Buster) (ARM) Kernel: Depends on container host Compiler: gcc (Debian 10.2.1-6) 10.2.1 20210110 CentOS Stream 9 (ARM) Kernel: Depends on container host Compiler: gcc 11.5.0 20240719 (Red Hat 11.5.0-2) To view detailed results, visit: https://lab.dpdk.org/results/dashboard/tarballs/32419/ UNH-IOL DPDK Community Lab To manage your email subscriptions, visit: https://lab.dpdk.org/results/dashboard/preferences/subscriptions/