From mboxrd@z Thu Jan 1 00:00:00 1970 Return-Path: Received: from mails.dpdk.org (mails.dpdk.org [217.70.189.124]) by inbox.dpdk.org (Postfix) with ESMTP id 1C64D46171 for ; Sun, 2 Feb 2025 10:26:50 +0100 (CET) Received: from mails.dpdk.org (localhost [127.0.0.1]) by mails.dpdk.org (Postfix) with ESMTP id E888C40264; Sun, 2 Feb 2025 10:26:49 +0100 (CET) Received: from mail-il1-f225.google.com (mail-il1-f225.google.com [209.85.166.225]) by mails.dpdk.org (Postfix) with ESMTP id A67E34025A for ; Sun, 2 Feb 2025 10:26:47 +0100 (CET) Received: by mail-il1-f225.google.com with SMTP id e9e14a558f8ab-3ce886a2d5bso30298295ab.1 for ; Sun, 02 Feb 2025 01:26:47 -0800 (PST) DKIM-Signature: v=1; a=rsa-sha256; c=relaxed/relaxed; d=iol.unh.edu; s=unh-iol; t=1738488407; x=1739093207; darn=dpdk.org; h=cc:to:from:subject:message-id:date:from:to:cc:subject:date :message-id:reply-to; bh=CnqZqXvH8tCltWgpjZeTaT3zwccScTvIqWQb795uVjw=; b=Dfftxwq75Pmi6Mguvwaqq0Ekyu78xTZMpwMXZt4KJmUAPAaXWjQWWY/O1ktTdWogPG xzhIjxhYbULeaqQRrs1j7Kz4qA8yyvDdMDxGcS2Z1k7l5G+E51eqxzqzLIT0P+b4s+eS G3YLOIWpOjbZ1Qgy51AnjQB7B/11wiqcKPBP0= X-Google-DKIM-Signature: v=1; a=rsa-sha256; c=relaxed/relaxed; d=1e100.net; s=20230601; t=1738488407; x=1739093207; h=cc:to:from:subject:message-id:date:x-gm-message-state:from:to:cc :subject:date:message-id:reply-to; bh=CnqZqXvH8tCltWgpjZeTaT3zwccScTvIqWQb795uVjw=; b=HJMQzsMo0brazxHrmehpREirL5jjt2FugDnre5/wtQaZ3VD6aenycr7xyUfxoFObjk 1UOrp4Rf16az01w5QUEB0FDkfoZ66aH9/7+PVX3yfmWBd/aDEtlkzXJKy0Up9fLM7L6/ lfhBjzgQF1jSJD81Bhc2e5z0CpRoHZtaMZ/pf3Cx+wBwRISjp8PpQv15PLyYBJPevgcu Jg/eEbs3odQmcjeseuhqy31VUxpZ/Un3qTwOdNTlBhLoI1SayTGjtHa2Fl+XezPNdYKY JcQkyoqZbIIxwV7xTckth2eoBMoQDGLNDqzSri80yImT0uneqaK5NV2xJxyZRDvAzb6f trxA== X-Gm-Message-State: AOJu0YwfV+sSsL9tvjxRt1b2hWIXyO7dmVlpgV9C7ZqmTYmHn8GLej2l /byOUQCnQd2WLum0RkWi/Nl/Y9U2q8GRcFmatGrGcyR9k2Uqfw8fDvSBbfwaYq+ElAEeGt8CxTK 9K5cWddTlIYx9fcVhsB5Yrk0JxuDPLQBK X-Gm-Gg: ASbGncvWsZL8XcC+M7iFfGqv0Fd/IJIPABiUytq6edj/q8H0ojt1gTAwwu8dyBm1VOv Sr5pnM52j6bwv2ckhbE5S1Yw9zParqCCk5uyp7TpAEw6A4eIIVzG2QVzVUFExLUW4BTiuLIo3yZ rpQrXJSkm8QtSHUjZFVHc8iPuKarkRCFwSkoPgMsiq+cmUpkdeBQCJfi2y2JidAb+fpl+ARrvOz aM/ljp3tsn3XaNHKYRyCwFUZiJnRHsEc3RtUfeuHYztmTB/bTBawynvVVLlYy7G3S3CE2DInS5Y jTrrAPVN0jvEUr/CzPMl1MswyVpQ8g== X-Google-Smtp-Source: AGHT+IHAB5aH+JCb2DVCECRbRraTdRoN3c4ji5gvn8l2ctWxCgb9qGn7kRmeFj5wCBkdq61RCSRPqZY3oRLb X-Received: by 2002:a05:6e02:144a:b0:3d0:14dd:77b7 with SMTP id e9e14a558f8ab-3d014dd7956mr77058955ab.9.1738488406936; Sun, 02 Feb 2025 01:26:46 -0800 (PST) Received: from postal.iol.unh.edu (postal.iol.unh.edu. [132.177.123.84]) by smtp-relay.gmail.com with ESMTPS id e9e14a558f8ab-3d00a5ec379sm5066365ab.47.2025.02.02.01.26.46 (version=TLS1_2 cipher=ECDHE-ECDSA-AES128-GCM-SHA256 bits=128/128); Sun, 02 Feb 2025 01:26:46 -0800 (PST) X-Relaying-Domain: iol.unh.edu Date: Sun, 02 Feb 2025 01:26:46 -0800 (PST) Message-ID: <679f3a56.050a0220.33214d.9c9aSMTPIN_ADDED_MISSING@mx.google.com> Received: from [172.17.0.4] (unknown [172.18.0.217]) by postal.iol.unh.edu (Postfix) with ESMTP id 65F466052471; Sun, 2 Feb 2025 04:26:46 -0500 (EST) Subject: |SUCCESS| [GIT MASTER] 7ce7d3341d7e21c2a81f2fea8e451681d7306d77 From: dpdklab@iol.unh.edu To: Test Report Cc: dpdk-test-reports@iol.unh.edu, Xueming Li , Christian Ehrhardt , Kevin Traynor , Luca Boccassi Content-Type: text/plain X-BeenThere: test-report@dpdk.org X-Mailman-Version: 2.1.29 Precedence: list List-Id: automatic DPDK test reports List-Unsubscribe: , List-Archive: List-Post: List-Help: List-Subscribe: , Errors-To: test-report-bounces@dpdk.org _Testing PASS_ Branch: tags/v22.11 7ce7d3341d7e21c2a81f2fea8e451681d7306d77 --> testing pass Upstream job id: ACVP-FIPS-testing#8760 Test environment and result as below: +--------------------+----------------------+----------------------+ | Environment | compressdev_zlib_pmd | dpdk_fips_validation | +====================+======================+======================+ | Ubuntu 22.04 (ARM) | PASS | SKIPPED | +--------------------+----------------------+----------------------+ | Ubuntu 22.04 | PASS | SKIPPED | +--------------------+----------------------+----------------------+ | Ubuntu 20.04 | SKIPPED | PASS | +--------------------+----------------------+----------------------+ Ubuntu 22.04 (ARM) Kernel: 5.15.0-97-generic Compiler: gcc gcc (Ubuntu 11.4.0-1ubuntu1~22.04) 11.4.0 Ubuntu 22.04 Kernel: 5.15.0-100-generic Compiler: gcc gcc (Ubuntu 11.4.0-1ubuntu1~22.04) 11.4.0 Ubuntu 20.04 Kernel: Depends on container host Compiler: gcc (Ubuntu 9.4.0-1ubuntu1~20.04.2) 9.4.0 To view detailed results, visit: https://lab.dpdk.org/results/dashboard/tarballs/32420/ UNH-IOL DPDK Community Lab To manage your email subscriptions, visit: https://lab.dpdk.org/results/dashboard/preferences/subscriptions/