From mboxrd@z Thu Jan 1 00:00:00 1970 Return-Path: Received: from mails.dpdk.org (mails.dpdk.org [217.70.189.124]) by inbox.dpdk.org (Postfix) with ESMTP id B9AAA46172 for ; Sun, 2 Feb 2025 12:54:42 +0100 (CET) Received: from mails.dpdk.org (localhost [127.0.0.1]) by mails.dpdk.org (Postfix) with ESMTP id 9103D40264; Sun, 2 Feb 2025 12:54:42 +0100 (CET) Received: from mail-io1-f98.google.com (mail-io1-f98.google.com [209.85.166.98]) by mails.dpdk.org (Postfix) with ESMTP id 3F0FF4025A for ; Sun, 2 Feb 2025 12:54:41 +0100 (CET) Received: by mail-io1-f98.google.com with SMTP id ca18e2360f4ac-844e7409f8aso82929139f.1 for ; Sun, 02 Feb 2025 03:54:41 -0800 (PST) DKIM-Signature: v=1; a=rsa-sha256; c=relaxed/relaxed; d=iol.unh.edu; s=unh-iol; t=1738497280; x=1739102080; darn=dpdk.org; h=cc:to:from:subject:message-id:date:from:to:cc:subject:date :message-id:reply-to; bh=BouhYM+UjZc5MyP1PjT7S53on6ljY1zP8yv7KR/cIAs=; b=Z+3ezol5mDPn8aWGVTKafUSs5ESpsm7IQ2t65cb3bFP0QppQVEOPqpz8qJ2IycSuJt yqr7eZUOutLG//QXzgRmxb2lXD2hl3aRCMFt1zeCCPG5dHNnL11cNCEg/B7DobJ8H0bk Pw4QxC9YcgJhIT5vnPAedVVPuapU5htNVJH9A= X-Google-DKIM-Signature: v=1; a=rsa-sha256; c=relaxed/relaxed; d=1e100.net; s=20230601; t=1738497280; x=1739102080; h=cc:to:from:subject:message-id:date:x-gm-message-state:from:to:cc :subject:date:message-id:reply-to; bh=BouhYM+UjZc5MyP1PjT7S53on6ljY1zP8yv7KR/cIAs=; b=MfJ3YCD4um1XuPWBk+w2mdDg6lnzO9TI/6ccu78eqKJJA4TgTfYKXPyMEBhFVsSNbU 7/hAgUH1bqeg2b8+ekyY3xv8PBr/xfqXobA64KuwJO8WtnqaxrteLM8B8/+xBzaHP8f6 je5ba9Fe1ilejwYYIfI8TpayYBn8FlpBWwjZfnagOzzSQTH2mNVWl9Pi53L127QwE2zY b0y86FlicO365iRHOWIcFB8jclrrDRAqI1suskYI5CuzolaTlOriBNbZw1U0IRxD2mp4 schSYyTLMgRLF+ReXL2zLF5ZI4Wx0jX5VkvCEuFUWnUxAMBqlB4nPEXTKRhmRd+7CVvq O5ig== X-Gm-Message-State: AOJu0YxbggXMgmXMK2w0+ARAi5jJT/I6IhhA+8+OWyaGplzvo+R3o0jy 5h8Hx/CYBwePeB6wfRc8TJeXZPmf9uC2q5Yphe3L3jmetd5RIEl/Bymy4WTomNXFs3Iw35e0m79 XAJ5MDcGXq2woB7gjYG1/wdQ6UmLd1wGagQpnOduAAbY2919F X-Gm-Gg: ASbGnctl5N8DvajhKQg0ddCIHGl0nn2/xJjMSU2XfY6cisZxSuwQuf9nVl2zArWyyJc 0EQ6+k8aPLjaMppxGDINa+B2mH1JJJvSXClFCH6CbhVwEi7boVTiZ/S6tvrkU1mfJ9fr9cvGX1K h52bg5FLxa1faOQvtyGX1LHw4nLFNNplm4QUjkOxMBqOObYXOFA/qJVOqhmCAhxOvrwdx5uoxqr XHCdkmPtOcvN6L2PSXq4vf761XIHxDPtBq+0jEcaRg8vMfEjayfvzozAxlQKOoXvdea2u2z/CHd p0d4XYfIw6lgP2E0SCgmFC5ewZKCejkDrhxydy3qGQ== X-Google-Smtp-Source: AGHT+IG5seec9nL+l/ZyDcklp4tKUS4Gk74i6EXmxAZp1OBBrm+iLeO0A22xH6ogN6JG3uQscawwcMiG4AaD X-Received: by 2002:a05:6602:1642:b0:851:f176:97fe with SMTP id ca18e2360f4ac-85427e11a16mr1855467239f.6.1738497280498; Sun, 02 Feb 2025 03:54:40 -0800 (PST) Received: from postal.iol.unh.edu (postal.iol.unh.edu. [2606:4100:3880:1234::84]) by smtp-relay.gmail.com with ESMTPS id ca18e2360f4ac-854a15b95a8sm42949239f.4.2025.02.02.03.54.40 (version=TLS1_2 cipher=ECDHE-ECDSA-AES128-GCM-SHA256 bits=128/128); Sun, 02 Feb 2025 03:54:40 -0800 (PST) X-Relaying-Domain: iol.unh.edu Date: Sun, 02 Feb 2025 03:54:40 -0800 (PST) Message-ID: <679f5d00.050a0220.11a7bd.4d6aSMTPIN_ADDED_MISSING@mx.google.com> Received: from [172.17.0.4] (unknown [172.18.0.217]) by postal.iol.unh.edu (Postfix) with ESMTP id C62316052471; Sun, 2 Feb 2025 06:54:39 -0500 (EST) Subject: |SUCCESS| [GIT MASTER] 7ce7d3341d7e21c2a81f2fea8e451681d7306d77 From: dpdklab@iol.unh.edu To: Test Report Cc: dpdk-test-reports@iol.unh.edu, Xueming Li , Christian Ehrhardt , Kevin Traynor , Luca Boccassi Content-Type: text/plain X-BeenThere: test-report@dpdk.org X-Mailman-Version: 2.1.29 Precedence: list List-Id: automatic DPDK test reports List-Unsubscribe: , List-Archive: List-Post: List-Help: List-Subscribe: , Errors-To: test-report-bounces@dpdk.org _Testing PASS_ Branch: tags/v22.11 7ce7d3341d7e21c2a81f2fea8e451681d7306d77 --> testing pass Upstream job id: Generic-DPDK-Compile-Meson#357179 Test environment and result as below: +------------------------------------+--------------------+ | Environment | dpdk_meson_compile | +====================================+====================+ | RHEL9 (ARM) | PASS | +------------------------------------+--------------------+ | Ubuntu 22.04 (ARM) | PASS | +------------------------------------+--------------------+ | Debian 12 with MUSDK | PASS | +------------------------------------+--------------------+ | Ubuntu 20.04 ARM GCC Cross Compile | PASS | +------------------------------------+--------------------+ | Ubuntu 20.04 ARM SVE | PASS | +------------------------------------+--------------------+ | Fedora 40 (ARM Clang) | PASS | +------------------------------------+--------------------+ | Ubuntu 20.04 (ARM) | PASS | +------------------------------------+--------------------+ | Fedora 40 (ARM) | PASS | +------------------------------------+--------------------+ | Fedora 41 (ARM Clang) | PASS | +------------------------------------+--------------------+ | Fedora 41 (ARM) | PASS | +------------------------------------+--------------------+ | Debian 11 (Buster) (ARM) | PASS | +------------------------------------+--------------------+ | CentOS Stream 9 (ARM) | PASS | +------------------------------------+--------------------+ | Ubuntu 24.04 (ARM) | PASS | +------------------------------------+--------------------+ | Debian 12 (arm) | PASS | +------------------------------------+--------------------+ RHEL9 (ARM) Kernel: Depends on container host Compiler: gcc 11.5.0 20240719 (Red Hat 11.5.0-2) Ubuntu 22.04 (ARM) Kernel: Depends on container host Compiler: gcc (Ubuntu 11.4.0-1ubuntu1~22.04) 11.4.0 Debian 12 with MUSDK Kernel: Depends on container host Compiler: gcc (Debian 12.2.0-14) 12.2.0 Ubuntu 20.04 ARM GCC Cross Compile Kernel: Depends on container host Compiler: aarch64-linux-gnu-gcc (Ubuntu 9.4.0-1ubuntu1~20.04.2) 9.4.0 Ubuntu 20.04 ARM SVE Kernel: Depends on container host Compiler: gcc (Ubuntu 10.5.0-1ubuntu1~20.04) 10.5.0 Fedora 40 (ARM Clang) Kernel: Depends on container host Compiler: clang 18.1.8 (Fedora 18.1.8-1.fc40) Ubuntu 20.04 (ARM) Kernel: Depends on container host Compiler: gcc (Ubuntu 9.4.0-1ubuntu1~20.04.2) 9.4.0 Fedora 40 (ARM) Kernel: Depends on container host Compiler: gcc 14.2.1 20240912 (Red Hat 14.2.1-3) Fedora 41 (ARM Clang) Kernel: Depends on container host Compiler: clang 19.1.5 (Fedora 19.1.5-1.fc41) Fedora 41 (ARM) Kernel: Depends on container host Compiler: gcc 14.2.1 20240912 (Red Hat 14.2.1-3) Debian 11 (Buster) (ARM) Kernel: Depends on container host Compiler: gcc (Debian 10.2.1-6) 10.2.1 20210110 CentOS Stream 9 (ARM) Kernel: Depends on container host Compiler: gcc 11.5.0 20240719 (Red Hat 11.5.0-2) Ubuntu 24.04 (ARM) Kernel: Depends on container host Compiler: gcc (Ubuntu 13.3.0-6ubuntu2~24.04) 13.3.0 Debian 12 (arm) Kernel: Depends on container host Compiler: gcc (Debian 12.2.0-14) 12.2.0 To view detailed results, visit: https://lab.dpdk.org/results/dashboard/tarballs/32420/ UNH-IOL DPDK Community Lab To manage your email subscriptions, visit: https://lab.dpdk.org/results/dashboard/preferences/subscriptions/