From mboxrd@z Thu Jan 1 00:00:00 1970 Return-Path: Received: from mails.dpdk.org (mails.dpdk.org [217.70.189.124]) by inbox.dpdk.org (Postfix) with ESMTP id 576F34617C for ; Mon, 3 Feb 2025 07:37:33 +0100 (CET) Received: from mails.dpdk.org (localhost [127.0.0.1]) by mails.dpdk.org (Postfix) with ESMTP id 314EA40287; Mon, 3 Feb 2025 07:37:33 +0100 (CET) Received: from mail-qk1-f227.google.com (mail-qk1-f227.google.com [209.85.222.227]) by mails.dpdk.org (Postfix) with ESMTP id 25F0D40264 for ; Mon, 3 Feb 2025 07:37:32 +0100 (CET) Received: by mail-qk1-f227.google.com with SMTP id af79cd13be357-7b6f0afda3fso520096285a.2 for ; Sun, 02 Feb 2025 22:37:32 -0800 (PST) DKIM-Signature: v=1; a=rsa-sha256; c=relaxed/relaxed; d=iol.unh.edu; s=unh-iol; t=1738564651; x=1739169451; darn=dpdk.org; h=cc:to:from:subject:message-id:date:from:to:cc:subject:date :message-id:reply-to; bh=Aoh6hdM08db1SvajmHL71ECmSaWw34WqnzfLjqLo3To=; b=NE76F+RTxFojTWvKSEoCY/GS8iBkFeOZez1XYMs38u7ANPOPoVhA8QaVOSJfLo5Zcl niyZkqezronDQo4YiZw9FwRwkeuy2+q3iiIXHtS6ZNF3UQ5XGPuAQLo5tTS9OoYMuy6v bShZGVNRDyaQcdyexcQEKcqDKWLm4whS+3lME= X-Google-DKIM-Signature: v=1; a=rsa-sha256; c=relaxed/relaxed; d=1e100.net; s=20230601; t=1738564651; x=1739169451; h=cc:to:from:subject:message-id:date:x-gm-message-state:from:to:cc :subject:date:message-id:reply-to; bh=Aoh6hdM08db1SvajmHL71ECmSaWw34WqnzfLjqLo3To=; b=VoV+Nonj6RJhagwAMFdVposcqYj6auHmf0GpUQN5+ZfEkeVsrMDDtURgCGbPo47PMN yiZpFiPFlTJ/DvTq1Rk/jUe7T2Q/ueJGN/kaZ4w55OQbVWsbVhwLPk78Ug6DD9Z6Lefz geVPA0bQYyu/gpRMKrRcwPKYK4dKdyycqr6ms3pLy5ALAkj/9QMVhYRCjH59vX2Tpl6a v3VAk4Ba4BK4oCBcl42NVurpMrG5/Ud1aVkZW+wIoeqtwE1WXHW56m/LNzdKByC5UCI7 pzQQNlqmTHznM8JvkdwA0uk+zWT0OJ0cULoDnFmtS69dOkLEjM8CwE4RlxYiKfiGM+Ht SNcA== X-Gm-Message-State: AOJu0YzIFwlKhPVDQN2TTYU/CCTafO5JHxcVfy5TjQHPNZvGd9SxTp/+ 2zReMm8BhtjQnC9uQJIrdMjJ1GYXKUwd8aJipIb2fnN+nyv5+BxZi3Nc0NSHAvupyH4Gm+h4mTK CEb21sBkP4gzd/yO0QNIeUncYFPkFJypE X-Gm-Gg: ASbGnct2qLICPaINW3Adnhfj9nwCG+AhmG839EPyiI1Q3nLVdkTL/wLh38i5NX7gXqZ IetQjGSoQDfCku5RZ+HbayNqFNse3WQqz6POZG2rfYI4IXoWffjCUDhFJQd0i9aOt4b7bAaKlTV SLFoduEhToG1DyDP9aoncxLsJMqnXJMptH3M9XRfnJXJVzGsBSYbNtstF9RRc32C+I6yzOdBoK1 tSt/2eBUmgF3mVnlk3Geavb+8UO8UFL7i15j+uRYawclIZlUavIdH09Bigsj4UFiEagQwVjzkHP Pcdw2PswLm8g+m02aV/sB9CowByH8g== X-Google-Smtp-Source: AGHT+IEyYExe4/105vYnQ9oIHamozJXip+8OBce6aaQA9cahJ8xDQrkuB2ighCGkaoJNptNei2qF0aUb0iW6 X-Received: by 2002:a05:620a:4445:b0:7b6:f17d:f5a7 with SMTP id af79cd13be357-7bffccc7895mr3277420785a.6.1738564651471; Sun, 02 Feb 2025 22:37:31 -0800 (PST) Received: from postal.iol.unh.edu (postal.iol.unh.edu. [132.177.123.84]) by smtp-relay.gmail.com with ESMTPS id af79cd13be357-7c00a8b951esm60118385a.2.2025.02.02.22.37.31 (version=TLS1_2 cipher=ECDHE-ECDSA-AES128-GCM-SHA256 bits=128/128); Sun, 02 Feb 2025 22:37:31 -0800 (PST) X-Relaying-Domain: iol.unh.edu Date: Sun, 02 Feb 2025 22:37:31 -0800 (PST) Message-ID: <67a0642b.050a0220.28325f.a7fcSMTPIN_ADDED_MISSING@mx.google.com> Received: from [172.21.0.7] (unknown [172.18.0.240]) by postal.iol.unh.edu (Postfix) with ESMTP id DD41A6052471; Mon, 3 Feb 2025 01:37:30 -0500 (EST) Subject: |SUCCESS| [GIT MASTER] 7ce7d3341d7e21c2a81f2fea8e451681d7306d77 From: dpdklab@iol.unh.edu To: Test Report Cc: dpdk-test-reports@iol.unh.edu, Xueming Li , Christian Ehrhardt , Kevin Traynor , Luca Boccassi Content-Type: text/plain X-BeenThere: test-report@dpdk.org X-Mailman-Version: 2.1.29 Precedence: list List-Id: automatic DPDK test reports List-Unsubscribe: , List-Archive: List-Post: List-Help: List-Subscribe: , Errors-To: test-report-bounces@dpdk.org _Testing PASS_ Branch: tags/v22.11 7ce7d3341d7e21c2a81f2fea8e451681d7306d77 --> testing pass Upstream job id: Generic-DPDK-Compile-ABI#114532 Test environment and result as below: +-------------------+----------+ | Environment | abi_test | +===================+==========+ | Fedora 40 (Clang) | PASS | +-------------------+----------+ | CentOS Stream 9 | PASS | +-------------------+----------+ | Debian Bullseye | PASS | +-------------------+----------+ | Debian 12 | PASS | +-------------------+----------+ | Fedora 40 | PASS | +-------------------+----------+ | Fedora 41 (Clang) | PASS | +-------------------+----------+ | openSUSE Leap 15 | PASS | +-------------------+----------+ | Fedora 41 | PASS | +-------------------+----------+ | RHEL8 | PASS | +-------------------+----------+ | Ubuntu 24.04 | PASS | +-------------------+----------+ | Ubuntu 22.04 | PASS | +-------------------+----------+ | RHEL9 | PASS | +-------------------+----------+ Fedora 40 (Clang) Kernel: Depends on container host Compiler: clang 18.1.8 (Fedora 18.1.8-1.fc40) CentOS Stream 9 Kernel: Depends on container host Compiler: gcc 11.5.0 20240719 (Red Hat 11.5.0-2) Debian Bullseye Kernel: Depends on container host Compiler: gcc (Debian 10.2.1-6) 10.2.1 20210110 Debian 12 Kernel: Depends on container host Compiler: gcc (Debian 12.2.0-14) 12.2.0 Fedora 40 Kernel: Depends on container host Compiler: gcc 14.2.1 20240912 (Red Hat 14.2.1-3) Fedora 41 (Clang) Kernel: Depends on container host Compiler: clang 19.1.5 (Fedora 19.1.5-1.fc41) openSUSE Leap 15 Kernel: Depends on container host Compiler: gcc (SUSE Linux) 7.5.0 Fedora 41 Kernel: Depends on container host Compiler: gcc 14.2.1 20240912 (Red Hat 14.2.1-3) RHEL8 Kernel: Depends on container host Compiler: gcc 8.5.0 20210514 (Red Hat 8.5.0-22) Ubuntu 24.04 Kernel: Depends on container host Compiler: gcc (Ubuntu 13.3.0-6ubuntu2~24.04) 13.3.0 Ubuntu 22.04 Kernel: Depends on container host Compiler: gcc (Ubuntu 11.4.0-1ubuntu1~22.04) 11.4.0 RHEL9 Kernel: Depends on container host Compiler: gcc 11.5.0 20240719 (Red Hat 11.5.0-2) To view detailed results, visit: https://lab.dpdk.org/results/dashboard/tarballs/32423/ UNH-IOL DPDK Community Lab To manage your email subscriptions, visit: https://lab.dpdk.org/results/dashboard/preferences/subscriptions/