From mboxrd@z Thu Jan 1 00:00:00 1970 Return-Path: Received: from mails.dpdk.org (mails.dpdk.org [217.70.189.124]) by inbox.dpdk.org (Postfix) with ESMTP id EA3C34617E for ; Mon, 3 Feb 2025 08:15:36 +0100 (CET) Received: from mails.dpdk.org (localhost [127.0.0.1]) by mails.dpdk.org (Postfix) with ESMTP id CA5B840287; Mon, 3 Feb 2025 08:15:36 +0100 (CET) Received: from mail-oa1-f100.google.com (mail-oa1-f100.google.com [209.85.160.100]) by mails.dpdk.org (Postfix) with ESMTP id B42C540264 for ; Mon, 3 Feb 2025 08:15:35 +0100 (CET) Received: by mail-oa1-f100.google.com with SMTP id 586e51a60fabf-29e842cb9b4so1027746fac.2 for ; Sun, 02 Feb 2025 23:15:35 -0800 (PST) DKIM-Signature: v=1; a=rsa-sha256; c=relaxed/relaxed; d=iol.unh.edu; s=unh-iol; t=1738566935; x=1739171735; darn=dpdk.org; h=cc:to:from:subject:message-id:date:from:to:cc:subject:date :message-id:reply-to; bh=JxS4s2Wol1oW3G9VLwEVBPmRox4++5QeCHMjNonkUSY=; b=b/lDyyA03w7KjQWFEvmP/mdZOZj64/BmlgkRTJaA7hD/NCdMH1am9ufTDQmtP40/Nf LJPXPYvbp6HuTZJJQ51hIkugV8MlUDDnpiNzUSjJu0pXU+OtHIps27EXkYhUz/TQi94+ VtlzIa0KzuQ/C/EcJWR8rGg7qx4W5fBMJc5Jo= X-Google-DKIM-Signature: v=1; a=rsa-sha256; c=relaxed/relaxed; d=1e100.net; s=20230601; t=1738566935; x=1739171735; h=cc:to:from:subject:message-id:date:x-gm-message-state:from:to:cc :subject:date:message-id:reply-to; bh=JxS4s2Wol1oW3G9VLwEVBPmRox4++5QeCHMjNonkUSY=; b=CV1byVg5JeaNklVbdsStUm6NYjp4rFQjiZgzG91JSAHZFKZs8543ZxnSHq+UCq7jPo sAUoQVMGh9VDmVwNIEMzO5pQIxXQ+x1QHb9hUTTAZeE0cM6HkTBRYpJjAfWt3EWaKZxZ vnQSF3uKSVMifzpBT+JRjqI3DG2H75j3KOQtfVan/7AUdSHOFMRwsOYFIVhvE7ttNwoF n+u79VBtXDhIz6+lCsdzxCnaAK1wgusOPAFE/eAyS1+eON6XEPhPRjkpIuNJnrWYg2N8 YVw90985HGLxTLazAd6t9VJiFS8hlCUbrLQtRG0pavzw0OCciQLY6Uzq1TfBGNEdDPf/ PCVA== X-Gm-Message-State: AOJu0YxvJUTk4D7dq2aQ+/R9RWgrcPz2oy5BLDfFDk7liR5rW8rWFtcb dQ7ioWAdMRd3qCqcwWtwWIUcQJIo5fgKHuWsqU1wMvQeSNTr5jPc+7lA2EvG4l+tdpxWRTq/wKx I+UE14C5CAPVwgwctRFXxFRYy2XoJZMRT9jMyXTorVgych/Fn X-Gm-Gg: ASbGncv5iYduKKzFAXfiU5UQalboBlwBJ03O2CDmsWwOMehzmOPHegxg0jdJoSwqQWV lbqb4eXct3Cdtf20jp1T7Ty8rqy2K2A47vYr4bejGI0rz56ODcv98EDRzvxxgn7+vfw1e9M/kQC 6GeMorFCeJJXYSbChoXryrypA5O8aSHvmoOx5s8CvsOJIhPilOUCDx02pqSWPPwzLKcKkSxz9V0 HvzX54cuJRO1mln3+IIa8WRwGJ4IH1luYFjoy0nDJsB7kQUNjlEnIa34sTZRVpFNKQ37KoUt6/Q 6p1SgHHrnY4wfdDuobtNzow0HI6naulPo7pQ7tp1sQ== X-Google-Smtp-Source: AGHT+IGvh6seArAZsY5h3EWNgyeEY1stBeOA+HJq8xpn5Ga8I2IGqM4M7GNjQx4l5ZWKX/2eveEjZKlhHq7T X-Received: by 2002:a05:6870:c8c:b0:29e:353b:8f25 with SMTP id 586e51a60fabf-2b32f00e439mr11285057fac.12.1738566934713; Sun, 02 Feb 2025 23:15:34 -0800 (PST) Received: from postal.iol.unh.edu (postal.iol.unh.edu. [2606:4100:3880:1234::84]) by smtp-relay.gmail.com with ESMTPS id 586e51a60fabf-2b3565afffasm643995fac.28.2025.02.02.23.15.34 (version=TLS1_2 cipher=ECDHE-ECDSA-AES128-GCM-SHA256 bits=128/128); Sun, 02 Feb 2025 23:15:34 -0800 (PST) X-Relaying-Domain: iol.unh.edu Date: Sun, 02 Feb 2025 23:15:34 -0800 (PST) Message-ID: <67a06d16.050a0220.255763.df96SMTPIN_ADDED_MISSING@mx.google.com> Received: from [172.21.0.5] (unknown [172.18.0.240]) by postal.iol.unh.edu (Postfix) with ESMTP id E856E6052471; Mon, 3 Feb 2025 02:15:33 -0500 (EST) Subject: |SUCCESS| [GIT MASTER] f2eea2f37a82bb73fb01d56350708f7d70e21379 From: dpdklab@iol.unh.edu To: Test Report Cc: dpdk-test-reports@iol.unh.edu, Xueming Li , Christian Ehrhardt , Kevin Traynor , Luca Boccassi Content-Type: text/plain X-BeenThere: test-report@dpdk.org X-Mailman-Version: 2.1.29 Precedence: list List-Id: automatic DPDK test reports List-Unsubscribe: , List-Archive: List-Post: List-Help: List-Subscribe: , Errors-To: test-report-bounces@dpdk.org _Testing PASS_ Branch: tags/v24.11 f2eea2f37a82bb73fb01d56350708f7d70e21379 --> testing pass Upstream job id: Generic-Unit-Test-DPDK#311117 Test environment and result as below: +-----------------------------+----------------+--------------+------------------------------+---------------------------+ | Environment | dpdk_unit_test | lpm_autotest | cryptodev_sw_snow3g_autotest | cryptodev_sw_zuc_autotest | +=============================+================+==============+==============================+===========================+ | 32-bit Ubuntu 22.04.4 (ARM) | PASS | SKIPPED | SKIPPED | SKIPPED | +-----------------------------+----------------+--------------+------------------------------+---------------------------+ | CentOS Stream 9 (ARM) | PASS | SKIPPED | SKIPPED | SKIPPED | +-----------------------------+----------------+--------------+------------------------------+---------------------------+ | Debian 12 (arm) | PASS | SKIPPED | PASS | PASS | +-----------------------------+----------------+--------------+------------------------------+---------------------------+ | Fedora 40 (ARM Clang) | PASS | SKIPPED | SKIPPED | SKIPPED | +-----------------------------+----------------+--------------+------------------------------+---------------------------+ | Fedora 40 (ARM) | PASS | SKIPPED | SKIPPED | SKIPPED | +-----------------------------+----------------+--------------+------------------------------+---------------------------+ | Fedora 41 (ARM) | PASS | SKIPPED | SKIPPED | SKIPPED | +-----------------------------+----------------+--------------+------------------------------+---------------------------+ | Debian 11 (Buster) (ARM) | PASS | SKIPPED | SKIPPED | SKIPPED | +-----------------------------+----------------+--------------+------------------------------+---------------------------+ | Fedora 41 (ARM Clang) | PASS | SKIPPED | SKIPPED | SKIPPED | +-----------------------------+----------------+--------------+------------------------------+---------------------------+ | Ubuntu 24.04 (ARM) | PASS | SKIPPED | SKIPPED | SKIPPED | +-----------------------------+----------------+--------------+------------------------------+---------------------------+ | Ubuntu 20.04 (ARM) | PASS | SKIPPED | SKIPPED | SKIPPED | +-----------------------------+----------------+--------------+------------------------------+---------------------------+ | RHEL9 (ARM) | PASS | SKIPPED | SKIPPED | SKIPPED | +-----------------------------+----------------+--------------+------------------------------+---------------------------+ | Ubuntu 22.04 (ARM) | PASS | SKIPPED | SKIPPED | SKIPPED | +-----------------------------+----------------+--------------+------------------------------+---------------------------+ | Ubuntu 20.04 ARM SVE | SKIPPED | PASS | SKIPPED | SKIPPED | +-----------------------------+----------------+--------------+------------------------------+---------------------------+ 32-bit Ubuntu 22.04.4 (ARM) Kernel: 5.15.83+ aarch64 Compiler: gcc (Ubuntu 11.4.0-1ubuntu1~22.04) 11.4.0 CentOS Stream 9 (ARM) Kernel: Depends on container host Compiler: gcc 11.5.0 20240719 (Red Hat 11.5.0-2) Debian 12 (arm) Kernel: Depends on container host Compiler: gcc (Debian 12.2.0-14) 12.2.0 Fedora 40 (ARM Clang) Kernel: Depends on container host Compiler: clang 18.1.8 (Fedora 18.1.8-1.fc40) Fedora 40 (ARM) Kernel: Depends on container host Compiler: gcc 14.2.1 20240912 (Red Hat 14.2.1-3) Fedora 41 (ARM) Kernel: Depends on container host Compiler: gcc 14.2.1 20240912 (Red Hat 14.2.1-3) Debian 11 (Buster) (ARM) Kernel: Depends on container host Compiler: gcc (Debian 10.2.1-6) 10.2.1 20210110 Fedora 41 (ARM Clang) Kernel: Depends on container host Compiler: clang 19.1.5 (Fedora 19.1.5-1.fc41) Ubuntu 24.04 (ARM) Kernel: Depends on container host Compiler: gcc (Ubuntu 13.3.0-6ubuntu2~24.04) 13.3.0 Ubuntu 20.04 (ARM) Kernel: Depends on container host Compiler: gcc (Ubuntu 9.4.0-1ubuntu1~20.04.2) 9.4.0 RHEL9 (ARM) Kernel: Depends on container host Compiler: gcc 11.5.0 20240719 (Red Hat 11.5.0-2) Ubuntu 22.04 (ARM) Kernel: Depends on container host Compiler: gcc (Ubuntu 11.4.0-1ubuntu1~22.04) 11.4.0 Ubuntu 20.04 ARM SVE Kernel: Depends on container host Compiler: gcc (Ubuntu 10.5.0-1ubuntu1~20.04) 10.5.0 To view detailed results, visit: https://lab.dpdk.org/results/dashboard/tarballs/32421/ UNH-IOL DPDK Community Lab To manage your email subscriptions, visit: https://lab.dpdk.org/results/dashboard/preferences/subscriptions/