From mboxrd@z Thu Jan 1 00:00:00 1970 Return-Path: Received: from mails.dpdk.org (mails.dpdk.org [217.70.189.124]) by inbox.dpdk.org (Postfix) with ESMTP id B9DF74617E for ; Mon, 3 Feb 2025 08:17:30 +0100 (CET) Received: from mails.dpdk.org (localhost [127.0.0.1]) by mails.dpdk.org (Postfix) with ESMTP id B59F540EA5; Mon, 3 Feb 2025 08:17:30 +0100 (CET) Received: from mail-oi1-f225.google.com (mail-oi1-f225.google.com [209.85.167.225]) by mails.dpdk.org (Postfix) with ESMTP id 6EDAE40E8A for ; Mon, 3 Feb 2025 08:17:29 +0100 (CET) Received: by mail-oi1-f225.google.com with SMTP id 5614622812f47-3ebb4aae80dso1842979b6e.2 for ; Sun, 02 Feb 2025 23:17:29 -0800 (PST) DKIM-Signature: v=1; a=rsa-sha256; c=relaxed/relaxed; d=iol.unh.edu; s=unh-iol; t=1738567048; x=1739171848; darn=dpdk.org; h=cc:to:from:subject:message-id:date:from:to:cc:subject:date :message-id:reply-to; bh=hJErKMTUoAzrX756iDYoa1MejUXkdaUWtsNRu2zH8vk=; b=aDTOdD7Y3EIcYEcjEgCmM2fTVxXU2yXo6TRQxhFlRJRpaX2B6BJwd3oqKJLMHkxhvh 1eMeEzqunR4o1O8lwMa9Plvg+hUSypt7bforI150umv69JW9B5jOZNerNXpib2hKYkF1 xzt3mt6ZMH3F10qKYqU43/I9ebVvHBZhEYOJo= X-Google-DKIM-Signature: v=1; a=rsa-sha256; c=relaxed/relaxed; d=1e100.net; s=20230601; t=1738567048; x=1739171848; h=cc:to:from:subject:message-id:date:x-gm-message-state:from:to:cc :subject:date:message-id:reply-to; bh=hJErKMTUoAzrX756iDYoa1MejUXkdaUWtsNRu2zH8vk=; b=YF5J+KzKULbM5qibQTCPwsQis+DjyErf7z7490pLmoEB3ivE3p05nKQootNWcgYcx8 1YROQIEDirneXv1MBkrPv6aC3bERYJChDSDj2VZMFlWf21n4ZaVwVRRnnLVZbV7NK0uq sewSI+o0ZeyLCUebOeg73Xbw/yNbOvnHRWEwy7GDcXD0mClifG5cpCUUmqX8yXgwpxAO IPACGmEmPGvTAZTaR/Bru1F04fvgZVg4rvGNRUAzBUTP33GqtUhRaNfemT0cK+GBgQuG /Z1YOfmg6/mooYrKgq12c4NYpG6Bf5t0BPEXf8wj60H61GV0dWOg1Brzjyd7SB/Cs6t9 7NWQ== X-Gm-Message-State: AOJu0Yy3GXW35R+FpRWZ8woXooIAJh32ToljsFgGONPgUTfbr1JMbOgp sezm17aryiR8S9jRXWVh9JkWIH4/oLLWlNEYxVIQH4/VfJ6ylxgeSm4TGd4jaMwy4fBL5VB/jjA mg8NsU1DCAnlBkt1IXcQBdl2JldXx2GwrGrP8c7xuhUQQXGmV X-Gm-Gg: ASbGncu9WTsi/pSlLhhSfpVJ/QpNL+nAbK0G3P4D/oubYfGvC91DRIlB57aCYPhI082 peq6zlTB+NaK2RxoFDCu5kIi81OIJZk4IxB/OaLfapra7f/+7oz16Tp9O7GPqmHZspugOPPerfF OVqoNvm6a2alVUn96YSxirro7i8PJeTOZdm6xb49epXy5bWWZwEnWvlvkdmJtzCjSsakvOBPTX/ dqKfOOcMU5LZDm/7izb9tudxTtkbKFNa/qXx6w3Ki27VjTVKhfJEAXEVV769bO6kPvS22sdS8nU +AV9dgwYUTAiOzMtCDSDRs+s9QdZziI6xMHz7NVZSw== X-Google-Smtp-Source: AGHT+IF/cCqmlNXWK/MyItkTpqOE8pxYSNzr+BIYggjsXJ2roRGJX899yE3ydhWIhQwedHHoQTeXNVkjA2Pe X-Received: by 2002:a05:6808:2f16:b0:3e7:df63:15bc with SMTP id 5614622812f47-3f323a184cdmr13278772b6e.12.1738567048544; Sun, 02 Feb 2025 23:17:28 -0800 (PST) Received: from postal.iol.unh.edu (postal.iol.unh.edu. [2606:4100:3880:1234::84]) by smtp-relay.gmail.com with ESMTPS id 46e09a7af769-726616ef867sm348257a34.0.2025.02.02.23.17.28 (version=TLS1_2 cipher=ECDHE-ECDSA-AES128-GCM-SHA256 bits=128/128); Sun, 02 Feb 2025 23:17:28 -0800 (PST) X-Relaying-Domain: iol.unh.edu Date: Sun, 02 Feb 2025 23:17:28 -0800 (PST) Message-ID: <67a06d88.050a0220.311ef9.1879SMTPIN_ADDED_MISSING@mx.google.com> Received: from [172.21.0.5] (unknown [172.18.0.240]) by postal.iol.unh.edu (Postfix) with ESMTP id BDBE16052471; Mon, 3 Feb 2025 02:17:27 -0500 (EST) Subject: |SUCCESS| [GIT MASTER] f2eea2f37a82bb73fb01d56350708f7d70e21379 From: dpdklab@iol.unh.edu To: Test Report Cc: dpdk-test-reports@iol.unh.edu, Xueming Li , Christian Ehrhardt , Kevin Traynor , Luca Boccassi Content-Type: text/plain X-BeenThere: test-report@dpdk.org X-Mailman-Version: 2.1.29 Precedence: list List-Id: automatic DPDK test reports List-Unsubscribe: , List-Archive: List-Post: List-Help: List-Subscribe: , Errors-To: test-report-bounces@dpdk.org _Testing PASS_ Branch: tags/v24.11 f2eea2f37a82bb73fb01d56350708f7d70e21379 --> testing pass Upstream job id: Generic-Unit-Test-DPDK#311110 Test environment and result as below: +---------------------+----------------+ | Environment | dpdk_unit_test | +=====================+================+ | Debian 12 | PASS | +---------------------+----------------+ | Debian Bullseye | PASS | +---------------------+----------------+ | Fedora 40 (Clang) | PASS | +---------------------+----------------+ | CentOS Stream 9 | PASS | +---------------------+----------------+ | Fedora 40 | PASS | +---------------------+----------------+ | Fedora 41 (Clang) | PASS | +---------------------+----------------+ | Fedora 41 | PASS | +---------------------+----------------+ | Ubuntu 20.04 | PASS | +---------------------+----------------+ | RHEL9 | PASS | +---------------------+----------------+ | RHEL8 | PASS | +---------------------+----------------+ | Ubuntu 24.04 | PASS | +---------------------+----------------+ | Ubuntu 22.04 | PASS | +---------------------+----------------+ | Windows Server 2022 | PASS | +---------------------+----------------+ Debian 12 Kernel: Depends on container host Compiler: gcc (Debian 12.2.0-14) 12.2.0 Debian Bullseye Kernel: Depends on container host Compiler: gcc (Debian 10.2.1-6) 10.2.1 20210110 Fedora 40 (Clang) Kernel: Depends on container host Compiler: clang 18.1.8 (Fedora 18.1.8-1.fc40) CentOS Stream 9 Kernel: Depends on container host Compiler: gcc 11.5.0 20240719 (Red Hat 11.5.0-2) Fedora 40 Kernel: Depends on container host Compiler: gcc 14.2.1 20240912 (Red Hat 14.2.1-3) Fedora 41 (Clang) Kernel: Depends on container host Compiler: clang 19.1.5 (Fedora 19.1.5-1.fc41) Fedora 41 Kernel: Depends on container host Compiler: gcc 14.2.1 20240912 (Red Hat 14.2.1-3) Ubuntu 20.04 Kernel: Depends on container host Compiler: gcc (Ubuntu 9.4.0-1ubuntu1~20.04.2) 9.4.0 RHEL9 Kernel: Depends on container host Compiler: gcc 11.5.0 20240719 (Red Hat 11.5.0-2) RHEL8 Kernel: Depends on container host Compiler: gcc 8.5.0 20210514 (Red Hat 8.5.0-22) Ubuntu 24.04 Kernel: Depends on container host Compiler: gcc (Ubuntu 13.3.0-6ubuntu2~24.04) 13.3.0 Ubuntu 22.04 Kernel: Depends on container host Compiler: gcc (Ubuntu 11.4.0-1ubuntu1~22.04) 11.4.0 Windows Server 2022 Kernel: 10.0.20348.2031 Compiler: clang 15.0.7, gcc 14.1.0 (MinGW), and MSVC VS 19.39.33521 To view detailed results, visit: https://lab.dpdk.org/results/dashboard/tarballs/32421/ UNH-IOL DPDK Community Lab To manage your email subscriptions, visit: https://lab.dpdk.org/results/dashboard/preferences/subscriptions/