From mboxrd@z Thu Jan 1 00:00:00 1970 Return-Path: Received: from mails.dpdk.org (mails.dpdk.org [217.70.189.124]) by inbox.dpdk.org (Postfix) with ESMTP id 923DE4617E for ; Mon, 3 Feb 2025 08:37:17 +0100 (CET) Received: from mails.dpdk.org (localhost [127.0.0.1]) by mails.dpdk.org (Postfix) with ESMTP id 709FE40287; Mon, 3 Feb 2025 08:37:17 +0100 (CET) Received: from mail-qk1-f227.google.com (mail-qk1-f227.google.com [209.85.222.227]) by mails.dpdk.org (Postfix) with ESMTP id 22D5D40264 for ; Mon, 3 Feb 2025 08:37:16 +0100 (CET) Received: by mail-qk1-f227.google.com with SMTP id af79cd13be357-7be8efa231aso420597485a.2 for ; Sun, 02 Feb 2025 23:37:16 -0800 (PST) DKIM-Signature: v=1; a=rsa-sha256; c=relaxed/relaxed; d=iol.unh.edu; s=unh-iol; t=1738568235; x=1739173035; darn=dpdk.org; h=cc:to:from:subject:message-id:date:from:to:cc:subject:date :message-id:reply-to; bh=3pLnJ5iGRQDu8ww8kOIGoxh7JwmUnEmorXK0nicf33g=; b=AvYIxf0/VThXLptW/QvMlXDZYqHclsLsOv3uU7e9hB/571MdmtnuGQsdC0gLjCWafK CHGppI+wmAJkExQIyarjUQMO8Ts+3NiM2G1pQuJYpfb7tHv/V1a6HyPn5we06m5WRfMi QtZeHhlb8/+2PHOOx5lgVndZOiSyKwz7z8D5I= X-Google-DKIM-Signature: v=1; a=rsa-sha256; c=relaxed/relaxed; d=1e100.net; s=20230601; t=1738568235; x=1739173035; h=cc:to:from:subject:message-id:date:x-gm-message-state:from:to:cc :subject:date:message-id:reply-to; bh=3pLnJ5iGRQDu8ww8kOIGoxh7JwmUnEmorXK0nicf33g=; b=va75eBYgjDWjge5UNA+Zj249WNwtAUFpgNkKlHMi3s5WtVjgrxSH+/i4FoK1carx1D IPtVpHfdl/7fq+heaq88WkATyWj8Sy0bbBj9isrKN+hP/JT6ZX8Tw6kRuTltK2LtTlRf RB1iG/M/jG350Im3VM8lnxRbZ7sHN8/NXV37ddhPORNpRrxhI4hwZg2hIX05uhZCEOGZ zdJOyayOggCAJgTsvn5RFleDxOUqK45vg05n+YIkymX2GNhOTBGyiXzJrP075rIDvWDL O6bA5xyov1glxvpnYU4HoONO/Nrw8AorNbnRs8Xgtnw6rQSqeoOcvK0QwB7HfYaN1Vsj 1tQQ== X-Gm-Message-State: AOJu0Yy7qS0IUvPnZVHg8KwGg1lM+rzuJqs6kVBwwhW5e+qLmlNimc9W 6xLWDbLgwx04Igp2WOY7HeXnfKbuuqlxxX3MeQtUolh9NAkC78sH2OC2iZohRBZmBx24ub9BHqr X7B6fx+eFA5+cRG0yxR8GCVZrhlCFJaYMbYF1faii2DZCNYoN X-Gm-Gg: ASbGnctt9k3lfHoHMttwOmtHL7vH4BiPPRMKevjKIF5hyf0WEPNdSISsDoxpEJh5E+K XI6lR4dTsO0onHsMsCzL9gv9186dje5pwIZ86bNMTgAsW+VDHmUZHncsVUn7Jm1c0QpqSXtUUuJ ArWYgBfbdoYaW84dtX4jUSUYP/y+n89bysDRtBRwoq2Fr8tg+853m0T22Z0bIzS7TFdR371MwwB IIIB6UoKcnJIAVOLYXDHdEJaY/62zjt87y/sonkXSsC465/s4tvJ322xpdfnK2kHRebxIE1pnUV 6E49j5ubNueEWqbNWTjETJNKO6BQqMn2rnvv/GyxHg== X-Google-Smtp-Source: AGHT+IEgOPKBqCTXR3kLOQRNr6PYdELzjB3AqkJS4D195gTBCvn050A/PHeBgpQ//QclksEK8mLdx6kUPPk7 X-Received: by 2002:a05:620a:244f:b0:7be:2a68:6d79 with SMTP id af79cd13be357-7bffccc5e62mr3318829985a.7.1738568235374; Sun, 02 Feb 2025 23:37:15 -0800 (PST) Received: from postal.iol.unh.edu (postal.iol.unh.edu. [2606:4100:3880:1234::84]) by smtp-relay.gmail.com with ESMTPS id af79cd13be357-7c00a8fd8e3sm60120685a.4.2025.02.02.23.37.15 (version=TLS1_2 cipher=ECDHE-ECDSA-AES128-GCM-SHA256 bits=128/128); Sun, 02 Feb 2025 23:37:15 -0800 (PST) X-Relaying-Domain: iol.unh.edu Date: Sun, 02 Feb 2025 23:37:15 -0800 (PST) Message-ID: <67a0722b.050a0220.118ea1.bb47SMTPIN_ADDED_MISSING@mx.google.com> Received: from [172.21.0.5] (unknown [172.18.0.240]) by postal.iol.unh.edu (Postfix) with ESMTP id ACE896052471; Mon, 3 Feb 2025 02:37:14 -0500 (EST) Subject: |SUCCESS| [GIT MASTER] f2eea2f37a82bb73fb01d56350708f7d70e21379 From: dpdklab@iol.unh.edu To: Test Report Cc: dpdk-test-reports@iol.unh.edu, Xueming Li , Christian Ehrhardt , Kevin Traynor , Luca Boccassi Content-Type: text/plain X-BeenThere: test-report@dpdk.org X-Mailman-Version: 2.1.29 Precedence: list List-Id: automatic DPDK test reports List-Unsubscribe: , List-Archive: List-Post: List-Help: List-Subscribe: , Errors-To: test-report-bounces@dpdk.org _Testing PASS_ Branch: tags/v24.11 f2eea2f37a82bb73fb01d56350708f7d70e21379 --> testing pass Upstream job id: Generic-DPDK-Compile-ABI#114556 Test environment and result as below: +-------------------+----------+ | Environment | abi_test | +===================+==========+ | CentOS Stream 9 | PASS | +-------------------+----------+ | Debian 12 | PASS | +-------------------+----------+ | Debian Bullseye | PASS | +-------------------+----------+ | Fedora 40 (Clang) | PASS | +-------------------+----------+ | Fedora 40 | PASS | +-------------------+----------+ | Fedora 41 (Clang) | PASS | +-------------------+----------+ | Fedora 41 | PASS | +-------------------+----------+ | RHEL8 | PASS | +-------------------+----------+ | openSUSE Leap 15 | PASS | +-------------------+----------+ | Ubuntu 22.04 | PASS | +-------------------+----------+ | Ubuntu 24.04 | PASS | +-------------------+----------+ | RHEL9 | PASS | +-------------------+----------+ CentOS Stream 9 Kernel: Depends on container host Compiler: gcc 11.5.0 20240719 (Red Hat 11.5.0-2) Debian 12 Kernel: Depends on container host Compiler: gcc (Debian 12.2.0-14) 12.2.0 Debian Bullseye Kernel: Depends on container host Compiler: gcc (Debian 10.2.1-6) 10.2.1 20210110 Fedora 40 (Clang) Kernel: Depends on container host Compiler: clang 18.1.8 (Fedora 18.1.8-1.fc40) Fedora 40 Kernel: Depends on container host Compiler: gcc 14.2.1 20240912 (Red Hat 14.2.1-3) Fedora 41 (Clang) Kernel: Depends on container host Compiler: clang 19.1.5 (Fedora 19.1.5-1.fc41) Fedora 41 Kernel: Depends on container host Compiler: gcc 14.2.1 20240912 (Red Hat 14.2.1-3) RHEL8 Kernel: Depends on container host Compiler: gcc 8.5.0 20210514 (Red Hat 8.5.0-22) openSUSE Leap 15 Kernel: Depends on container host Compiler: gcc (SUSE Linux) 7.5.0 Ubuntu 22.04 Kernel: Depends on container host Compiler: gcc (Ubuntu 11.4.0-1ubuntu1~22.04) 11.4.0 Ubuntu 24.04 Kernel: Depends on container host Compiler: gcc (Ubuntu 13.3.0-6ubuntu2~24.04) 13.3.0 RHEL9 Kernel: Depends on container host Compiler: gcc 11.5.0 20240719 (Red Hat 11.5.0-2) To view detailed results, visit: https://lab.dpdk.org/results/dashboard/tarballs/32421/ UNH-IOL DPDK Community Lab To manage your email subscriptions, visit: https://lab.dpdk.org/results/dashboard/preferences/subscriptions/