From mboxrd@z Thu Jan 1 00:00:00 1970 Return-Path: Received: from mails.dpdk.org (mails.dpdk.org [217.70.189.124]) by inbox.dpdk.org (Postfix) with ESMTP id 96A334617E for ; Mon, 3 Feb 2025 08:37:19 +0100 (CET) Received: from mails.dpdk.org (localhost [127.0.0.1]) by mails.dpdk.org (Postfix) with ESMTP id 901B640287; Mon, 3 Feb 2025 08:37:19 +0100 (CET) Received: from mail-il1-f226.google.com (mail-il1-f226.google.com [209.85.166.226]) by mails.dpdk.org (Postfix) with ESMTP id B4AC140E8A for ; Mon, 3 Feb 2025 08:37:17 +0100 (CET) Received: by mail-il1-f226.google.com with SMTP id e9e14a558f8ab-3ce76b8d5bcso36171285ab.0 for ; Sun, 02 Feb 2025 23:37:17 -0800 (PST) DKIM-Signature: v=1; a=rsa-sha256; c=relaxed/relaxed; d=iol.unh.edu; s=unh-iol; t=1738568237; x=1739173037; darn=dpdk.org; h=cc:to:from:subject:message-id:date:from:to:cc:subject:date :message-id:reply-to; bh=9NizCo/99OifHXNE9bjZUdWCVf2ZJP/TeW6iv5sbXgo=; b=f+Fjl3ywltVFf9DjpP9Uo9tAlItxGNT9iVUtFWp6W5a4ntXptpa+pIzAODgR8JC1rx QIKMIErom7ddKjwtkCxrgXItyr3O7t1tZlzcm6s192mc4UBLK0ONfJiFAl8zyH95h5jP CZwdhjxVKBO3b9r/dEVNSaRMjQ8/uUFQ2fvO8= X-Google-DKIM-Signature: v=1; a=rsa-sha256; c=relaxed/relaxed; d=1e100.net; s=20230601; t=1738568237; x=1739173037; h=cc:to:from:subject:message-id:date:x-gm-message-state:from:to:cc :subject:date:message-id:reply-to; bh=9NizCo/99OifHXNE9bjZUdWCVf2ZJP/TeW6iv5sbXgo=; b=lt3rw4KQt+LSywz6Ylh1IeBDprqCKEvrsDp3DLdhvU7nkCFR8tiCuAwPD3L7qXpfYt SXPq++ycNpiCo+zos+IkN5DKjdJIENZZ6/vKpnvlTUzPYegasVfsBik3UeBP4WhSNbBg GoSTBCMg5BLGINBxt22tu7tTQUIsNg98UEl1g0S1SM0PA8fKXAg+Xbz8QcAoFgyRXrGi uY/nMzuBDOvu9TjrHpCv3AsqvYGgoCSv2ji8Xl8RlSrxpu3vDpKqv5cI9hqXjDoys89T 7A3p5N7esfL1J99LCJLTmSSYyyUFnMP8V3gqMbiMSUljX2yndQWR+CAMye4g5TfkQ8M+ Qkvw== X-Gm-Message-State: AOJu0YxYUPvlyKTauCC18ljE1+LXro21jKbluYpJDCsL433jkogBLpgo yR/ryoVkFibdpwR7s1Nnt4qEALBHekc93p4tcf4sDG2elcT1Nky9lCW/VYO+mXjpia4SZFLOyuH OqVqGULGQRlHkYE/g+J34kMn4LUWb7mSn X-Gm-Gg: ASbGncus5Q/Hirc+6JYIqI1Te0tPeDnLLBvmqT3YG/eymKa87eMWxci7uvzjruzpLso qmJLYw2Mi33cnzLk8zJGj0LqxS3IQev4YNlqnDzuA1D4sGovU/Yl6ICjD8VilPcfgpTwFXoB8AQ F7frYnzgVWRCEn6KKPA3XaKtkR0z2y+NHhtrsMdqfQkNDuqIPsJUKvE19IAIC3WEbqRDk3/dlZ7 t8MqWdUmxoHkHalIJefihyFctTOtJbzfR4jFXHRrsi6IPiw5yncMecIFPjfsvvGTFQ0uqd+K/AG p2U+K1fwd8lf6ohvtbPWTQMluf074g== X-Google-Smtp-Source: AGHT+IH1Di1QI2e0ZeihKNdZPkYhbjyUR5PQgd1N7X01Bxj9mFW06UyhIwRFsN8nXds7C2Q5Zo+l4haCNXqQ X-Received: by 2002:a92:cda7:0:b0:3cf:cd79:b24e with SMTP id e9e14a558f8ab-3cffe469ae4mr189027875ab.15.1738568237070; Sun, 02 Feb 2025 23:37:17 -0800 (PST) Received: from postal.iol.unh.edu (postal.iol.unh.edu. [132.177.123.84]) by smtp-relay.gmail.com with ESMTPS id e9e14a558f8ab-3d00a4012a7sm6596285ab.0.2025.02.02.23.37.16 (version=TLS1_2 cipher=ECDHE-ECDSA-AES128-GCM-SHA256 bits=128/128); Sun, 02 Feb 2025 23:37:17 -0800 (PST) X-Relaying-Domain: iol.unh.edu Date: Sun, 02 Feb 2025 23:37:17 -0800 (PST) Message-ID: <67a0722d.050a0220.12eb2e.e576SMTPIN_ADDED_MISSING@mx.google.com> Received: from [172.21.0.6] (unknown [172.18.0.240]) by postal.iol.unh.edu (Postfix) with ESMTP id 8E64C6052471; Mon, 3 Feb 2025 02:37:16 -0500 (EST) Subject: |SUCCESS| [GIT MASTER] f2eea2f37a82bb73fb01d56350708f7d70e21379 From: dpdklab@iol.unh.edu To: Test Report Cc: dpdk-test-reports@iol.unh.edu, Xueming Li , Christian Ehrhardt , Kevin Traynor , Luca Boccassi Content-Type: text/plain X-BeenThere: test-report@dpdk.org X-Mailman-Version: 2.1.29 Precedence: list List-Id: automatic DPDK test reports List-Unsubscribe: , List-Archive: List-Post: List-Help: List-Subscribe: , Errors-To: test-report-bounces@dpdk.org _Testing PASS_ Branch: tags/v24.11 f2eea2f37a82bb73fb01d56350708f7d70e21379 --> testing pass Upstream job id: Template-DTS-Pipeline#210303 Test environment and result as below: +--------------------+----------------------+----------------------+ | Environment | compressdev_zlib_pmd | dpdk_fips_validation | +====================+======================+======================+ | Ubuntu 22.04 (ARM) | PASS | SKIPPED | +--------------------+----------------------+----------------------+ | Ubuntu 22.04 | PASS | SKIPPED | +--------------------+----------------------+----------------------+ | Ubuntu 20.04 | SKIPPED | PASS | +--------------------+----------------------+----------------------+ Ubuntu 22.04 (ARM) Kernel: 5.15.0-97-generic Compiler: gcc gcc (Ubuntu 11.4.0-1ubuntu1~22.04) 11.4.0 Ubuntu 22.04 Kernel: 5.15.0-100-generic Compiler: gcc gcc (Ubuntu 11.4.0-1ubuntu1~22.04) 11.4.0 Ubuntu 20.04 Kernel: Depends on container host Compiler: gcc (Ubuntu 9.4.0-1ubuntu1~20.04.2) 9.4.0 To view detailed results, visit: https://lab.dpdk.org/results/dashboard/tarballs/32421/ UNH-IOL DPDK Community Lab To manage your email subscriptions, visit: https://lab.dpdk.org/results/dashboard/preferences/subscriptions/