From mboxrd@z Thu Jan 1 00:00:00 1970 Return-Path: Received: from mails.dpdk.org (mails.dpdk.org [217.70.189.124]) by inbox.dpdk.org (Postfix) with ESMTP id B36D74617E for ; Mon, 3 Feb 2025 09:11:21 +0100 (CET) Received: from mails.dpdk.org (localhost [127.0.0.1]) by mails.dpdk.org (Postfix) with ESMTP id 9012540DD0; Mon, 3 Feb 2025 09:11:21 +0100 (CET) Received: from mail-pl1-f227.google.com (mail-pl1-f227.google.com [209.85.214.227]) by mails.dpdk.org (Postfix) with ESMTP id 74CEA40264 for ; Mon, 3 Feb 2025 09:11:20 +0100 (CET) Received: by mail-pl1-f227.google.com with SMTP id d9443c01a7336-21644aca3a0so93680785ad.3 for ; Mon, 03 Feb 2025 00:11:20 -0800 (PST) DKIM-Signature: v=1; a=rsa-sha256; c=relaxed/relaxed; d=iol.unh.edu; s=unh-iol; t=1738570279; x=1739175079; darn=dpdk.org; h=cc:to:from:subject:message-id:date:from:to:cc:subject:date :message-id:reply-to; bh=U2IfqTzc+pxfLbVRy4HspL+Dqu5yA4lsv39SBCzKk4Y=; b=XGf6KpQh19+NC2XAkpgzw76eIShdtM+kEcV/2Huc8LAoHDvH9L0UcP6kG2Ktw5hDE+ kRrmUJ6i4OpOCgBGltM42wDFqabTQMSYcop0/9h+k8uQqEH/UrECVDV4Z/+WasfuEGX5 Y2wBhoHQwwa/UQuzN0p7guKbiAc4wIeiBbzV4= X-Google-DKIM-Signature: v=1; a=rsa-sha256; c=relaxed/relaxed; d=1e100.net; s=20230601; t=1738570279; x=1739175079; h=cc:to:from:subject:message-id:date:x-gm-message-state:from:to:cc :subject:date:message-id:reply-to; bh=U2IfqTzc+pxfLbVRy4HspL+Dqu5yA4lsv39SBCzKk4Y=; b=Hig5C1qLH09ADiPuf6sk6tOWYeV63BGFOF1hx9/Z9UkcM4ie4K/ppCZClxARtKMa5S oFWNKc8UY33Xg8nw/wAVdu6MhrPuntge/Mv8aRRB/Mkv8TmARL3YfoxvIlENMZO1kYYX A2e0whySLSBxnFgZsaMGMb7yU3v8DKSVvQMKSZz1QOR+19S3YwnFRiXVH2LZzeE7IAwS XTy2KbHqrGBQKXLN4P9Gz39jJsTQPu8Ujd3FDW2fuIXBIt7TGEmHZAlAZ8wypVOzeBUU dpgl+OUeeELNdJ7CfBmyiUwqueIc3ikgazoxiDPBwPO317igMYSMA1+y5oytRX+Ii0fj lAdA== X-Gm-Message-State: AOJu0Yyyi729qhnFtXBaWSY6DgcIjgqG9LNaD395iA7aoVhvyM2tg+Yh SvDxC2QeAhRPeWNEYRSNCl0+p7pmUdC74aARISAU6xMzp8/uaXIrp80byMO0+HukBzCISVQcL2M gj3hYMZi498Dq87ToD8lQ1/rwMh/6zIH7 X-Gm-Gg: ASbGncuv3DbGjljr9hipA/FIZZDI/ilw94wlGGk1Z86wZoUIzQn3z2B+iJCE7XNrzvr c1z4vLEIYaLBMBF26iH+UJTdoIGarRxcf3Id4nQbQYSxqup/wZsbZSJ7SbdLgtHdeCPNup+Vh7k InEFsjsWPPIlDib5gu/nGWsfTT+Y7rqZ2CPq81S1iRG0QXWxpSRsHgYrCNIRXIQEcfw2MwebanJ plQqG9yllftpnAIjKVAY4Xcsk0CcB/nQMIlvX83FyzW4asRjeFPLB+1siGAf6fm9DpuNzsTN38j ktoM1IpHcaymzafmmONJIWHAB1+PnA== X-Google-Smtp-Source: AGHT+IER0k2cqaix1KG8O6/R3k47teEVO4BNoZPwsYM9/0vDjhSYIz54VqgEhcD2qRCzw4Hb9ANRiWRx5ahR X-Received: by 2002:a05:6a00:acb:b0:725:ef4b:de33 with SMTP id d2e1a72fcca58-72fd096ac3amr31462314b3a.0.1738570279599; Mon, 03 Feb 2025 00:11:19 -0800 (PST) Received: from postal.iol.unh.edu (postal.iol.unh.edu. [132.177.123.84]) by smtp-relay.gmail.com with ESMTPS id d2e1a72fcca58-72fe6319e08sm704993b3a.5.2025.02.03.00.11.19 (version=TLS1_2 cipher=ECDHE-ECDSA-AES128-GCM-SHA256 bits=128/128); Mon, 03 Feb 2025 00:11:19 -0800 (PST) X-Relaying-Domain: iol.unh.edu Date: Mon, 03 Feb 2025 00:11:19 -0800 (PST) Message-ID: <67a07a27.050a0220.2f68c3.0e9aSMTPIN_ADDED_MISSING@mx.google.com> Received: from [172.21.0.6] (unknown [172.18.0.240]) by postal.iol.unh.edu (Postfix) with ESMTP id BD3F86052471; Mon, 3 Feb 2025 03:11:18 -0500 (EST) Subject: |SUCCESS| [GIT MASTER] 7ce7d3341d7e21c2a81f2fea8e451681d7306d77 From: dpdklab@iol.unh.edu To: Test Report Cc: dpdk-test-reports@iol.unh.edu, Xueming Li , Christian Ehrhardt , Kevin Traynor , Luca Boccassi Content-Type: text/plain X-BeenThere: test-report@dpdk.org X-Mailman-Version: 2.1.29 Precedence: list List-Id: automatic DPDK test reports List-Unsubscribe: , List-Archive: List-Post: List-Help: List-Subscribe: , Errors-To: test-report-bounces@dpdk.org _Testing PASS_ Branch: tags/v22.11 7ce7d3341d7e21c2a81f2fea8e451681d7306d77 --> testing pass Upstream job id: Generic-Unit-Test-DPDK#311132 Test environment and result as below: +-----------------------------+--------------+---------------------------+------------------------------+----------------+ | Environment | lpm_autotest | cryptodev_sw_zuc_autotest | cryptodev_sw_snow3g_autotest | dpdk_unit_test | +=============================+==============+===========================+==============================+================+ | Ubuntu 20.04 ARM SVE | PASS | SKIPPED | SKIPPED | SKIPPED | +-----------------------------+--------------+---------------------------+------------------------------+----------------+ | Debian 12 (arm) | SKIPPED | PASS | PASS | SKIPPED | +-----------------------------+--------------+---------------------------+------------------------------+----------------+ | 32-bit Ubuntu 22.04.4 (ARM) | SKIPPED | SKIPPED | SKIPPED | PASS | +-----------------------------+--------------+---------------------------+------------------------------+----------------+ Ubuntu 20.04 ARM SVE Kernel: Depends on container host Compiler: gcc (Ubuntu 10.5.0-1ubuntu1~20.04) 10.5.0 Debian 12 (arm) Kernel: Depends on container host Compiler: gcc (Debian 12.2.0-14) 12.2.0 32-bit Ubuntu 22.04.4 (ARM) Kernel: 5.15.83+ aarch64 Compiler: gcc (Ubuntu 11.4.0-1ubuntu1~22.04) 11.4.0 To view detailed results, visit: https://lab.dpdk.org/results/dashboard/tarballs/32423/ UNH-IOL DPDK Community Lab To manage your email subscriptions, visit: https://lab.dpdk.org/results/dashboard/preferences/subscriptions/