From mboxrd@z Thu Jan 1 00:00:00 1970 Return-Path: Received: from mails.dpdk.org (mails.dpdk.org [217.70.189.124]) by inbox.dpdk.org (Postfix) with ESMTP id B933A4617E for ; Mon, 3 Feb 2025 09:48:37 +0100 (CET) Received: from mails.dpdk.org (localhost [127.0.0.1]) by mails.dpdk.org (Postfix) with ESMTP id 8C7FF40B91; Mon, 3 Feb 2025 09:48:37 +0100 (CET) Received: from mail-il1-f227.google.com (mail-il1-f227.google.com [209.85.166.227]) by mails.dpdk.org (Postfix) with ESMTP id EA9FB40264 for ; Mon, 3 Feb 2025 09:48:35 +0100 (CET) Received: by mail-il1-f227.google.com with SMTP id e9e14a558f8ab-3a8160382d4so9424155ab.0 for ; Mon, 03 Feb 2025 00:48:35 -0800 (PST) DKIM-Signature: v=1; a=rsa-sha256; c=relaxed/relaxed; d=iol.unh.edu; s=unh-iol; t=1738572515; x=1739177315; darn=dpdk.org; h=cc:to:from:subject:message-id:date:from:to:cc:subject:date :message-id:reply-to; bh=5HPrsdG0Jee5jhtKwSFeMwNSe9nU8LuLcjti4s6aEAA=; b=BpjjxSAC0DqzYNpu6/IFQYDBIBGCz0/59BCSZKInGPf6u4jhY1OX6JOEE96rb0Uodf HNQOZCcoJvCjtDcl5Z/UKhQGTmXJ6hoxNiz685dWa1iGA4769QjwIIsxC6zTE/gt3xj0 i8j9+0fnZSAzF2Mwe+RE/eo2pHm1iBp0T5shM= X-Google-DKIM-Signature: v=1; a=rsa-sha256; c=relaxed/relaxed; d=1e100.net; s=20230601; t=1738572515; x=1739177315; h=cc:to:from:subject:message-id:date:x-gm-message-state:from:to:cc :subject:date:message-id:reply-to; bh=5HPrsdG0Jee5jhtKwSFeMwNSe9nU8LuLcjti4s6aEAA=; b=omGGpY80cgBlqmtVSLcfanwUeN3zxO2AiywSHLh3t7MtDLBM61ATFzoKsfpMButnll GJI0NfBZJD3k1pxGgDWtJhu84367xC4i6eaAiSMLr7ob/j+w7EGpCJ7HMdEwAsULzGPn oz3xSOZGgfB2c5vCVc7MgRQuPiAeX85sGFQx6OO/ucLNtx4h475oHO5A3LuIenDRqWij lp4DYgiUj6B+aRO9UJan/8VzDI4M62PqRHDJt9Cg13+bJvWFmJAANwDjUPug9qoW953z wiZ/9G7GZ8f8RVZOaxKwJ/nWtzNGyclX4V4U/XEBFr69drClloadN/MN80F/xT60gWm/ Hstg== X-Gm-Message-State: AOJu0YxFjeMKSnVoaZb6YoAgmyykRcSzsjVu29K35bfNWVtqVQqjlK5A 2Sz3iWqXbAT9fPBCPzDKLHgyCfeyHsujbV6arPKUd+eVrsgsa3F1fVlEh9Ml6WdwCr1aDhT/lVl BiuGdloXQGmEyFZsY8ErX8itjfByHFEg4RiX3j3Gp2ThO6Yvq X-Gm-Gg: ASbGncvOD0YY4XcbMhgVvKNeiq2Lr1RJxAFoXp20kFgpN7mFW4RQ6NzVobQtizTpSMV YvOmhp0wPmcorSPpefFBcH9ixwr1QDRgC5yCS3OTTbY2CxRToezNPFnVjRbLzcyeCM/DakQN/NM h3vh7thbVKMbySIlz0f94yOiBjrfUeujKqs0m9j+UuhE/37XzH2Nai+VCQv+DNAtJs6EPlDVbuQ YlFrxZaaTjESUFpwAoeaavoXHXnhv/pfwek76rDzQQRoBl3zAbw4Qo0SgqxfLsx8XOp2IhwWpd+ R1XOCT/YrJem/cVzS18L0hZEqWoo+29mwBRiYquttQ== X-Google-Smtp-Source: AGHT+IHH5SjhKKbvyZkTnQiX8zfr5Ge5c0Ezakt3mDV2vfxHNTjuiAjQ+uzJOGJPAwvkdDb42bqtjU6PUeJ3 X-Received: by 2002:a05:6e02:1aa7:b0:3cf:cac6:b61d with SMTP id e9e14a558f8ab-3cffe4068acmr170428965ab.16.1738572515185; Mon, 03 Feb 2025 00:48:35 -0800 (PST) Received: from postal.iol.unh.edu (postal.iol.unh.edu. [2606:4100:3880:1234::84]) by smtp-relay.gmail.com with ESMTPS id 8926c6da1cb9f-4ec745cfa2fsm573019173.40.2025.02.03.00.48.35 (version=TLS1_2 cipher=ECDHE-ECDSA-AES128-GCM-SHA256 bits=128/128); Mon, 03 Feb 2025 00:48:35 -0800 (PST) X-Relaying-Domain: iol.unh.edu Date: Mon, 03 Feb 2025 00:48:35 -0800 (PST) Message-ID: <67a082e3.050a0220.7e3d6.b65dSMTPIN_ADDED_MISSING@mx.google.com> Received: from [172.21.0.6] (unknown [172.18.0.240]) by postal.iol.unh.edu (Postfix) with ESMTP id A392C6052471; Mon, 3 Feb 2025 03:48:34 -0500 (EST) Subject: |SUCCESS| [GIT MASTER] f2eea2f37a82bb73fb01d56350708f7d70e21379 From: dpdklab@iol.unh.edu To: Test Report Cc: dpdk-test-reports@iol.unh.edu, Xueming Li , Christian Ehrhardt , Kevin Traynor , Luca Boccassi Content-Type: text/plain X-BeenThere: test-report@dpdk.org X-Mailman-Version: 2.1.29 Precedence: list List-Id: automatic DPDK test reports List-Unsubscribe: , List-Archive: List-Post: List-Help: List-Subscribe: , Errors-To: test-report-bounces@dpdk.org _Testing PASS_ Branch: tags/v24.11 f2eea2f37a82bb73fb01d56350708f7d70e21379 --> testing pass Upstream job id: Generic-DPDK-Compile-Meson#357226 Test environment and result as below: +------------------------------------+--------------------+ | Environment | dpdk_meson_compile | +====================================+====================+ | RHEL9 (ARM) | PASS | +------------------------------------+--------------------+ | Ubuntu 20.04 ARM GCC Cross Compile | PASS | +------------------------------------+--------------------+ | Ubuntu 20.04 ARM SVE | PASS | +------------------------------------+--------------------+ | Fedora 40 (ARM) | PASS | +------------------------------------+--------------------+ | Fedora 40 (ARM Clang) | PASS | +------------------------------------+--------------------+ | Fedora 41 (ARM) | PASS | +------------------------------------+--------------------+ | Debian 12 with MUSDK | PASS | +------------------------------------+--------------------+ | Ubuntu 20.04 (ARM) | PASS | +------------------------------------+--------------------+ | Fedora 41 (ARM Clang) | PASS | +------------------------------------+--------------------+ | Ubuntu 24.04 (ARM) | PASS | +------------------------------------+--------------------+ | Ubuntu 22.04 (ARM) | PASS | +------------------------------------+--------------------+ | CentOS Stream 9 (ARM) | PASS | +------------------------------------+--------------------+ | Debian 12 (arm) | PASS | +------------------------------------+--------------------+ | Debian 11 (Buster) (ARM) | PASS | +------------------------------------+--------------------+ RHEL9 (ARM) Kernel: Depends on container host Compiler: gcc 11.5.0 20240719 (Red Hat 11.5.0-2) Ubuntu 20.04 ARM GCC Cross Compile Kernel: Depends on container host Compiler: aarch64-linux-gnu-gcc (Ubuntu 9.4.0-1ubuntu1~20.04.2) 9.4.0 Ubuntu 20.04 ARM SVE Kernel: Depends on container host Compiler: gcc (Ubuntu 10.5.0-1ubuntu1~20.04) 10.5.0 Fedora 40 (ARM) Kernel: Depends on container host Compiler: gcc 14.2.1 20240912 (Red Hat 14.2.1-3) Fedora 40 (ARM Clang) Kernel: Depends on container host Compiler: clang 18.1.8 (Fedora 18.1.8-1.fc40) Fedora 41 (ARM) Kernel: Depends on container host Compiler: gcc 14.2.1 20240912 (Red Hat 14.2.1-3) Debian 12 with MUSDK Kernel: Depends on container host Compiler: gcc (Debian 12.2.0-14) 12.2.0 Ubuntu 20.04 (ARM) Kernel: Depends on container host Compiler: gcc (Ubuntu 9.4.0-1ubuntu1~20.04.2) 9.4.0 Fedora 41 (ARM Clang) Kernel: Depends on container host Compiler: clang 19.1.5 (Fedora 19.1.5-1.fc41) Ubuntu 24.04 (ARM) Kernel: Depends on container host Compiler: gcc (Ubuntu 13.3.0-6ubuntu2~24.04) 13.3.0 Ubuntu 22.04 (ARM) Kernel: Depends on container host Compiler: gcc (Ubuntu 11.4.0-1ubuntu1~22.04) 11.4.0 CentOS Stream 9 (ARM) Kernel: Depends on container host Compiler: gcc 11.5.0 20240719 (Red Hat 11.5.0-2) Debian 12 (arm) Kernel: Depends on container host Compiler: gcc (Debian 12.2.0-14) 12.2.0 Debian 11 (Buster) (ARM) Kernel: Depends on container host Compiler: gcc (Debian 10.2.1-6) 10.2.1 20210110 To view detailed results, visit: https://lab.dpdk.org/results/dashboard/tarballs/32421/ UNH-IOL DPDK Community Lab To manage your email subscriptions, visit: https://lab.dpdk.org/results/dashboard/preferences/subscriptions/