From mboxrd@z Thu Jan 1 00:00:00 1970 Return-Path: Received: from mails.dpdk.org (mails.dpdk.org [217.70.189.124]) by inbox.dpdk.org (Postfix) with ESMTP id C27304617E for ; Mon, 3 Feb 2025 09:49:49 +0100 (CET) Received: from mails.dpdk.org (localhost [127.0.0.1]) by mails.dpdk.org (Postfix) with ESMTP id BC94140B91; Mon, 3 Feb 2025 09:49:49 +0100 (CET) Received: from mail-pl1-f228.google.com (mail-pl1-f228.google.com [209.85.214.228]) by mails.dpdk.org (Postfix) with ESMTP id 142AF40264 for ; Mon, 3 Feb 2025 09:49:48 +0100 (CET) Received: by mail-pl1-f228.google.com with SMTP id d9443c01a7336-21649a7bcdcso68541485ad.1 for ; Mon, 03 Feb 2025 00:49:48 -0800 (PST) DKIM-Signature: v=1; a=rsa-sha256; c=relaxed/relaxed; d=iol.unh.edu; s=unh-iol; t=1738572587; x=1739177387; darn=dpdk.org; h=cc:to:from:subject:message-id:date:from:to:cc:subject:date :message-id:reply-to; bh=zN9mhgsWHbUHe029ATMBZlI0eRo/y1qLMMuwNEn6yGo=; b=V7yOigfO7Id71sUZ+Oh142HeI/W2XDiCsB9CD16NL5FCYQTbU45FqHJiwWHwDyUjnQ BVye5I1lDmUgFngXi7Dk4IYxxoJvaFb/Q7B2re/S15GoEEXXfLie3ElG8BUtCO45IQra g0Op558FsRrqOGG9jSPbb/NCDAfXj9XMAy9s8= X-Google-DKIM-Signature: v=1; a=rsa-sha256; c=relaxed/relaxed; d=1e100.net; s=20230601; t=1738572587; x=1739177387; h=cc:to:from:subject:message-id:date:x-gm-message-state:from:to:cc :subject:date:message-id:reply-to; bh=zN9mhgsWHbUHe029ATMBZlI0eRo/y1qLMMuwNEn6yGo=; b=nOalkoVf1HByAD9NKDGMKk48KJX4LDTvHNd/hrhD8g76kyCcSgCFrbU1//aGOHL18t 2/+bJjcXZ8tBvc658VgT9vmX8Nw/hNtutlA7pno2YV0MxJlfVcuhC76KV8WEuHVv+vKQ prThVFaGEJ417YCcDRNMoOms4X/apxnV6ZJqKflejh/hOsdeFIUNVtQzdjEv6w+anhKa 9yQN01Ygb0s3mzQQx7mvENpk5Fy2bDef69KTMsoue+tJ7ea/4O1MNKHBGuRikzgkp2gC x437Y1kT94JRMEhliHPjlcMFxuDPjjxvjASZyZ90zIzpoxgdt91zaYJOk9LVyzZt3byA /+5g== X-Gm-Message-State: AOJu0Yy/sk46mzenqpWjsDPeiUUFVayawSMT/tmLujKlcBo73D+QKIhW /5vJAC/jjI0UkdaFANkm7axFovZZ8ctwlkGlyug8B/sne4gffQHY2KoIwtfbxs4N9RvvlIv3SY4 Z63X8DRKbpuJW4NEtf1CnFJ9Vk/ukap53ZxqneNYXl7MRzA0A X-Gm-Gg: ASbGncv+Ge4d81j1IdRtLNbXr1S+ZvIfbi8zZe2hn2XoWbSy/C3nsQ7i7Vni4VnjtNz W8KFNZBBpCR5BkXVlUdKiXrJtRDDstVrulmnztu7FH+RNl8GV/ZNTFj0OUS/Zyicp8FRM7BKVVF spDrZpt2aJ+4zaHAroad+VYmdYeoTIX9ZrS9Ir0RbTkjUldcaG0uIXoIoXpV3drrpeW5pmRbNOW RqrgfEfc8heFeb8IvQgzeYhjrCA3Ieb5QrV0g4JF2A8Jl75Bq4WIztHP4g8x9koKyVxyi5Vr0/q 5IOOnMWGLgkCGvG6b6KrNgXgh8xIlhq08De1br4/tA== X-Google-Smtp-Source: AGHT+IHgKXeNbBw+GyU3PTJyt53rdcxdNbDfGjhkPWmAqrUNIPFbze00dhgw6XfTtNPhG8jfxgazto6hOkqn X-Received: by 2002:a05:6a20:9f45:b0:1e1:cdff:5f18 with SMTP id adf61e73a8af0-1ed7a5b6730mr31717473637.4.1738572586961; Mon, 03 Feb 2025 00:49:46 -0800 (PST) Received: from postal.iol.unh.edu (postal.iol.unh.edu. [2606:4100:3880:1234::84]) by smtp-relay.gmail.com with ESMTPS id 41be03b00d2f7-ad0af303648sm315183a12.5.2025.02.03.00.49.46 (version=TLS1_2 cipher=ECDHE-ECDSA-AES128-GCM-SHA256 bits=128/128); Mon, 03 Feb 2025 00:49:46 -0800 (PST) X-Relaying-Domain: iol.unh.edu Date: Mon, 03 Feb 2025 00:49:46 -0800 (PST) Message-ID: <67a0832a.630a0220.87993.dec9SMTPIN_ADDED_MISSING@mx.google.com> Received: from [172.21.0.5] (unknown [172.18.0.240]) by postal.iol.unh.edu (Postfix) with ESMTP id 1DCED6052472; Mon, 3 Feb 2025 03:49:46 -0500 (EST) Subject: |SUCCESS| [GIT MASTER] c66daa12e76d7b4912cfb7109a761856a7a873ab From: dpdklab@iol.unh.edu To: Test Report Cc: dpdk-test-reports@iol.unh.edu, Xueming Li , Christian Ehrhardt , Kevin Traynor , Luca Boccassi Content-Type: text/plain X-BeenThere: test-report@dpdk.org X-Mailman-Version: 2.1.29 Precedence: list List-Id: automatic DPDK test reports List-Unsubscribe: , List-Archive: List-Post: List-Help: List-Subscribe: , Errors-To: test-report-bounces@dpdk.org _Testing PASS_ Branch: tags/v23.11 c66daa12e76d7b4912cfb7109a761856a7a873ab --> testing pass Upstream job id: Generic-Unit-Test-DPDK#311153 Test environment and result as below: +-----------------------------+----------------+--------------+---------------------------+------------------------------+ | Environment | dpdk_unit_test | lpm_autotest | cryptodev_sw_zuc_autotest | cryptodev_sw_snow3g_autotest | +=============================+================+==============+===========================+==============================+ | Fedora 40 (ARM) | PASS | SKIPPED | SKIPPED | SKIPPED | +-----------------------------+----------------+--------------+---------------------------+------------------------------+ | Debian 11 (Buster) (ARM) | PASS | SKIPPED | SKIPPED | SKIPPED | +-----------------------------+----------------+--------------+---------------------------+------------------------------+ | CentOS Stream 9 (ARM) | PASS | SKIPPED | SKIPPED | SKIPPED | +-----------------------------+----------------+--------------+---------------------------+------------------------------+ | Debian 12 (arm) | PASS | SKIPPED | PASS | PASS | +-----------------------------+----------------+--------------+---------------------------+------------------------------+ | Fedora 41 (ARM) | PASS | SKIPPED | SKIPPED | SKIPPED | +-----------------------------+----------------+--------------+---------------------------+------------------------------+ | Fedora 40 (ARM Clang) | PASS | SKIPPED | SKIPPED | SKIPPED | +-----------------------------+----------------+--------------+---------------------------+------------------------------+ | Fedora 41 (ARM Clang) | PASS | SKIPPED | SKIPPED | SKIPPED | +-----------------------------+----------------+--------------+---------------------------+------------------------------+ | RHEL9 (ARM) | PASS | SKIPPED | SKIPPED | SKIPPED | +-----------------------------+----------------+--------------+---------------------------+------------------------------+ | Ubuntu 24.04 (ARM) | PASS | SKIPPED | SKIPPED | SKIPPED | +-----------------------------+----------------+--------------+---------------------------+------------------------------+ | Ubuntu 20.04 (ARM) | PASS | SKIPPED | SKIPPED | SKIPPED | +-----------------------------+----------------+--------------+---------------------------+------------------------------+ | Ubuntu 22.04 (ARM) | PASS | SKIPPED | SKIPPED | SKIPPED | +-----------------------------+----------------+--------------+---------------------------+------------------------------+ | 32-bit Ubuntu 22.04.4 (ARM) | PASS | SKIPPED | SKIPPED | SKIPPED | +-----------------------------+----------------+--------------+---------------------------+------------------------------+ | Ubuntu 20.04 ARM SVE | SKIPPED | PASS | SKIPPED | SKIPPED | +-----------------------------+----------------+--------------+---------------------------+------------------------------+ Fedora 40 (ARM) Kernel: Depends on container host Compiler: gcc 14.2.1 20240912 (Red Hat 14.2.1-3) Debian 11 (Buster) (ARM) Kernel: Depends on container host Compiler: gcc (Debian 10.2.1-6) 10.2.1 20210110 CentOS Stream 9 (ARM) Kernel: Depends on container host Compiler: gcc 11.5.0 20240719 (Red Hat 11.5.0-2) Debian 12 (arm) Kernel: Depends on container host Compiler: gcc (Debian 12.2.0-14) 12.2.0 Fedora 41 (ARM) Kernel: Depends on container host Compiler: gcc 14.2.1 20240912 (Red Hat 14.2.1-3) Fedora 40 (ARM Clang) Kernel: Depends on container host Compiler: clang 18.1.8 (Fedora 18.1.8-1.fc40) Fedora 41 (ARM Clang) Kernel: Depends on container host Compiler: clang 19.1.5 (Fedora 19.1.5-1.fc41) RHEL9 (ARM) Kernel: Depends on container host Compiler: gcc 11.5.0 20240719 (Red Hat 11.5.0-2) Ubuntu 24.04 (ARM) Kernel: Depends on container host Compiler: gcc (Ubuntu 13.3.0-6ubuntu2~24.04) 13.3.0 Ubuntu 20.04 (ARM) Kernel: Depends on container host Compiler: gcc (Ubuntu 9.4.0-1ubuntu1~20.04.2) 9.4.0 Ubuntu 22.04 (ARM) Kernel: Depends on container host Compiler: gcc (Ubuntu 11.4.0-1ubuntu1~22.04) 11.4.0 32-bit Ubuntu 22.04.4 (ARM) Kernel: 5.15.83+ aarch64 Compiler: gcc (Ubuntu 11.4.0-1ubuntu1~22.04) 11.4.0 Ubuntu 20.04 ARM SVE Kernel: Depends on container host Compiler: gcc (Ubuntu 10.5.0-1ubuntu1~20.04) 10.5.0 To view detailed results, visit: https://lab.dpdk.org/results/dashboard/tarballs/32422/ UNH-IOL DPDK Community Lab To manage your email subscriptions, visit: https://lab.dpdk.org/results/dashboard/preferences/subscriptions/