From mboxrd@z Thu Jan 1 00:00:00 1970 Return-Path: Received: from mails.dpdk.org (mails.dpdk.org [217.70.189.124]) by inbox.dpdk.org (Postfix) with ESMTP id A19964617E for ; Mon, 3 Feb 2025 09:55:38 +0100 (CET) Received: from mails.dpdk.org (localhost [127.0.0.1]) by mails.dpdk.org (Postfix) with ESMTP id 9BA9340685; Mon, 3 Feb 2025 09:55:38 +0100 (CET) Received: from mail-ot1-f97.google.com (mail-ot1-f97.google.com [209.85.210.97]) by mails.dpdk.org (Postfix) with ESMTP id 96DA4406A2 for ; Mon, 3 Feb 2025 09:55:36 +0100 (CET) Received: by mail-ot1-f97.google.com with SMTP id 46e09a7af769-724d1724657so2600506a34.0 for ; Mon, 03 Feb 2025 00:55:36 -0800 (PST) DKIM-Signature: v=1; a=rsa-sha256; c=relaxed/relaxed; d=iol.unh.edu; s=unh-iol; t=1738572936; x=1739177736; darn=dpdk.org; h=cc:to:from:subject:message-id:date:from:to:cc:subject:date :message-id:reply-to; bh=tqPMJ42rKvmKxyiHmhirhcq3utBq4eW0YHOtvKRsw5Y=; b=NgOyr4Mu3zXRnSRQh6nOAooLkWa1RiJT2u+Z5Gmpe/e02tp0Iuj+fJ001Yq59dCUcZ WbxXhSaqJcK0Pg9Ib/uXbZl3hf+BeIetC7eomfLfXNYv5gssa+5j+BZ073gqYvc1C4Oc Bk0neARyTKTQ41yo9nciMKgBGw8J4mespL5nI= X-Google-DKIM-Signature: v=1; a=rsa-sha256; c=relaxed/relaxed; d=1e100.net; s=20230601; t=1738572936; x=1739177736; h=cc:to:from:subject:message-id:date:x-gm-message-state:from:to:cc :subject:date:message-id:reply-to; bh=tqPMJ42rKvmKxyiHmhirhcq3utBq4eW0YHOtvKRsw5Y=; b=H4/Ht/UjRL1LFwmcvkE6HjQf3kmjSvJChxEQwEPBIYJ0st7YBHTriAYGJs9O+/JHYD LdfcU8LrkChFar48iUbXSNG8kB87D3GAZq5TVFUPe2nk7eEaWNBN/h13Buoa/h81hAZO pNe25K5ZO2z7N+HQ56QJC+8MKJpC0q/UBhqRp/mQFYS1BdB5JGwchBEzqt084fKZWqOS LFPKx6eM9sac2lw5u7gDizl+MJQj0E0tBLW8RwJ5enKiwm313763G+Ne8+1VSozYKban 4r/hpUsfpeJKDnQa90Kf2z/kB6cPoSbNVqoA88peJVlMjm3I0qbMXdo/M2CZ+UJMzSsU qzBQ== X-Gm-Message-State: AOJu0YxoGOnmBoPZWc3/g7KB3n3HuH80JPL+PBYFGoeDTpo0ZwDJsk0U Cb9QoWeGx16rsVtAcDldxwHzB1l+t6j/4MrU79pQNVn8108syn83id65h7f8YXnEA/b8EDgLR8x BgjBKG+yMc3CH9owYm5p37F5aEC4bLD4QqDkq5PUqgWKoFwb2 X-Gm-Gg: ASbGnctNkH6IyYneassEENAVmmm8bCC3NMXlf4fLC63aAGS9T1n/CxrgFXqKVoXdUyA LFCkHq+Nbyosk+DnQLo0X0Yks+Bo9cS4FFX7+63FivOpFZJQxEofeCJzBgBOitLADA/VkBCctLm eXjTgQc4HJ2kQs7nJgMX7oNMWrzBF+BQVfJfi4u9k/HQarFI5zAtZW0nWSK1vT0uldRz+3TYyu0 e1w8Jcb3pcTlpwhPVwekP/tvvBrjCD6A+quwC71FTDyM4XTs7j8bsVQaJ16e+1cQgcnRxieMLaM FbAKRuGsSia6ON5xZHeDkV9TPWdu32vYPOse0HDbIQ== X-Google-Smtp-Source: AGHT+IE5Lxfr8ThDcx/D1pCayRNAwXdr7N5OLOAidI7nfmh1iM3d7nHN7YsPvv1KVX4Oh8QeSrVPDyxwEnrd X-Received: by 2002:a05:6871:7a03:b0:29f:c94b:3a06 with SMTP id 586e51a60fabf-2b371f188c6mr7967306fac.8.1738572935772; Mon, 03 Feb 2025 00:55:35 -0800 (PST) Received: from postal.iol.unh.edu (postal.iol.unh.edu. [2606:4100:3880:1234::84]) by smtp-relay.gmail.com with ESMTPS id 586e51a60fabf-2b356255588sm675930fac.20.2025.02.03.00.55.35 (version=TLS1_2 cipher=ECDHE-ECDSA-AES128-GCM-SHA256 bits=128/128); Mon, 03 Feb 2025 00:55:35 -0800 (PST) X-Relaying-Domain: iol.unh.edu Date: Mon, 03 Feb 2025 00:55:35 -0800 (PST) Message-ID: <67a08487.050a0220.2a862c.016cSMTPIN_ADDED_MISSING@mx.google.com> Received: from [172.21.0.5] (unknown [172.18.0.240]) by postal.iol.unh.edu (Postfix) with ESMTP id 433D46052471; Mon, 3 Feb 2025 03:55:35 -0500 (EST) Subject: |WARNING| [GIT MASTER] c66daa12e76d7b4912cfb7109a761856a7a873ab From: dpdklab@iol.unh.edu To: Test Report Cc: dpdk-test-reports@iol.unh.edu, Xueming Li , Christian Ehrhardt , Kevin Traynor , Luca Boccassi Content-Type: text/plain X-BeenThere: test-report@dpdk.org X-Mailman-Version: 2.1.29 Precedence: list List-Id: automatic DPDK test reports List-Unsubscribe: , List-Archive: List-Post: List-Help: List-Subscribe: , Errors-To: test-report-bounces@dpdk.org _Testing issues_ Branch: tags/v23.11 c66daa12e76d7b4912cfb7109a761856a7a873ab --> testing issues Upstream job id: Generic-DPDK-Compile-Meson#357254 Test environment and result as below: +---------------------+--------------------+------------------+-------------------+-------------------+ | Environment | dpdk_meson_compile | dpdk_compile_ovs | dpdk_compile_spdk | dpdk_msvc_compile | +=====================+====================+==================+===================+===================+ | CentOS Stream 9 | PASS | PASS | PASS | SKIPPED | +---------------------+--------------------+------------------+-------------------+-------------------+ | Debian Bullseye | PASS | PASS | PASS | SKIPPED | +---------------------+--------------------+------------------+-------------------+-------------------+ | Debian 12 | PASS | PASS | PASS | SKIPPED | +---------------------+--------------------+------------------+-------------------+-------------------+ | Fedora 40 (Clang) | PASS | PASS | PASS | SKIPPED | +---------------------+--------------------+------------------+-------------------+-------------------+ | Fedora 40 | PASS | PASS | PASS | SKIPPED | +---------------------+--------------------+------------------+-------------------+-------------------+ | Fedora 41 (Clang) | PASS | PASS | PASS | SKIPPED | +---------------------+--------------------+------------------+-------------------+-------------------+ | Fedora 41 | PASS | PASS | PASS | SKIPPED | +---------------------+--------------------+------------------+-------------------+-------------------+ | openSUSE Leap 15 | PASS | SKIPPED | SKIPPED | SKIPPED | +---------------------+--------------------+------------------+-------------------+-------------------+ | RHEL8 | PASS | PASS | SKIPPED | SKIPPED | +---------------------+--------------------+------------------+-------------------+-------------------+ | RHEL9 | PASS | PASS | SKIPPED | SKIPPED | +---------------------+--------------------+------------------+-------------------+-------------------+ | Ubuntu 20.04 | PASS | WARN | SKIPPED | SKIPPED | +---------------------+--------------------+------------------+-------------------+-------------------+ | Ubuntu 22.04 | PASS | PASS | PASS | SKIPPED | +---------------------+--------------------+------------------+-------------------+-------------------+ | Ubuntu 24.04 | PASS | PASS | PASS | SKIPPED | +---------------------+--------------------+------------------+-------------------+-------------------+ | Alpine | PASS | PASS | SKIPPED | SKIPPED | +---------------------+--------------------+------------------+-------------------+-------------------+ | FreeBSD 13.4 | PASS | SKIPPED | SKIPPED | SKIPPED | +---------------------+--------------------+------------------+-------------------+-------------------+ | FreeBSD 14.2 | PASS | SKIPPED | SKIPPED | SKIPPED | +---------------------+--------------------+------------------+-------------------+-------------------+ | Windows Server 2022 | SKIPPED | SKIPPED | SKIPPED | PASS | +---------------------+--------------------+------------------+-------------------+-------------------+ ==== 20 line log output for Ubuntu 20.04 (dpdk_compile_ovs): ==== --- Failed to get log output --- ==== End log output ==== CentOS Stream 9 Kernel: Depends on container host Compiler: gcc 11.5.0 20240719 (Red Hat 11.5.0-2) Debian Bullseye Kernel: Depends on container host Compiler: gcc (Debian 10.2.1-6) 10.2.1 20210110 Debian 12 Kernel: Depends on container host Compiler: gcc (Debian 12.2.0-14) 12.2.0 Fedora 40 (Clang) Kernel: Depends on container host Compiler: clang 18.1.8 (Fedora 18.1.8-1.fc40) Fedora 40 Kernel: Depends on container host Compiler: gcc 14.2.1 20240912 (Red Hat 14.2.1-3) Fedora 41 (Clang) Kernel: Depends on container host Compiler: clang 19.1.5 (Fedora 19.1.5-1.fc41) Fedora 41 Kernel: Depends on container host Compiler: gcc 14.2.1 20240912 (Red Hat 14.2.1-3) openSUSE Leap 15 Kernel: Depends on container host Compiler: gcc (SUSE Linux) 7.5.0 RHEL8 Kernel: Depends on container host Compiler: gcc 8.5.0 20210514 (Red Hat 8.5.0-22) RHEL9 Kernel: Depends on container host Compiler: gcc 11.5.0 20240719 (Red Hat 11.5.0-2) Ubuntu 20.04 Kernel: Depends on container host Compiler: gcc (Ubuntu 9.4.0-1ubuntu1~20.04.2) 9.4.0 Ubuntu 22.04 Kernel: Depends on container host Compiler: gcc (Ubuntu 11.4.0-1ubuntu1~22.04) 11.4.0 Ubuntu 24.04 Kernel: Depends on container host Compiler: gcc (Ubuntu 13.3.0-6ubuntu2~24.04) 13.3.0 Alpine Kernel: Depends on container host Compiler: gcc (Alpine 14.2.0) 14.2.0 FreeBSD 13.4 Kernel: 13.4-RELEASE-p1 Compiler: clang 18.1.6 FreeBSD 14.2 Kernel: 14.2-RELEASE Compiler: clang 18.1.6 Windows Server 2022 Kernel: 10.0.20348.2031 Compiler: clang 15.0.7, gcc 14.1.0 (MinGW), and MSVC VS 19.39.33521 To view detailed results, visit: https://lab.dpdk.org/results/dashboard/tarballs/32422/ UNH-IOL DPDK Community Lab To manage your email subscriptions, visit: https://lab.dpdk.org/results/dashboard/preferences/subscriptions/