From mboxrd@z Thu Jan 1 00:00:00 1970 Return-Path: Received: from mails.dpdk.org (mails.dpdk.org [217.70.189.124]) by inbox.dpdk.org (Postfix) with ESMTP id 04B7F4617E for ; Mon, 3 Feb 2025 09:58:09 +0100 (CET) Received: from mails.dpdk.org (localhost [127.0.0.1]) by mails.dpdk.org (Postfix) with ESMTP id EDACB40685; Mon, 3 Feb 2025 09:58:08 +0100 (CET) Received: from mail-pl1-f228.google.com (mail-pl1-f228.google.com [209.85.214.228]) by mails.dpdk.org (Postfix) with ESMTP id EE97640264 for ; Mon, 3 Feb 2025 09:58:07 +0100 (CET) Received: by mail-pl1-f228.google.com with SMTP id d9443c01a7336-2161eb94cceso47646115ad.2 for ; Mon, 03 Feb 2025 00:58:07 -0800 (PST) DKIM-Signature: v=1; a=rsa-sha256; c=relaxed/relaxed; d=iol.unh.edu; s=unh-iol; t=1738573087; x=1739177887; darn=dpdk.org; h=cc:to:from:subject:message-id:date:from:to:cc:subject:date :message-id:reply-to; bh=LYYllGU03Ud21K/fdd0jAhQWp7uRkHjriwDGcVdnKyk=; b=TCOz08VpgLKrJLiIx83EDARzU8FG3gSb7n2+PqBNXJenXwb8ViDSOmJnDQ/9IsQYQL t0jusj4JWbKXmDEZOYHHLSPPGiAR2TFajy6UYY+77ssbjljNd/IKOCimAkEsoghqxkDP ttCesg2hkkItfFKgAXDwKjktSumnCTdH9y0DY= X-Google-DKIM-Signature: v=1; a=rsa-sha256; c=relaxed/relaxed; d=1e100.net; s=20230601; t=1738573087; x=1739177887; h=cc:to:from:subject:message-id:date:x-gm-message-state:from:to:cc :subject:date:message-id:reply-to; bh=LYYllGU03Ud21K/fdd0jAhQWp7uRkHjriwDGcVdnKyk=; b=eZgEk3aCC1au/bGF9nDdT1aPWKtxsiFvSvR3mZo+e0ORfp7CSdemh7szdPOfzO1MDJ idohXHvhJtGXHqOEQ+KulknH67pekUnwcP49XP9M+GA7ash4eM0XPE8py2SUfPGufLCx LoJAfjBiHCrJNPgQNlONTP4UlCgl0PEUteE8KhyacvmyGPdw3eHfgKgJi/QSM2Sczi3z /1IsEbgRPPmdKsm8ifKN4aRZMXS4bUZH3rNOTCkPxv63aCpwXkqd/yqVZNf4At6FaMzD xB9XB+ACQKDeYrogJIdszgy/PALPGKr7ITWPh4YqbEsJ1iSh2FuAhMb1b1wgEV7hmGMa ZuZg== X-Gm-Message-State: AOJu0YzeJx6Ry046bcHldm/kHMg1Mfkk8aI0XVMdNsDS+zXT6+670Gor Wlxx5xPI4u/8CDoGiCIalMPEw52anebkxzAzbEObZ1itgVBcBuMpdUcxdGvo9/Tc4v4mizF32v8 FHL7HhqwoGvHZxmeLZf2oODP7pRm0z+yb X-Gm-Gg: ASbGncv+Nb6UWHpgu++mQSm6y9wHyJYcjmUwrkkYvjujMPLLB1dOht+m+wLQCOTjZGi dfsKLuz7n3BkeK4F1B0oMwrrpK1coEl3AIUnhiGjWZbWCjBlLw5pgnd2qpJWOqVRyahpzkTuUxb T1cPkWWK6MLia3e59QBHRLafIUMVtXr7d50KnemNouBnGl7On8GlRZFr5FSsy3mMalc2XDSagkG CKXc4xNgxGVf9WG8wm1ZkMcC+p4fSjKk3LasroDm8H/G5xcZ9MH+2RSe3w4fzyyVmxPuXD4vje5 3XWNrwSHyrvqr0A3zqDsQWn+Ybqimw== X-Google-Smtp-Source: AGHT+IEh/vg9OiIE3zojbJgy561OzfLcB/L74xZlSqr4SKn7mfzF3yqHCQ4pslc+9XG0lO87yYCxeUCObavc X-Received: by 2002:a17:902:ecc6:b0:216:31aa:12eb with SMTP id d9443c01a7336-21dd7d82ff8mr319563745ad.31.1738573087076; Mon, 03 Feb 2025 00:58:07 -0800 (PST) Received: from postal.iol.unh.edu (postal.iol.unh.edu. [132.177.123.84]) by smtp-relay.gmail.com with ESMTPS id d9443c01a7336-21de32494c3sm4176895ad.44.2025.02.03.00.58.06 (version=TLS1_2 cipher=ECDHE-ECDSA-AES128-GCM-SHA256 bits=128/128); Mon, 03 Feb 2025 00:58:07 -0800 (PST) X-Relaying-Domain: iol.unh.edu Date: Mon, 03 Feb 2025 00:58:07 -0800 (PST) Message-ID: <67a0851f.170a0220.1ad907.304eSMTPIN_ADDED_MISSING@mx.google.com> Received: from [172.21.0.5] (unknown [172.18.0.240]) by postal.iol.unh.edu (Postfix) with ESMTP id 300146052471; Mon, 3 Feb 2025 03:58:06 -0500 (EST) Subject: |WARNING| [GIT MASTER] c66daa12e76d7b4912cfb7109a761856a7a873ab From: dpdklab@iol.unh.edu To: Test Report Cc: dpdk-test-reports@iol.unh.edu, Xueming Li , Christian Ehrhardt , Kevin Traynor , Luca Boccassi Content-Type: text/plain X-BeenThere: test-report@dpdk.org X-Mailman-Version: 2.1.29 Precedence: list List-Id: automatic DPDK test reports List-Unsubscribe: , List-Archive: List-Post: List-Help: List-Subscribe: , Errors-To: test-report-bounces@dpdk.org _Testing issues_ Branch: tags/v23.11 c66daa12e76d7b4912cfb7109a761856a7a873ab --> testing issues Upstream job id: Generic-DPDK-Compile-Meson#357253 Test environment and result as below: +---------------------+--------------------+------------------+-------------------+-------------------+ | Environment | dpdk_meson_compile | dpdk_compile_ovs | dpdk_compile_spdk | dpdk_msvc_compile | +=====================+====================+==================+===================+===================+ | CentOS Stream 9 | PASS | PASS | PASS | SKIPPED | +---------------------+--------------------+------------------+-------------------+-------------------+ | Debian Bullseye | PASS | PASS | PASS | SKIPPED | +---------------------+--------------------+------------------+-------------------+-------------------+ | Debian 12 | PASS | PASS | PASS | SKIPPED | +---------------------+--------------------+------------------+-------------------+-------------------+ | Fedora 40 (Clang) | PASS | PASS | PASS | SKIPPED | +---------------------+--------------------+------------------+-------------------+-------------------+ | Fedora 40 | PASS | PASS | PASS | SKIPPED | +---------------------+--------------------+------------------+-------------------+-------------------+ | Fedora 41 (Clang) | PASS | PASS | PASS | SKIPPED | +---------------------+--------------------+------------------+-------------------+-------------------+ | Fedora 41 | PASS | PASS | PASS | SKIPPED | +---------------------+--------------------+------------------+-------------------+-------------------+ | openSUSE Leap 15 | PASS | SKIPPED | SKIPPED | SKIPPED | +---------------------+--------------------+------------------+-------------------+-------------------+ | RHEL8 | PASS | PASS | SKIPPED | SKIPPED | +---------------------+--------------------+------------------+-------------------+-------------------+ | RHEL9 | PASS | PASS | SKIPPED | SKIPPED | +---------------------+--------------------+------------------+-------------------+-------------------+ | Ubuntu 20.04 | PASS | WARN | SKIPPED | SKIPPED | +---------------------+--------------------+------------------+-------------------+-------------------+ | Ubuntu 22.04 | PASS | PASS | PASS | SKIPPED | +---------------------+--------------------+------------------+-------------------+-------------------+ | Ubuntu 24.04 | PASS | PASS | PASS | SKIPPED | +---------------------+--------------------+------------------+-------------------+-------------------+ | Alpine | PASS | PASS | SKIPPED | SKIPPED | +---------------------+--------------------+------------------+-------------------+-------------------+ | FreeBSD 13.4 | PASS | SKIPPED | SKIPPED | SKIPPED | +---------------------+--------------------+------------------+-------------------+-------------------+ | FreeBSD 14.2 | PASS | SKIPPED | SKIPPED | SKIPPED | +---------------------+--------------------+------------------+-------------------+-------------------+ | Windows Server 2022 | SKIPPED | SKIPPED | SKIPPED | PASS | +---------------------+--------------------+------------------+-------------------+-------------------+ ==== 20 line log output for Ubuntu 20.04 (dpdk_compile_ovs): ==== --- Failed to get log output --- ==== End log output ==== CentOS Stream 9 Kernel: Depends on container host Compiler: gcc 11.5.0 20240719 (Red Hat 11.5.0-2) Debian Bullseye Kernel: Depends on container host Compiler: gcc (Debian 10.2.1-6) 10.2.1 20210110 Debian 12 Kernel: Depends on container host Compiler: gcc (Debian 12.2.0-14) 12.2.0 Fedora 40 (Clang) Kernel: Depends on container host Compiler: clang 18.1.8 (Fedora 18.1.8-1.fc40) Fedora 40 Kernel: Depends on container host Compiler: gcc 14.2.1 20240912 (Red Hat 14.2.1-3) Fedora 41 (Clang) Kernel: Depends on container host Compiler: clang 19.1.5 (Fedora 19.1.5-1.fc41) Fedora 41 Kernel: Depends on container host Compiler: gcc 14.2.1 20240912 (Red Hat 14.2.1-3) openSUSE Leap 15 Kernel: Depends on container host Compiler: gcc (SUSE Linux) 7.5.0 RHEL8 Kernel: Depends on container host Compiler: gcc 8.5.0 20210514 (Red Hat 8.5.0-22) RHEL9 Kernel: Depends on container host Compiler: gcc 11.5.0 20240719 (Red Hat 11.5.0-2) Ubuntu 20.04 Kernel: Depends on container host Compiler: gcc (Ubuntu 9.4.0-1ubuntu1~20.04.2) 9.4.0 Ubuntu 22.04 Kernel: Depends on container host Compiler: gcc (Ubuntu 11.4.0-1ubuntu1~22.04) 11.4.0 Ubuntu 24.04 Kernel: Depends on container host Compiler: gcc (Ubuntu 13.3.0-6ubuntu2~24.04) 13.3.0 Alpine Kernel: Depends on container host Compiler: gcc (Alpine 14.2.0) 14.2.0 FreeBSD 13.4 Kernel: 13.4-RELEASE-p1 Compiler: clang 18.1.6 FreeBSD 14.2 Kernel: 14.2-RELEASE Compiler: clang 18.1.6 Windows Server 2022 Kernel: 10.0.20348.2031 Compiler: clang 15.0.7, gcc 14.1.0 (MinGW), and MSVC VS 19.39.33521 To view detailed results, visit: https://lab.dpdk.org/results/dashboard/tarballs/32422/ UNH-IOL DPDK Community Lab To manage your email subscriptions, visit: https://lab.dpdk.org/results/dashboard/preferences/subscriptions/